BEGIN:VCALENDAR
VERSION:2.0
PRODID:-//Glen Lake Chamber of Commerce - ECPv6.15.19//NONSGML v1.0//EN
CALSCALE:GREGORIAN
METHOD:PUBLISH
X-WR-CALNAME:Glen Lake Chamber of Commerce
X-ORIGINAL-URL:https://www.visitglenarbor.com
X-WR-CALDESC:Events for Glen Lake Chamber of Commerce
REFRESH-INTERVAL;VALUE=DURATION:PT1H
X-Robots-Tag:noindex
X-PUBLISHED-TTL:PT1H
BEGIN:VTIMEZONE
TZID:America/Detroit
BEGIN:DAYLIGHT
TZOFFSETFROM:-0500
TZOFFSETTO:-0400
TZNAME:EDT
DTSTART:20210314T070000
END:DAYLIGHT
BEGIN:STANDARD
TZOFFSETFROM:-0400
TZOFFSETTO:-0500
TZNAME:EST
DTSTART:20211107T060000
END:STANDARD
BEGIN:DAYLIGHT
TZOFFSETFROM:-0500
TZOFFSETTO:-0400
TZNAME:EDT
DTSTART:20220313T070000
END:DAYLIGHT
BEGIN:STANDARD
TZOFFSETFROM:-0400
TZOFFSETTO:-0500
TZNAME:EST
DTSTART:20221106T060000
END:STANDARD
BEGIN:DAYLIGHT
TZOFFSETFROM:-0500
TZOFFSETTO:-0400
TZNAME:EDT
DTSTART:20230312T070000
END:DAYLIGHT
BEGIN:STANDARD
TZOFFSETFROM:-0400
TZOFFSETTO:-0500
TZNAME:EST
DTSTART:20231105T060000
END:STANDARD
END:VTIMEZONE
BEGIN:VEVENT
DTSTART;TZID=America/Detroit:20220610T080000
DTEND;TZID=America/Detroit:20220610T170000
DTSTAMP:20260423T051649
CREATED:20220610T150745Z
LAST-MODIFIED:20220610T152019Z
UID:10004640-1654848000-1654880400@www.visitglenarbor.com
SUMMARY:Summer Reading Sign Up
DESCRIPTION:Glen Lake Library will begin its Summer Reading Program sign up starting Monday\, June 14th.  Kids of all ages are welcome to participate in the reading program and earn prizes.  The first Summer Reading Program will be Thursday\, June 23 @ 11:00 at the library.  Great lakes Surf and Rescue will be presenting a water safety program for kids and adults.  Check our website for further Summer Programs @ www.glenlakelibrary.net or call the library @ 231-326.5361.
URL:https://www.visitglenarbor.com/event/summer-reading-sign-up/
LOCATION:Glen Lake Community Library\, 10115 Front Street\, Empire\, MI\, 49630\, United States
CATEGORIES:Community Events,Kids + Family Friendly
END:VEVENT
END:VCALENDAR