BEGIN:VCALENDAR
VERSION:2.0
PRODID:-//Glen Lake Chamber of Commerce - ECPv6.15.19//NONSGML v1.0//EN
CALSCALE:GREGORIAN
METHOD:PUBLISH
X-WR-CALNAME:Glen Lake Chamber of Commerce
X-ORIGINAL-URL:https://www.visitglenarbor.com
X-WR-CALDESC:Events for Glen Lake Chamber of Commerce
REFRESH-INTERVAL;VALUE=DURATION:PT1H
X-Robots-Tag:noindex
X-PUBLISHED-TTL:PT1H
BEGIN:VTIMEZONE
TZID:America/Detroit
BEGIN:DAYLIGHT
TZOFFSETFROM:-0500
TZOFFSETTO:-0400
TZNAME:EDT
DTSTART:20240310T070000
END:DAYLIGHT
BEGIN:STANDARD
TZOFFSETFROM:-0400
TZOFFSETTO:-0500
TZNAME:EST
DTSTART:20241103T060000
END:STANDARD
BEGIN:DAYLIGHT
TZOFFSETFROM:-0500
TZOFFSETTO:-0400
TZNAME:EDT
DTSTART:20250309T070000
END:DAYLIGHT
BEGIN:STANDARD
TZOFFSETFROM:-0400
TZOFFSETTO:-0500
TZNAME:EST
DTSTART:20251102T060000
END:STANDARD
BEGIN:DAYLIGHT
TZOFFSETFROM:-0500
TZOFFSETTO:-0400
TZNAME:EDT
DTSTART:20260308T070000
END:DAYLIGHT
BEGIN:STANDARD
TZOFFSETFROM:-0400
TZOFFSETTO:-0500
TZNAME:EST
DTSTART:20261101T060000
END:STANDARD
END:VTIMEZONE
BEGIN:VEVENT
DTSTART;TZID=America/Detroit:20250815T090000
DTEND;TZID=America/Detroit:20251023T150000
DTSTAMP:20260422T175147
CREATED:20250731T174617Z
LAST-MODIFIED:20250731T174617Z
UID:10008236-1755248400-1761231600@www.visitglenarbor.com
SUMMARY:HIStory / HERstory: Whose Story?
DESCRIPTION:PRESS RELEASE\nContact:\nScott Bouma\nExecutive Director\nGlen Arbor Arts Center\n231 334 6112\ndirector@glenarborart.org \nHIStory / HERstory: Whose Story? [August 15 – October 23\, 2025] \nThe Glen Arbor Arts Center takes on the question of history and voice in its next exhibition. HIStory/HERstory: Whose Story? is an exhibition that explores the idea that the victors have written history. This version of history has often been told from one perspective — while other histories have been ignored\, deleted\, denied\, left out of the official record. The exhibition opens August 15\, 5 pm with a reception in the GAAC Main Gallery. \nWhether it’s visual art\, literature\, film\, sports\, science\, politics\, education\, animal\, mineral\, real or imagined history\, this exhibition asks:  \n•	Who’s telling what stories?\n•	Who’s included in the official record?\n•	Who’s excluded? Omitted? Erased? \nTwenty-four exhibitors take on these questions\, and answer them with work about what’s included in the art historical canon; a fractured telling of Native American history; the voices inside a mom’s head; and other topics. Read more about the exhibit\, and exhibition companion programs. View it online at GlenArborArt.org / EXHIBITS. HIStory / HERstory runs through October 23.
URL:https://www.visitglenarbor.com/event/history-herstory-whose-story/
LOCATION:Glen Arbor Arts Center\, 6031 S. Lake Street\, Glen Arbor\, MI\, 49636
CATEGORIES:Art/Gallery/Exhibit,Community Events,Kids + Family Friendly
ATTACH;FMTTYPE=image/jpeg:https://www.visitglenarbor.com/wp-content/uploads/2025/07/2018_Member-Exhibition_1.jpg
END:VEVENT
BEGIN:VEVENT
DTSTART;TZID=America/Detroit:20250901T120000
DTEND;TZID=America/Detroit:20250901T123000
DTSTAMP:20260422T175147
CREATED:20250830T121549Z
LAST-MODIFIED:20250830T121928Z
UID:10008313-1756728000-1756729800@www.visitglenarbor.com
SUMMARY:Labor Day Bridge Walk
DESCRIPTION:The Empire Area Community Center will help celebrate Labor Day with the 30th Annual Glen Lake Narrows Bridge Walk. \nIt will start at 12 p.m. on the Glen Arbor side of the Carl Olson Bridge. Meet at the north side of the Narrows bridge\, 8137 S. Glen Lake Road. \nParticipants will enjoy the 0.3 mile walk over the Narrows Bridge and will get certificates on the Empire side.
URL:https://www.visitglenarbor.com/event/2025-labor-day-bridge-walk/
LOCATION:MI
CATEGORIES:Kids + Family Friendly,Recreation
ATTACH;FMTTYPE=image/jpeg:https://www.visitglenarbor.com/wp-content/uploads/2025/08/glen-lake-narrows-labor-day-bridge-walk.jpeg
END:VEVENT
BEGIN:VEVENT
DTSTART;TZID=America/Detroit:20250902T100000
DTEND;TZID=America/Detroit:20250902T110000
DTSTAMP:20260422T175147
CREATED:20250724T171126Z
LAST-MODIFIED:20250724T171126Z
UID:10008220-1756807200-1756810800@www.visitglenarbor.com
SUMMARY:Port Oneida Horse and Wagon Tours
DESCRIPTION:Tuesdays\, 10:00 am and 11:15 am\n1.25 hour tour \nClip clop back in time to experience the Port Oneida Rural Historic District the way they did in the late 1800s – early 1900s! Learn about the life of the early pioneers\, and their landscape as we travel by horse and wagon through the fields and side roads of this significant agricultural community of over 100 years\, with beautiful vistas and farmsteads. \nMeet at Port Oneida Heritage Center/Olsen Farm. \nOur Horses:  The stars of the tours are our two Belgium horses. You will learn more about the horses on the tour! \nGroup Rental also available by appointment. Call 231-334-6103
URL:https://www.visitglenarbor.com/event/port-oneida-horse-and-wagon-tours/2025-09-02/
LOCATION:Port Oneida Heritage Center\, 3164 W. Harbor Hwy.\, Maple City\, Michigan\, 49630
CATEGORIES:Kids + Family Friendly,Recreation
ATTACH;FMTTYPE=image/jpeg:https://www.visitglenarbor.com/wp-content/uploads/2025/07/Crossing-to-dechow-cropped.jpg
END:VEVENT
BEGIN:VEVENT
DTSTART;TZID=America/Detroit:20250919T110000
DTEND;TZID=America/Detroit:20250919T120000
DTSTAMP:20260422T175147
CREATED:20251003T155604Z
LAST-MODIFIED:20251003T155604Z
UID:10008353-1758279600-1758283200@www.visitglenarbor.com
SUMMARY:Story Time with special guest Katie Bosch
DESCRIPTION:Join us for this special Stories & More story time gathering with author Katie Bosch.  She’ll share her brand new picture book\, inspired by the true story of the “Empire Sugar Bear”.  The book will be available for purchase courtesy of The Cottage Book Shop.
URL:https://www.visitglenarbor.com/event/story-time-with-special-guest-katie-bosch/
LOCATION:Glen Lake Community Library\, 10115 Front Street\, Empire\, MI\, 49630\, United States
CATEGORIES:Community Events,Kids + Family Friendly
ATTACH;FMTTYPE=image/jpeg:https://www.visitglenarbor.com/wp-content/uploads/2025/09/Mama-Sugar-Bear-e1757024489301.jpg
END:VEVENT
BEGIN:VEVENT
DTSTART;TZID=America/Detroit:20250920T130000
DTEND;TZID=America/Detroit:20250920T140000
DTSTAMP:20260422T175147
CREATED:20251003T155536Z
LAST-MODIFIED:20251003T155536Z
UID:10008354-1758373200-1758376800@www.visitglenarbor.com
SUMMARY:Author Julie Swanson
DESCRIPTION:Inspired by the author’s own experience growing up in Leelanau County\, the story follows fourth grader Jess Jezowski\, who’s always felt more like a boy than a girl. Though set in the 1970’s\, the thoughtful story explores issues of self-identity that will resonate today. Copies of the book will be available for purchase courtesy of the Cottage Book Shop.
URL:https://www.visitglenarbor.com/event/author-julie-swanson/
LOCATION:Glen Lake Community Library\, 10115 Front Street\, Empire\, MI\, 49630\, United States
CATEGORIES:Kids + Family Friendly
ATTACH;FMTTYPE=image/jpeg:https://www.visitglenarbor.com/wp-content/uploads/2025/09/north-of-tomboy.jpg
END:VEVENT
END:VCALENDAR