BEGIN:VCALENDAR
VERSION:2.0
PRODID:-//Glen Lake Chamber of Commerce - ECPv6.15.19//NONSGML v1.0//EN
CALSCALE:GREGORIAN
METHOD:PUBLISH
X-ORIGINAL-URL:https://www.visitglenarbor.com
X-WR-CALDESC:Events for Glen Lake Chamber of Commerce
REFRESH-INTERVAL;VALUE=DURATION:PT1H
X-Robots-Tag:noindex
X-PUBLISHED-TTL:PT1H
BEGIN:VTIMEZONE
TZID:America/Detroit
BEGIN:DAYLIGHT
TZOFFSETFROM:-0500
TZOFFSETTO:-0400
TZNAME:EDT
DTSTART:20240310T070000
END:DAYLIGHT
BEGIN:STANDARD
TZOFFSETFROM:-0400
TZOFFSETTO:-0500
TZNAME:EST
DTSTART:20241103T060000
END:STANDARD
BEGIN:DAYLIGHT
TZOFFSETFROM:-0500
TZOFFSETTO:-0400
TZNAME:EDT
DTSTART:20250309T070000
END:DAYLIGHT
BEGIN:STANDARD
TZOFFSETFROM:-0400
TZOFFSETTO:-0500
TZNAME:EST
DTSTART:20251102T060000
END:STANDARD
BEGIN:DAYLIGHT
TZOFFSETFROM:-0500
TZOFFSETTO:-0400
TZNAME:EDT
DTSTART:20260308T070000
END:DAYLIGHT
BEGIN:STANDARD
TZOFFSETFROM:-0400
TZOFFSETTO:-0500
TZNAME:EST
DTSTART:20261101T060000
END:STANDARD
END:VTIMEZONE
BEGIN:VEVENT
DTSTART;TZID=America/Detroit:20250802T160000
DTEND;TZID=America/Detroit:20250802T173000
DTSTAMP:20260422T202050
CREATED:20250409T184902Z
LAST-MODIFIED:20250409T184902Z
UID:10007746-1754150400-1754155800@www.visitglenarbor.com
SUMMARY:Traverse City Dance Project: Summer Performance Tour
DESCRIPTION:The Traverse City Dance Project’s 2025 summer season features a four-stop tour of FREE performances across Northern Michigan! The program boasts an impressive lineup of professional dancers from around the country and showcases new dance works by Resident Choreographer Jennifer McQuiston Lott and recent Juilliard graduate Julia Ciesielska\, in collaboration with live cellist Kyle Stachnik. The second half of the program will spotlight choreography by Artistic Director Brent Whitney\, set to the iconic music of Queen. Pre-show tunes by DJ Eric P! The summer season concludes with Gala in the Gardens\, a magical evening supporting the future growth of the Traverse City Dance Project.  \nNote: All of the shows\, except for Frankfort\, are outdoors. Bring your own chair/blanket for the Charlevoix and Traverse City performances\, as seating will not be provided. We strive to make these events as accessible as possible; please feel free to reach out if you have any specific needs.
URL:https://www.visitglenarbor.com/event/traverse-city-dance-project-summer-performance-tour/2025-08-02/
LOCATION:MI
CATEGORIES:Art/Gallery/Exhibit,Community Events,Kids + Family Friendly,Music
ATTACH;FMTTYPE=image/png:https://www.visitglenarbor.com/wp-content/uploads/2025/03/FB-posts-season-announcement-1.png
END:VEVENT
BEGIN:VEVENT
DTSTART;TZID=America/Detroit:20250803T193000
DTEND;TZID=America/Detroit:20250803T210000
DTSTAMP:20260422T202050
CREATED:20250409T184902Z
LAST-MODIFIED:20250409T184902Z
UID:10007747-1754249400-1754254800@www.visitglenarbor.com
SUMMARY:Traverse City Dance Project: Summer Performance Tour
DESCRIPTION:The Traverse City Dance Project’s 2025 summer season features a four-stop tour of FREE performances across Northern Michigan! The program boasts an impressive lineup of professional dancers from around the country and showcases new dance works by Resident Choreographer Jennifer McQuiston Lott and recent Juilliard graduate Julia Ciesielska\, in collaboration with live cellist Kyle Stachnik. The second half of the program will spotlight choreography by Artistic Director Brent Whitney\, set to the iconic music of Queen. Pre-show tunes by DJ Eric P! The summer season concludes with Gala in the Gardens\, a magical evening supporting the future growth of the Traverse City Dance Project.  \nNote: All of the shows\, except for Frankfort\, are outdoors. Bring your own chair/blanket for the Charlevoix and Traverse City performances\, as seating will not be provided. We strive to make these events as accessible as possible; please feel free to reach out if you have any specific needs.
URL:https://www.visitglenarbor.com/event/traverse-city-dance-project-summer-performance-tour/2025-08-03/
LOCATION:MI
CATEGORIES:Art/Gallery/Exhibit,Community Events,Kids + Family Friendly,Music
ATTACH;FMTTYPE=image/png:https://www.visitglenarbor.com/wp-content/uploads/2025/03/FB-posts-season-announcement-1.png
END:VEVENT
BEGIN:VEVENT
DTSTART;TZID=America/Detroit:20250805T100000
DTEND;TZID=America/Detroit:20250805T110000
DTSTAMP:20260422T202050
CREATED:20250724T171126Z
LAST-MODIFIED:20250724T171126Z
UID:10008216-1754388000-1754391600@www.visitglenarbor.com
SUMMARY:Port Oneida Horse and Wagon Tours
DESCRIPTION:Tuesdays\, 10:00 am and 11:15 am\n1.25 hour tour \nClip clop back in time to experience the Port Oneida Rural Historic District the way they did in the late 1800s – early 1900s! Learn about the life of the early pioneers\, and their landscape as we travel by horse and wagon through the fields and side roads of this significant agricultural community of over 100 years\, with beautiful vistas and farmsteads. \nMeet at Port Oneida Heritage Center/Olsen Farm. \nOur Horses:  The stars of the tours are our two Belgium horses. You will learn more about the horses on the tour! \nGroup Rental also available by appointment. Call 231-334-6103
URL:https://www.visitglenarbor.com/event/port-oneida-horse-and-wagon-tours/2025-08-05/
LOCATION:Port Oneida Heritage Center\, 3164 W. Harbor Hwy.\, Maple City\, Michigan\, 49630
CATEGORIES:Kids + Family Friendly,Recreation
ATTACH;FMTTYPE=image/jpeg:https://www.visitglenarbor.com/wp-content/uploads/2025/07/Crossing-to-dechow-cropped.jpg
END:VEVENT
BEGIN:VEVENT
DTSTART;TZID=America/Detroit:20250808T100000
DTEND;TZID=America/Detroit:20250809T160000
DTSTAMP:20260422T202050
CREATED:20250710T161758Z
LAST-MODIFIED:20250710T161758Z
UID:10008205-1754647200-1754755200@www.visitglenarbor.com
SUMMARY:Port Oneida Fair
DESCRIPTION:“Step back in time at the Port Oneida Fair and experience life as it was in the late 1800’s and early 1900’s. Imagine the life of the pioneers as you help bale hay or watch a broom-maker at work. Learn about spinning\, basket weaving\, soap making\, butter making\, candle dipping\, and fur trapping. Listen as park rangers and local history experts share the area’s history. Watch as teams of oxen and horses cut\, load\, and haul hay and artists and craftsmen demonstrate their skills. \nArrive anytime between the hours of 10 am and 4 pm. Most people spend 3-4 hours at the fair. \nAll programs are free with a valid park entrance pass. Passes may be purchased at the Phillip A. Hart Visitor Center in Empire\, Michigan\, and cost $25 (per vehicle) for seven days\, $45 for an annual Sleeping Bear Dunes pass\, or $80 (or less) for the America the Beautiful – National Parks and Federal Recreational Lands pass series.”
URL:https://www.visitglenarbor.com/event/port-oneida-fair-4/
LOCATION:Port Oneida Rural Historic District\, 3164 W Harbor Hwy\, Maple City\, MI\, 49664\, United States
CATEGORIES:Community Events,Education,Kids + Family Friendly
ATTACH;FMTTYPE=image/jpeg:https://www.visitglenarbor.com/wp-content/uploads/2025/07/PortOneidaFair-scaled.jpeg
ORGANIZER;CN="Sleeping Bear Dunes National Lakeshore":MAILTO:SLBE_programs@nps.gov
END:VEVENT
BEGIN:VEVENT
DTSTART;TZID=America/Detroit:20250812T100000
DTEND;TZID=America/Detroit:20250812T110000
DTSTAMP:20260422T202050
CREATED:20250724T171126Z
LAST-MODIFIED:20250724T171126Z
UID:10008217-1754992800-1754996400@www.visitglenarbor.com
SUMMARY:Port Oneida Horse and Wagon Tours
DESCRIPTION:Tuesdays\, 10:00 am and 11:15 am\n1.25 hour tour \nClip clop back in time to experience the Port Oneida Rural Historic District the way they did in the late 1800s – early 1900s! Learn about the life of the early pioneers\, and their landscape as we travel by horse and wagon through the fields and side roads of this significant agricultural community of over 100 years\, with beautiful vistas and farmsteads. \nMeet at Port Oneida Heritage Center/Olsen Farm. \nOur Horses:  The stars of the tours are our two Belgium horses. You will learn more about the horses on the tour! \nGroup Rental also available by appointment. Call 231-334-6103
URL:https://www.visitglenarbor.com/event/port-oneida-horse-and-wagon-tours/2025-08-12/
LOCATION:Port Oneida Heritage Center\, 3164 W. Harbor Hwy.\, Maple City\, Michigan\, 49630
CATEGORIES:Kids + Family Friendly,Recreation
ATTACH;FMTTYPE=image/jpeg:https://www.visitglenarbor.com/wp-content/uploads/2025/07/Crossing-to-dechow-cropped.jpg
END:VEVENT
BEGIN:VEVENT
DTSTART;TZID=America/Detroit:20250815T090000
DTEND;TZID=America/Detroit:20251023T150000
DTSTAMP:20260422T202050
CREATED:20250731T174617Z
LAST-MODIFIED:20250731T174617Z
UID:10008236-1755248400-1761231600@www.visitglenarbor.com
SUMMARY:HIStory / HERstory: Whose Story?
DESCRIPTION:PRESS RELEASE\nContact:\nScott Bouma\nExecutive Director\nGlen Arbor Arts Center\n231 334 6112\ndirector@glenarborart.org \nHIStory / HERstory: Whose Story? [August 15 – October 23\, 2025] \nThe Glen Arbor Arts Center takes on the question of history and voice in its next exhibition. HIStory/HERstory: Whose Story? is an exhibition that explores the idea that the victors have written history. This version of history has often been told from one perspective — while other histories have been ignored\, deleted\, denied\, left out of the official record. The exhibition opens August 15\, 5 pm with a reception in the GAAC Main Gallery. \nWhether it’s visual art\, literature\, film\, sports\, science\, politics\, education\, animal\, mineral\, real or imagined history\, this exhibition asks:  \n•	Who’s telling what stories?\n•	Who’s included in the official record?\n•	Who’s excluded? Omitted? Erased? \nTwenty-four exhibitors take on these questions\, and answer them with work about what’s included in the art historical canon; a fractured telling of Native American history; the voices inside a mom’s head; and other topics. Read more about the exhibit\, and exhibition companion programs. View it online at GlenArborArt.org / EXHIBITS. HIStory / HERstory runs through October 23.
URL:https://www.visitglenarbor.com/event/history-herstory-whose-story/
LOCATION:Glen Arbor Arts Center\, 6031 S. Lake Street\, Glen Arbor\, MI\, 49636
CATEGORIES:Art/Gallery/Exhibit,Community Events,Kids + Family Friendly
ATTACH;FMTTYPE=image/jpeg:https://www.visitglenarbor.com/wp-content/uploads/2025/07/2018_Member-Exhibition_1.jpg
END:VEVENT
BEGIN:VEVENT
DTSTART;TZID=America/Detroit:20250819T100000
DTEND;TZID=America/Detroit:20250819T110000
DTSTAMP:20260422T202050
CREATED:20250724T171126Z
LAST-MODIFIED:20250724T171126Z
UID:10008218-1755597600-1755601200@www.visitglenarbor.com
SUMMARY:Port Oneida Horse and Wagon Tours
DESCRIPTION:Tuesdays\, 10:00 am and 11:15 am\n1.25 hour tour \nClip clop back in time to experience the Port Oneida Rural Historic District the way they did in the late 1800s – early 1900s! Learn about the life of the early pioneers\, and their landscape as we travel by horse and wagon through the fields and side roads of this significant agricultural community of over 100 years\, with beautiful vistas and farmsteads. \nMeet at Port Oneida Heritage Center/Olsen Farm. \nOur Horses:  The stars of the tours are our two Belgium horses. You will learn more about the horses on the tour! \nGroup Rental also available by appointment. Call 231-334-6103
URL:https://www.visitglenarbor.com/event/port-oneida-horse-and-wagon-tours/2025-08-19/
LOCATION:Port Oneida Heritage Center\, 3164 W. Harbor Hwy.\, Maple City\, Michigan\, 49630
CATEGORIES:Kids + Family Friendly,Recreation
ATTACH;FMTTYPE=image/jpeg:https://www.visitglenarbor.com/wp-content/uploads/2025/07/Crossing-to-dechow-cropped.jpg
END:VEVENT
BEGIN:VEVENT
DTSTART;TZID=America/Detroit:20250826T100000
DTEND;TZID=America/Detroit:20250826T110000
DTSTAMP:20260422T202050
CREATED:20250724T171126Z
LAST-MODIFIED:20250724T171126Z
UID:10008219-1756202400-1756206000@www.visitglenarbor.com
SUMMARY:Port Oneida Horse and Wagon Tours
DESCRIPTION:Tuesdays\, 10:00 am and 11:15 am\n1.25 hour tour \nClip clop back in time to experience the Port Oneida Rural Historic District the way they did in the late 1800s – early 1900s! Learn about the life of the early pioneers\, and their landscape as we travel by horse and wagon through the fields and side roads of this significant agricultural community of over 100 years\, with beautiful vistas and farmsteads. \nMeet at Port Oneida Heritage Center/Olsen Farm. \nOur Horses:  The stars of the tours are our two Belgium horses. You will learn more about the horses on the tour! \nGroup Rental also available by appointment. Call 231-334-6103
URL:https://www.visitglenarbor.com/event/port-oneida-horse-and-wagon-tours/2025-08-26/
LOCATION:Port Oneida Heritage Center\, 3164 W. Harbor Hwy.\, Maple City\, Michigan\, 49630
CATEGORIES:Kids + Family Friendly,Recreation
ATTACH;FMTTYPE=image/jpeg:https://www.visitglenarbor.com/wp-content/uploads/2025/07/Crossing-to-dechow-cropped.jpg
END:VEVENT
END:VCALENDAR