BEGIN:VCALENDAR
VERSION:2.0
PRODID:-//Glen Lake Chamber of Commerce - ECPv6.15.19//NONSGML v1.0//EN
CALSCALE:GREGORIAN
METHOD:PUBLISH
X-ORIGINAL-URL:https://www.visitglenarbor.com
X-WR-CALDESC:Events for Glen Lake Chamber of Commerce
REFRESH-INTERVAL;VALUE=DURATION:PT1H
X-Robots-Tag:noindex
X-PUBLISHED-TTL:PT1H
BEGIN:VTIMEZONE
TZID:America/Detroit
BEGIN:DAYLIGHT
TZOFFSETFROM:-0500
TZOFFSETTO:-0400
TZNAME:EDT
DTSTART:20230312T070000
END:DAYLIGHT
BEGIN:STANDARD
TZOFFSETFROM:-0400
TZOFFSETTO:-0500
TZNAME:EST
DTSTART:20231105T060000
END:STANDARD
BEGIN:DAYLIGHT
TZOFFSETFROM:-0500
TZOFFSETTO:-0400
TZNAME:EDT
DTSTART:20240310T070000
END:DAYLIGHT
BEGIN:STANDARD
TZOFFSETFROM:-0400
TZOFFSETTO:-0500
TZNAME:EST
DTSTART:20241103T060000
END:STANDARD
BEGIN:DAYLIGHT
TZOFFSETFROM:-0500
TZOFFSETTO:-0400
TZNAME:EDT
DTSTART:20250309T070000
END:DAYLIGHT
BEGIN:STANDARD
TZOFFSETFROM:-0400
TZOFFSETTO:-0500
TZNAME:EST
DTSTART:20251102T060000
END:STANDARD
END:VTIMEZONE
BEGIN:VEVENT
DTSTART;TZID=America/Detroit:20240601T150000
DTEND;TZID=America/Detroit:20240601T170000
DTSTAMP:20260421T172528
CREATED:20240226T215227Z
LAST-MODIFIED:20240226T215227Z
UID:10005356-1717254000-1717261200@www.visitglenarbor.com
SUMMARY:Live Music at the M22 Wine Patio with André Villoch
DESCRIPTION:Join us for Live Music at the M22 Wine Patio with André Villoch on Saturday\, June 1st from 3-5pm.\nEnjoy a large pour or flight of our M22 Wines while listening to live music! With 15 wines\, hard cider\, and non-alcoholic options available\, there is something for everyone!\nAndré is a local singer-songwriter/comedian who has been playing in the area since 1998. A mix of original and cover songs conducive to sipping wine!\nHave a fun and relaxing evening with great music\, friends and family\, and wine with live music at the M22 Wine Patio with André Villoch
URL:https://www.visitglenarbor.com/event/live-music-at-the-m22-wine-patio-with-andre-villoch-11/
LOCATION:M22 Outdoor Wine Patio\, 6298 W. Western Ave\, Glen Arbor\, MI\, 49636\, United States
CATEGORIES:Community Events,Kids + Family Friendly,Music
ATTACH;FMTTYPE=image/jpeg:https://www.visitglenarbor.com/wp-content/uploads/2024/02/ANDRE-VILLOCH.jpeg
END:VEVENT
BEGIN:VEVENT
DTSTART;TZID=America/Detroit:20240604T090000
DTEND;TZID=America/Detroit:20240604T130000
DTSTAMP:20260421T172528
CREATED:20240604T020745Z
LAST-MODIFIED:20240604T020830Z
UID:10005443-1717491600-1717506000@www.visitglenarbor.com
SUMMARY:Glen Arbor Farmers Market
DESCRIPTION:The Glen Arbor Farmers Market is held every Tuesday morning from 9 AM – 1 PM\, June 4th – September 10th. The market location is behind the Glen Arbor Township Hall at 6394 W. Western Ave\, Glen Arbor\, Michigan 49636. Enjoy a wide varitey of quality vendors\, farmers and producers. 
URL:https://www.visitglenarbor.com/event/glen-arbor-farmers-market-2/2024-06-04/
LOCATION:MI
CATEGORIES:Art/Gallery/Exhibit,Food/Dining Event,Kids + Family Friendly,Local Business Event,Shopping
ATTACH;FMTTYPE=image/jpeg:https://www.visitglenarbor.com/wp-content/uploads/2020/03/Farmers-Market-in-Glen-Arbor-MI_Photo-by-Rockwell-Art-Design_IMG_2916-scaled-e1583900317868.jpg
ORGANIZER;CN="Leelanau Farmers Markets Association":MAILTO:leelanaufarmersmarkets@gmail.com
END:VEVENT
BEGIN:VEVENT
DTSTART;TZID=America/Detroit:20240605T173000
DTEND;TZID=America/Detroit:20240605T183000
DTSTAMP:20260421T172528
CREATED:20211004T141427Z
LAST-MODIFIED:20211004T141427Z
UID:10004520-1717608600-1717612200@www.visitglenarbor.com
SUMMARY:Yen Yoga at Nature
DESCRIPTION:Join us in an inspiring space for a community yoga class\, held weekly on Wednesday’s at 5:30 pm. Hosted at Nature in Maple City by Yen Yoga & Fitness. \nThis ia an all-level yoga flow class. Please bring your own yoga mat and practice social distancing. \nSign up to participate is required at yenyogafitness.com  You may sign up online up to 8 days in advance\, or feel free to call us at 231-421-5496
URL:https://www.visitglenarbor.com/event/yen-yoga-at-nature/2024-06-05/
LOCATION:Nature\, 2988 W Burdickville Rd\, Maple City\, MI\, 49664\, United States
CATEGORIES:Community Events,Kids + Family Friendly,Recreation
ATTACH;FMTTYPE=image/png:https://www.visitglenarbor.com/wp-content/uploads/2021/03/Green-Inspirational-Spring-Quote-Facebook-Post.png
ORGANIZER;CN="Nature - A Michigan Retreat":MAILTO:admin@naturemichigan.com
END:VEVENT
BEGIN:VEVENT
DTSTART;VALUE=DATE:20240607
DTEND;VALUE=DATE:20240809
DTSTAMP:20260421T172528
CREATED:20240514T181204Z
LAST-MODIFIED:20240514T181204Z
UID:10004234-1717718400-1723161599@www.visitglenarbor.com
SUMMARY:GAAC Members Create Returns
DESCRIPTION:An annual tradition returns to the Glen Arbor Arts Center. Members Create\, an exhibition showcasing GAAC members’ talent\, opens in the GAAC Main Gallery with a reception June 7\, 5- 8 pm. The exhibit features the work of 41 current members\, in an array of work: 2D + 3D media including: clay\, collage\, fiber\, mixed media\, painting\, printmaking\, photography\, sculpture\, and more.\nThe evening is rounded out with a performance by the Fivemind Reeds Quintet\, 7-8 pm on the GAAC Front Porch Stage. The Los Angeles-based reed quintet\, part of the Interlochen Center for the Arts’ Sound Garden project and the GAAC’s Mantiou Music series\, will perform a program of revitalized chamber music. Concertgoers are encouraged to bring their own seating\, and refreshments. In the event of inclement weather\, the concert will be cancelled.\n Members Create may also be viewed online. The virtual version may be found at: GlenArborArt.org/EXHIBITS. Members Create is on display through August 8. The GAAC is located at 6031 S. Lake St.\, Glen Arbor.
URL:https://www.visitglenarbor.com/event/gaac-members-create-returns/
LOCATION:Glen Arbor Arts Center\, 6031 S. Lake Street\, Glen Arbor\, MI\, 49636
CATEGORIES:Art/Gallery/Exhibit,Community Events,Kids + Family Friendly
ATTACH;FMTTYPE=image/jpeg:https://www.visitglenarbor.com/wp-content/uploads/2024/05/MembersCreateB2024_Webslide-002.jpg
ORGANIZER;CN="Glen Arbor Arts Center":MAILTO:director@glenarborart.org
END:VEVENT
BEGIN:VEVENT
DTSTART;TZID=America/Detroit:20240611T090000
DTEND;TZID=America/Detroit:20240611T130000
DTSTAMP:20260421T172528
CREATED:20240604T020745Z
LAST-MODIFIED:20240604T020830Z
UID:10005444-1718096400-1718110800@www.visitglenarbor.com
SUMMARY:Glen Arbor Farmers Market
DESCRIPTION:The Glen Arbor Farmers Market is held every Tuesday morning from 9 AM – 1 PM\, June 4th – September 10th. The market location is behind the Glen Arbor Township Hall at 6394 W. Western Ave\, Glen Arbor\, Michigan 49636. Enjoy a wide varitey of quality vendors\, farmers and producers. 
URL:https://www.visitglenarbor.com/event/glen-arbor-farmers-market-2/2024-06-11/
LOCATION:MI
CATEGORIES:Art/Gallery/Exhibit,Food/Dining Event,Kids + Family Friendly,Local Business Event,Shopping
ATTACH;FMTTYPE=image/jpeg:https://www.visitglenarbor.com/wp-content/uploads/2020/03/Farmers-Market-in-Glen-Arbor-MI_Photo-by-Rockwell-Art-Design_IMG_2916-scaled-e1583900317868.jpg
ORGANIZER;CN="Leelanau Farmers Markets Association":MAILTO:leelanaufarmersmarkets@gmail.com
END:VEVENT
BEGIN:VEVENT
DTSTART;TZID=America/Detroit:20240612T173000
DTEND;TZID=America/Detroit:20240612T183000
DTSTAMP:20260421T172528
CREATED:20211004T141427Z
LAST-MODIFIED:20211004T141427Z
UID:10004521-1718213400-1718217000@www.visitglenarbor.com
SUMMARY:Yen Yoga at Nature
DESCRIPTION:Join us in an inspiring space for a community yoga class\, held weekly on Wednesday’s at 5:30 pm. Hosted at Nature in Maple City by Yen Yoga & Fitness. \nThis ia an all-level yoga flow class. Please bring your own yoga mat and practice social distancing. \nSign up to participate is required at yenyogafitness.com  You may sign up online up to 8 days in advance\, or feel free to call us at 231-421-5496
URL:https://www.visitglenarbor.com/event/yen-yoga-at-nature/2024-06-12/
LOCATION:Nature\, 2988 W Burdickville Rd\, Maple City\, MI\, 49664\, United States
CATEGORIES:Community Events,Kids + Family Friendly,Recreation
ATTACH;FMTTYPE=image/png:https://www.visitglenarbor.com/wp-content/uploads/2021/03/Green-Inspirational-Spring-Quote-Facebook-Post.png
ORGANIZER;CN="Nature - A Michigan Retreat":MAILTO:admin@naturemichigan.com
END:VEVENT
BEGIN:VEVENT
DTSTART;TZID=America/Detroit:20240618T090000
DTEND;TZID=America/Detroit:20240618T130000
DTSTAMP:20260421T172528
CREATED:20240604T020745Z
LAST-MODIFIED:20240604T020830Z
UID:10005445-1718701200-1718715600@www.visitglenarbor.com
SUMMARY:Glen Arbor Farmers Market
DESCRIPTION:The Glen Arbor Farmers Market is held every Tuesday morning from 9 AM – 1 PM\, June 4th – September 10th. The market location is behind the Glen Arbor Township Hall at 6394 W. Western Ave\, Glen Arbor\, Michigan 49636. Enjoy a wide varitey of quality vendors\, farmers and producers. 
URL:https://www.visitglenarbor.com/event/glen-arbor-farmers-market-2/2024-06-18/
LOCATION:MI
CATEGORIES:Art/Gallery/Exhibit,Food/Dining Event,Kids + Family Friendly,Local Business Event,Shopping
ATTACH;FMTTYPE=image/jpeg:https://www.visitglenarbor.com/wp-content/uploads/2020/03/Farmers-Market-in-Glen-Arbor-MI_Photo-by-Rockwell-Art-Design_IMG_2916-scaled-e1583900317868.jpg
ORGANIZER;CN="Leelanau Farmers Markets Association":MAILTO:leelanaufarmersmarkets@gmail.com
END:VEVENT
BEGIN:VEVENT
DTSTART;TZID=America/Detroit:20240618T150000
DTEND;TZID=America/Detroit:20240618T170000
DTSTAMP:20260421T172528
CREATED:20240226T215222Z
LAST-MODIFIED:20240226T215222Z
UID:10005357-1718722800-1718730000@www.visitglenarbor.com
SUMMARY:Live Music at the M22 Wine Patio with André Villoch
DESCRIPTION:Join us for Live Music at the M22 Wine Patio with André Villoch on Tuesday\, June 18th from 3-5pm.\nEnjoy a large pour or flight of our M22 Wines while listening to live music! With 15 wines\, hard cider\, and non-alcoholic options available\, there is something for everyone!\nAndré is a local singer-songwriter/comedian who has been playing in the area since 1998. A mix of original and cover songs conducive to sipping wine!\nHave a fun and relaxing evening with great music\, friends and family\, and wine with live music at the M22 Wine Patio with André Villoch
URL:https://www.visitglenarbor.com/event/live-music-at-the-m22-wine-patio-with-andre-villoch-10/
LOCATION:M22 Outdoor Wine Patio\, 6298 W. Western Ave\, Glen Arbor\, MI\, 49636\, United States
CATEGORIES:Community Events,Kids + Family Friendly,Music
ATTACH;FMTTYPE=image/jpeg:https://www.visitglenarbor.com/wp-content/uploads/2024/02/ANDRE-VILLOCH-1.jpeg
END:VEVENT
BEGIN:VEVENT
DTSTART;TZID=America/Detroit:20240619T173000
DTEND;TZID=America/Detroit:20240619T183000
DTSTAMP:20260421T172528
CREATED:20211004T141427Z
LAST-MODIFIED:20211004T141427Z
UID:10004522-1718818200-1718821800@www.visitglenarbor.com
SUMMARY:Yen Yoga at Nature
DESCRIPTION:Join us in an inspiring space for a community yoga class\, held weekly on Wednesday’s at 5:30 pm. Hosted at Nature in Maple City by Yen Yoga & Fitness. \nThis ia an all-level yoga flow class. Please bring your own yoga mat and practice social distancing. \nSign up to participate is required at yenyogafitness.com  You may sign up online up to 8 days in advance\, or feel free to call us at 231-421-5496
URL:https://www.visitglenarbor.com/event/yen-yoga-at-nature/2024-06-19/
LOCATION:Nature\, 2988 W Burdickville Rd\, Maple City\, MI\, 49664\, United States
CATEGORIES:Community Events,Kids + Family Friendly,Recreation
ATTACH;FMTTYPE=image/png:https://www.visitglenarbor.com/wp-content/uploads/2021/03/Green-Inspirational-Spring-Quote-Facebook-Post.png
ORGANIZER;CN="Nature - A Michigan Retreat":MAILTO:admin@naturemichigan.com
END:VEVENT
BEGIN:VEVENT
DTSTART;TZID=America/Detroit:20240625T090000
DTEND;TZID=America/Detroit:20240625T130000
DTSTAMP:20260421T172528
CREATED:20240604T020745Z
LAST-MODIFIED:20240604T020830Z
UID:10005446-1719306000-1719320400@www.visitglenarbor.com
SUMMARY:Glen Arbor Farmers Market
DESCRIPTION:The Glen Arbor Farmers Market is held every Tuesday morning from 9 AM – 1 PM\, June 4th – September 10th. The market location is behind the Glen Arbor Township Hall at 6394 W. Western Ave\, Glen Arbor\, Michigan 49636. Enjoy a wide varitey of quality vendors\, farmers and producers. 
URL:https://www.visitglenarbor.com/event/glen-arbor-farmers-market-2/2024-06-25/
LOCATION:MI
CATEGORIES:Art/Gallery/Exhibit,Food/Dining Event,Kids + Family Friendly,Local Business Event,Shopping
ATTACH;FMTTYPE=image/jpeg:https://www.visitglenarbor.com/wp-content/uploads/2020/03/Farmers-Market-in-Glen-Arbor-MI_Photo-by-Rockwell-Art-Design_IMG_2916-scaled-e1583900317868.jpg
ORGANIZER;CN="Leelanau Farmers Markets Association":MAILTO:leelanaufarmersmarkets@gmail.com
END:VEVENT
BEGIN:VEVENT
DTSTART;TZID=America/Detroit:20240625T150000
DTEND;TZID=America/Detroit:20240625T170000
DTSTAMP:20260421T172528
CREATED:20240226T215217Z
LAST-MODIFIED:20240226T215217Z
UID:10005358-1719327600-1719334800@www.visitglenarbor.com
SUMMARY:Live Music at the M22 Wine Patio with André Villoch
DESCRIPTION:Join us for Live Music at the M22 Wine Patio with André Villoch on Tuesday\, June 25th from 3-5pm.\nEnjoy a large pour or flight of our M22 Wines while listening to live music! With 15 wines\, hard cider\, and non-alcoholic options available\, there is something for everyone!\nAndré is a local singer-songwriter/comedian who has been playing in the area since 1998. A mix of original and cover songs conducive to sipping wine!\nHave a fun and relaxing evening with great music\, friends and family\, and wine with live music at the M22 Wine Patio with André Villoch
URL:https://www.visitglenarbor.com/event/live-music-at-the-m22-wine-patio-with-andre-villoch-9/
LOCATION:M22 Outdoor Wine Patio\, 6298 W. Western Ave\, Glen Arbor\, MI\, 49636\, United States
CATEGORIES:Community Events,Kids + Family Friendly,Music
ATTACH;FMTTYPE=image/jpeg:https://www.visitglenarbor.com/wp-content/uploads/2024/02/ANDRE-VILLOCH-2.jpeg
END:VEVENT
BEGIN:VEVENT
DTSTART;TZID=America/Detroit:20240627T110000
DTEND;TZID=America/Detroit:20240627T120000
DTSTAMP:20260421T172528
CREATED:20240625T214603Z
LAST-MODIFIED:20240625T214603Z
UID:10005472-1719486000-1719489600@www.visitglenarbor.com
SUMMARY:Summer Reading Program: Meet Amazing Reptiles!
DESCRIPTION:Our Summer Reading Program continues with an exciting visit from the naturalists at Prehistoric World. They’ll be here with some amazing animals\, giving young nature lovers a chance to meet and learn about our reptile friends. Their presentation will take place at 11:00 am\, in our Program Room. Young learners are also invited to sign up for our Summer Reading Challenge\, earning awards by tracking their summer reading. Get your official Book Log at the library.
URL:https://www.visitglenarbor.com/event/summer-reading-program-meet-amazing-reptiles/
LOCATION:Glen Lake Community Library\, 10115 Front Street\, Empire\, MI\, 49630\, United States
CATEGORIES:Community Events,Kids + Family Friendly
ATTACH;FMTTYPE=image/jpeg:https://www.visitglenarbor.com/wp-content/uploads/2024/06/Safari-Seth.jpg
ORGANIZER;CN="Glen Lake Community Library":MAILTO:info@glenlakelibrary.net
END:VEVENT
BEGIN:VEVENT
DTSTART;TZID=America/Detroit:20240629T190000
DTEND;TZID=America/Detroit:20240629T210000
DTSTAMP:20260421T172528
CREATED:20240717T181412Z
LAST-MODIFIED:20240910T013948Z
UID:10005536-1719687600-1719694800@www.visitglenarbor.com
SUMMARY:River Club Glen Arbor
DESCRIPTION:Enjoy Live Music on the lawn at River Club in Glen Arbor\, every Thursday – Saturday in September. We invite you to check out our website for the performer’s schedule. \nhttps://www.rcglenarbor.com/live-music
URL:https://www.visitglenarbor.com/event/river-club-glen-arbor/2024-06-29/
LOCATION:River Club Glen Arbor\, 5963 S. Oak Street\, Glen Arbor\, 49636\, United States
CATEGORIES:Food/Dining Event,Kids + Family Friendly,Music
ATTACH;FMTTYPE=image/jpeg:https://www.visitglenarbor.com/wp-content/uploads/2024/07/river-club-summer-2024-IMG_8731.jpeg
END:VEVENT
BEGIN:VEVENT
DTSTART;TZID=America/Detroit:20240630T110000
DTEND;TZID=America/Detroit:20240630T160000
DTSTAMP:20260421T172528
CREATED:20240619T165038Z
LAST-MODIFIED:20240619T165038Z
UID:10005465-1719745200-1719763200@www.visitglenarbor.com
SUMMARY:LOG CABIN DAY
DESCRIPTION:Park Partner Preserve Historic Sleeping Bear celebrates the annual Michigan Log Cabin Day this year by  highlighting the Boekeloo Cabin\, one of six log cabins on the mainland in the Park. \nStuart Boekeloo is a descendant who will be on-site to share history and stories of his family’s time at the cabin. \nCheck out Preserve Historic Sleeping Bear’s preservation of the cabin\, having restored the windows\, door\, bridge and property fence\, and replaced and repaired logs. Location: The cabin is set at the end of a two mile two-track in the Platte River area of Sleeping Bear Dunes National Lakeshore. A peaceful location on a cranberry bog with a path from the cabin to Lake Michigan\, it’s a hidden favorite for many.
URL:https://www.visitglenarbor.com/event/log-cabin-day-2/
LOCATION:Sleeping Bear Dunes National Lakeshore\, 9922 Front Street\, Empire\, MI\, 49630\, United States
CATEGORIES:Community Events,Education,Kids + Family Friendly,Recreation
ATTACH;FMTTYPE=image/jpeg:https://www.visitglenarbor.com/wp-content/uploads/2024/06/Log-Cabin-Day-2024.jpg
END:VEVENT
END:VCALENDAR