BEGIN:VCALENDAR
VERSION:2.0
PRODID:-//Glen Lake Chamber of Commerce - ECPv6.15.19//NONSGML v1.0//EN
CALSCALE:GREGORIAN
METHOD:PUBLISH
X-WR-CALNAME:Glen Lake Chamber of Commerce
X-ORIGINAL-URL:https://www.visitglenarbor.com
X-WR-CALDESC:Events for Glen Lake Chamber of Commerce
REFRESH-INTERVAL;VALUE=DURATION:PT1H
X-Robots-Tag:noindex
X-PUBLISHED-TTL:PT1H
BEGIN:VTIMEZONE
TZID:America/Detroit
BEGIN:DAYLIGHT
TZOFFSETFROM:-0500
TZOFFSETTO:-0400
TZNAME:EDT
DTSTART:20150308T070000
END:DAYLIGHT
BEGIN:STANDARD
TZOFFSETFROM:-0400
TZOFFSETTO:-0500
TZNAME:EST
DTSTART:20151101T060000
END:STANDARD
BEGIN:DAYLIGHT
TZOFFSETFROM:-0500
TZOFFSETTO:-0400
TZNAME:EDT
DTSTART:20160313T070000
END:DAYLIGHT
BEGIN:STANDARD
TZOFFSETFROM:-0400
TZOFFSETTO:-0500
TZNAME:EST
DTSTART:20161106T060000
END:STANDARD
BEGIN:DAYLIGHT
TZOFFSETFROM:-0500
TZOFFSETTO:-0400
TZNAME:EDT
DTSTART:20170312T070000
END:DAYLIGHT
BEGIN:STANDARD
TZOFFSETFROM:-0400
TZOFFSETTO:-0500
TZNAME:EST
DTSTART:20171105T060000
END:STANDARD
BEGIN:DAYLIGHT
TZOFFSETFROM:-0500
TZOFFSETTO:-0400
TZNAME:EDT
DTSTART:20180311T070000
END:DAYLIGHT
BEGIN:STANDARD
TZOFFSETFROM:-0400
TZOFFSETTO:-0500
TZNAME:EST
DTSTART:20181104T060000
END:STANDARD
END:VTIMEZONE
BEGIN:VEVENT
DTSTART;TZID=America/Detroit:20170107T170000
DTEND;TZID=America/Detroit:20170107T210000
DTSTAMP:20260422T161551
CREATED:20161213T193834Z
LAST-MODIFIED:20161213T193834Z
UID:10002823-1483808400-1483822800@www.visitglenarbor.com
SUMMARY:Gonzo's Bigg Dogg Brew Master Dinner
DESCRIPTION:Nonna’s at The Homestead \nThe Homestead’s Chef\, John Piombo and Gonzo’s Bigg Dogg Brew Master\, Greg “Gonzo” Haner team up for an exclusive dinner that combines great beer with delicous food. Those of you who have experienced Nonna’s\, know that Chef John has a passion for food.  Like Chef\, Greg “Gonzo” has a unique talent and love…but his is for craft beer and brewing.  Gonzo’s BiggDogg Brewing in Kalamazoo was established in 2013 and has allowed him to share is passion with others. \nGuests will enjoy Gonzo’s beer throughout the entire weekend at Beppi’s.  But for an exclusive experience and an opportunity to meet Chef Piombo and Gonzo join us at Nonna’s on Saturday evening for a five course meal and beer pairings.  Cost is $65 per person.  Reservations are required.  Call 231.334.5222.
URL:https://www.visitglenarbor.com/event/gonzos-bigg-dogg-brew-master-dinner/
LOCATION:The Homestead\, 1 Wood Ridge Rd\, Glen Arbor\, MI\, 49636\, United States
CATEGORIES:Community Events,Food/Dining Event,Local Business Event,Wine/Beer or Tasting Event
ATTACH;FMTTYPE=:
ORGANIZER;CN="The Homestead":MAILTO:jamie@thehomesteadresort.com
END:VEVENT
BEGIN:VEVENT
DTSTART;TZID=America/Detroit:20161229T173000
DTEND;TZID=America/Detroit:20161229T203000
DTSTAMP:20260422T161551
CREATED:20161213T202922Z
LAST-MODIFIED:20161213T202922Z
UID:10002596-1483032600-1483043400@www.visitglenarbor.com
SUMMARY:Songs\, Stories & S'mores
DESCRIPTION:Mountain Flowers Lodge at The Homestead \nJoin in on some good ‘ole fashioned family fun.  Local folk musicians and story tellers host an evening of sing-a-long songs and story time at Mountain Flowers Lodge from 5:30pm to 8:30pm.  We’ll also have the outdoor fireplace roaring for marshmallow roasting and s’mores. \nAdults: $12; Children $9; Children under 5 years old are free.
URL:https://www.visitglenarbor.com/event/songs-stories-smores-2/
LOCATION:Mountain Flowers Lodge at The Homestead\, 1 Wood Ridge Road\, Glen Arbor\, MI\, 49636\, United States
CATEGORIES:Community Events,Food/Dining Event,Kids + Family Friendly,Local Business Event,Music
ATTACH;FMTTYPE=:
ORGANIZER;CN="The Homestead":MAILTO:jamie@thehomesteadresort.com
END:VEVENT
BEGIN:VEVENT
DTSTART;TZID=America/Detroit:20161227T173000
DTEND;TZID=America/Detroit:20161227T203000
DTSTAMP:20260422T161551
CREATED:20161213T202604Z
LAST-MODIFIED:20161213T202604Z
UID:10002594-1482859800-1482870600@www.visitglenarbor.com
SUMMARY:Songs\, Stories & S'mores
DESCRIPTION:Join in on some good ‘ole fashioned family fun.  Local folk musicians and story tellers host an evening of sing-a-long songs and story time at Mountain Flowers Lodge from 5:30pm to 8:30pm.  We’ll also have the outdoor fireplace roaring for marshmallow roasting and s’mores. \nAdults: $12; Children $9; Children under 5 years old are free.
URL:https://www.visitglenarbor.com/event/songs-stories-smores-3/
LOCATION:Mountain Flowers Lodge at The Homestead\, 1 Wood Ridge Road\, Glen Arbor\, MI\, 49636\, United States
CATEGORIES:Community Events,Food/Dining Event,Kids + Family Friendly,Music
ATTACH;FMTTYPE=:
ORGANIZER;CN="The Homestead":MAILTO:jamie@thehomesteadresort.com
END:VEVENT
BEGIN:VEVENT
DTSTART;TZID=America/Detroit:20161223T170000
DTEND;TZID=America/Detroit:20161223T210000
DTSTAMP:20260422T161551
CREATED:20161215T223625Z
LAST-MODIFIED:20200309T054759Z
UID:10002818-1482512400-1482526800@www.visitglenarbor.com
SUMMARY:Feast of Seven Fishes
DESCRIPTION:Nonna’s at The Homestead \nCelebrated around the world on Christmas Eve\, the Feast of Seven Fishes is known as La Vigilia\, Italian for “The Vigil” in wait of the midnight Christmas birth. A Southern Italian tradition\, the menu consists of fish and pasta with a fasting from meat for the Roman Catholic holiday. The numerology represents the seven sacraments and seven days of creation. Chef Piombo offers his interpretation of this celebrated meal albeit one week early\, putting history and tradition together on one table with his favorite seven fishes. \nAdvance reservations required.  Call 231.334.5222.
URL:https://www.visitglenarbor.com/event/feast-of-seven-fishes/
LOCATION:The Homestead\, 1 Wood Ridge Rd\, Glen Arbor\, MI\, 49636\, United States
CATEGORIES:Food/Dining Event
ATTACH;FMTTYPE=image/jpeg:https://www.visitglenarbor.com/wp-content/uploads/2020/03/nonna_s_chef_piombo.jpg
ORGANIZER;CN="The Homestead":MAILTO:jamie@thehomesteadresort.com
END:VEVENT
BEGIN:VEVENT
DTSTART;TZID=America/Detroit:20161125T050000
DTEND;TZID=America/Detroit:20161125T080000
DTSTAMP:20260422T161551
CREATED:20160914T191554Z
LAST-MODIFIED:20160914T191554Z
UID:10002795-1480050000-1480060800@www.visitglenarbor.com
SUMMARY:PJ Party Shopping Event | Glen Arbor
DESCRIPTION:Kick off the weekend Friday morning November 25th 2016 from 5 – 8am\, with Glen Arbor’s traditional Annual PJ Party: A wonderfully stylish version of Day-After-Thanksgiving shopping. Shops and Restaurants may each hold their own hours of participation. Check with individuals for opening times. \nWander boutique and specialty shops in your PJ’s for extra discounts on clothing\, gourmet foods\, household decor\, Michigan/USA Made products\, locally made gifts\, Art\, Jewelry\, Toys and More!  \nBring your family and friends\, grab coffee\, baked goods and breakfast or lunch while in Glen Arbor that morning\, too. \nFollowing\, Friday evening is the Tree Lighting and Holiday Market Preview party at the Town Hall. Then\, on Saturday #shopsmall in town and get local artisan made goods and gifts at both Empire and Glen Arbor’s Holiday Marketplaces! \nParticipating shops\, with special hours and deals will be open during this event: \nBecky Thatcher  |  5-7am \nNorthwoods Hardware  |  5 – 8am \nNorthwoods Home & Gift  | 5am  \nM22 & The Cyclery  |  5am \nPetoskey Petes  |  6 – 8am \nCottage Book Shop  |  6:30 – 8:30am \nArt’s Tavern & T-Shirt Shop  |  5am \nLeelanau Coffee Roasters  |  5am \nThe Yarn Shop \nCherry Republic \nRocky’s at The Homestead  |  8am – 2pm \nBay Wear | 5am \nView\, download and print PDF of Participating Merchants flyer & weekend festivities.
URL:https://www.visitglenarbor.com/event/pj-party-shopping-event-glen-arbor/
LOCATION:Downtown Glen Arbor\, Glen Arbor\, MI\, 49636\, United States
CATEGORIES:Community Events,Food/Dining Event
ATTACH;FMTTYPE=:
END:VEVENT
BEGIN:VEVENT
DTSTART;TZID=America/Detroit:20161112T110000
DTEND;TZID=America/Detroit:20161113T180000
DTSTAMP:20260422T161551
CREATED:20160913T205800Z
LAST-MODIFIED:20160913T205800Z
UID:10002794-1478948400-1479060000@www.visitglenarbor.com
SUMMARY:Toast the Season
DESCRIPTION:November 5-6 OR 12-13\, 2016\n11 to 5 pm Saturday\, 12 to 5 pm Sunday\n$50 per person\, $75 per couple\n\nCelebrate the upcoming holiday season enjoying local wine and delicious fare along the Leelanau Peninsula Wine Trail. Each year in November\, enjoy tasting and touring during one of two consecutive weekends – November 5 and 6 or November 12 and 13\, 2016. Tickets are $75 for couples or $50 for singles and include a featured wine and food pairing at 25 wineries\, a souvenir wine glass and the wildly popular holiday gift. Take a self-guided tour through the tasting rooms between the hours of 11:00 am to 5:00 pm on Saturday and noon to 5:00 pm on Sunday.
URL:https://www.visitglenarbor.com/event/toast-the-season-2/
CATEGORIES:Food/Dining Event,Wine/Beer or Tasting Event
ATTACH;FMTTYPE=:
ORGANIZER;CN="Leelanau Peninsula Wine Trail":MAILTO:info@lpwines.com
END:VEVENT
BEGIN:VEVENT
DTSTART;TZID=America/Detroit:20161105T110000
DTEND;TZID=America/Detroit:20161106T180000
DTSTAMP:20260422T161551
CREATED:20160913T205616Z
LAST-MODIFIED:20200309T054754Z
UID:10002793-1478343600-1478455200@www.visitglenarbor.com
SUMMARY:Toast the Season
DESCRIPTION:November 5-6 OR 12-13\, 2016\n11 to 5 pm Saturday\, 12 to 5 pm Sunday\n$50 per person\, $75 per couple\n\nCelebrate the upcoming holiday season enjoying local wine and delicious fare along the Leelanau Peninsula Wine Trail. Each year in November\, enjoy tasting and touring during one of two consecutive weekends – November 5 and 6 or November 12 and 13\, 2016. Tickets are $75 for couples or $50 for singles and include a featured wine and food pairing at 25 wineries\, a souvenir wine glass and the wildly popular holiday gift. Take a self-guided tour through the tasting rooms between the hours of 11:00 am to 5:00 pm on Saturday and noon to 5:00 pm on Sunday.
URL:https://www.visitglenarbor.com/event/toast-the-season/
CATEGORIES:Food/Dining Event,Wine/Beer or Tasting Event
ATTACH;FMTTYPE=image/jpeg:https://www.visitglenarbor.com/wp-content/uploads/2020/03/TTS-generic-banner-1.jpg
ORGANIZER;CN="Leelanau Peninsula Wine Trail":MAILTO:info@lpwines.com
END:VEVENT
BEGIN:VEVENT
DTSTART;TZID=America/Detroit:20161022T140000
DTEND;TZID=America/Detroit:20161022T170000
DTSTAMP:20260422T161551
CREATED:20160915T014617Z
LAST-MODIFIED:20160915T014617Z
UID:10002796-1477144800-1477155600@www.visitglenarbor.com
SUMMARY:Anderson's Market 2nd Annual Fall Harvest Fest
DESCRIPTION:Celebrate local tastes of fall at Anderson’s! Join us for our annual event featuring kid’s activities\, free homemade donuts & cider\, wine & beer samplings\, local apples\, cheese tastings and more. You can also order your Thanksgiving turkey from Duerksen’s farm and preview some new foods we will have in the market for the holidays. This annual event takes place on the next-to-last Saturday every October.  \nNeed an even better reason to be in Glen Arbor? The Glen Arbor Pumpkin Festival is the same afternoon! We look forward to seeing all of you in town for this family-friendly day of fun!
URL:https://www.visitglenarbor.com/event/andersons-market-2nd-annual-fall-harvest-fest/
LOCATION:Anderson’s Market
CATEGORIES:Food/Dining Event,Local Business Event
ATTACH;FMTTYPE=:
END:VEVENT
BEGIN:VEVENT
DTSTART;TZID=America/Detroit:20161022T010000
DTEND;TZID=America/Detroit:20161022T180000
DTSTAMP:20260422T161551
CREATED:20160912T013444Z
LAST-MODIFIED:20200309T054753Z
UID:10002791-1477098000-1477159200@www.visitglenarbor.com
SUMMARY:Pumpkin Fest 2016
DESCRIPTION:Join us for the Inaugural pet family friendly Pumpkin Fest on October 22nd from 1-6pm!\nThis celebration of fall will take place downtown Glen Arbor all afternoon\, giving participants time to carve their artistic creations\, enjoy family friendly activities and contests\, followed by a Pumpkin lighting at dusk and a community Dinner. \nFrom 1-6pm Pumpkins will be provided to carve your masterpieces ~ Free and Open to Children of all ages 🙂 Pumpkins will be placed along M22 and there will be a Grand Lighting at 6:30. \nThe fun begins with a Costume Parade for Kids and Pets at 1:30pm. From 2 to 5 There will be live music performed by Jack Pine. There will be lots of  fun\, family-friendly activities such as face painting by The Painted Lady from 2-4pm\, games & prizes at 2\, and again at 4\, with a pie eating contest at 3pm. The pumpkins will be lit just before sunset at 6:30pm for the event grand finale. Need refreshments?  There will be a  Beer Garden outside  Art’s Tavern. \nWhile you’re in town\, make sure to shop at our small businesses and eat at the local establishments. Also happening the same day at Anderson’s Market in Glen Arbor is their annual Harvest Fest\, right on site. With food and wine tastings\, face painting and a brat cookout\, there’s plenty of reasons to be in Glen Arbor October 22nd! \nPumpkin Carving is FREE to participate ~ Open to kids of all ages. Donations Accepted. The Community Dinner is $10 for Adults and $5 for Kids 12 and Under. \n> Join & Share the Event on Facebook\n> Follow @visitglenarbor on Instagram\n\n#fall #event #familyfriendly #pumpkinfest #glenarbor #pureleelanau #shopsmall #eatlocal #thingstodo #harvest #Oktoberfest #livemusic \nInterested in Volunteering or being a Sponsor?\nPlease email Linette right away lrouzer@thehomesteadresort.com \nEvent Sponsors\nGlen Lake Chamber of Commerce \nGlen Arbor B&B \nCottage Books  \nNorthwoods Hardware
URL:https://www.visitglenarbor.com/event/pumpkin-fest-2016/
LOCATION:Downtown Glen Arbor\, Glen Arbor\, MI\, 49636\, United States
CATEGORIES:Chamber Events,Food/Dining Event,Kids + Family Friendly,Recreation
ATTACH;FMTTYPE=image/png:https://www.visitglenarbor.com/wp-content/uploads/2020/03/Pumpkin-Fest-2016_Glen-Arbor_graphic-poster-by-Rockwell-Art-Design-01-2-e1475602606393.png
END:VEVENT
BEGIN:VEVENT
DTSTART;TZID=America/Detroit:20160726T150000
DTEND;TZID=America/Detroit:20160726T160000
DTSTAMP:20260422T161551
CREATED:20160624T202554Z
LAST-MODIFIED:20200309T054027Z
UID:10002512-1469545200-1469548800@www.visitglenarbor.com
SUMMARY:Tuesday Tea and Talk Series
DESCRIPTION:Explore the backgrounds of unique gemstones while enjoying tea in Becky’s garden. This weeks topic is Beryls\, with aquamarine\, morganite & emeralds.
URL:https://www.visitglenarbor.com/event/tuesday-tea-and-talk-series-3/
LOCATION:Becky Thatcher Designs\, 5795 Lake Street\, Glen Arbor\, MI\, 49636\, United States
CATEGORIES:Food/Dining Event,Local Business Event,Recreation
END:VEVENT
BEGIN:VEVENT
DTSTART;TZID=America/Detroit:20160719T150000
DTEND;TZID=America/Detroit:20160719T160000
DTSTAMP:20260422T161551
CREATED:20160624T202643Z
LAST-MODIFIED:20200309T054027Z
UID:10002508-1468940400-1468944000@www.visitglenarbor.com
SUMMARY:Tuesday Tea and Talk Series
DESCRIPTION:Explore the backgrounds of unique gemstones while enjoying tea and scones in Becky’s garden. This week we have a special guest speaker “The Gem Hunter”!
URL:https://www.visitglenarbor.com/event/tuesday-tea-and-talk-series-4/
LOCATION:Becky Thatcher Designs\, 5795 Lake Street\, Glen Arbor\, MI\, 49636\, United States
CATEGORIES:Food/Dining Event,Local Business Event,Recreation
END:VEVENT
BEGIN:VEVENT
DTSTART;TZID=America/Detroit:20160712T150000
DTEND;TZID=America/Detroit:20160712T160000
DTSTAMP:20260422T161551
CREATED:20160624T203316Z
LAST-MODIFIED:20200309T054027Z
UID:10002504-1468335600-1468339200@www.visitglenarbor.com
SUMMARY:Tuesday Tea and Talk Series
DESCRIPTION:Explore the backgrounds of unique gemstones while enjoying tea and scones in Becky’s garden. This weeks Tea Topic is Pearls- South Sea\, Tahitian\, & Freshwater.
URL:https://www.visitglenarbor.com/event/tuesday-tea-and-talk-series-5/
LOCATION:Becky Thatcher Designs\, 5795 Lake Street\, Glen Arbor\, MI\, 49636\, United States
CATEGORIES:Food/Dining Event,Local Business Event,Recreation
ATTACH;FMTTYPE=image/jpeg:https://www.visitglenarbor.com/wp-content/uploads/2020/03/tea-table.jpg
END:VEVENT
BEGIN:VEVENT
DTSTART;TZID=America/Detroit:20160702T170000
DTEND;TZID=America/Detroit:20160702T210000
DTSTAMP:20260422T161551
CREATED:20160624T212559Z
LAST-MODIFIED:20200309T054742Z
UID:10002533-1467478800-1467493200@www.visitglenarbor.com
SUMMARY:Synchronicity Art Gallery Opening
DESCRIPTION:Celebrating 20 years of business\, Synchronicity Gallery in Glen Arbor will be staying open late on selected nights throughout the summer and fall.  \nJoin us for this Gallery Opening with some featured Michigan artists plus enjoy wine & cheese. \n“For everyone from the casual art lover to the serious collector!”  \nVisit us on Facebook & Instagram
URL:https://www.visitglenarbor.com/event/synchronicity-art-gallery-opening/
LOCATION:Synchronicity Art Gallery\, 6671 Western Ave\, Glen Arbor\, MI\, United States
CATEGORIES:Art/Gallery/Exhibit,Food/Dining Event,Local Business Event,Recreation,Wine/Beer or Tasting Event
ATTACH;FMTTYPE=image/jpeg:https://www.visitglenarbor.com/wp-content/uploads/2020/03/Synchronicity-Gallery_Glen-Arbor_Michigan-Wine-Tours-Recaimed-Vintage-Bicycle-IMG_2474-e1468594619236.jpg
ORGANIZER;CN="Synchronicity Gallery":MAILTO:synchronicitygallery@gmail.com
END:VEVENT
BEGIN:VEVENT
DTSTART;TZID=America/Detroit:20160613T080000
DTEND;TZID=America/Detroit:20160613T170000
DTSTAMP:20260422T161551
CREATED:20160624T202527Z
LAST-MODIFIED:20200309T054028Z
UID:10002514-1465804800-1465837200@www.visitglenarbor.com
SUMMARY:Tuesday Tea and Talk Series
DESCRIPTION:Explore the backgrounds of unique gemstones while enjoying tea in Becky’s garden. This weeks topic is Quartz with agates and sunstones.
URL:https://www.visitglenarbor.com/event/tuesday-tea-and-talk-series-2/
LOCATION:Becky Thatcher Designs\, 5795 Lake Street\, Glen Arbor\, MI\, 49636\, United States
CATEGORIES:Food/Dining Event,Local Business Event,Recreation
END:VEVENT
BEGIN:VEVENT
DTSTART;TZID=America/Detroit:20160613T080000
DTEND;TZID=America/Detroit:20160613T170000
DTSTAMP:20260422T161551
CREATED:20160624T202502Z
LAST-MODIFIED:20200309T054736Z
UID:10002687-1465804800-1465837200@www.visitglenarbor.com
SUMMARY:Tuesday Tea and Talk Series
DESCRIPTION:Explore the backgrounds of unique gemstones while enjoying tea in Becky’s garden.\nThis weeks tea topic is Opals: Australian boulder opals\, Mexican fire opals & Ethiopian.
URL:https://www.visitglenarbor.com/event/tuesday-tea-and-talk-series/
LOCATION:Becky Thatcher Designs\, 5795 Lake Street\, Glen Arbor\, MI\, 49636\, United States
CATEGORIES:Food/Dining Event,Local Business Event,Recreation
END:VEVENT
END:VCALENDAR