BEGIN:VCALENDAR
VERSION:2.0
PRODID:-//Glen Lake Chamber of Commerce - ECPv6.15.19//NONSGML v1.0//EN
CALSCALE:GREGORIAN
METHOD:PUBLISH
X-ORIGINAL-URL:https://www.visitglenarbor.com
X-WR-CALDESC:Events for Glen Lake Chamber of Commerce
REFRESH-INTERVAL;VALUE=DURATION:PT1H
X-Robots-Tag:noindex
X-PUBLISHED-TTL:PT1H
BEGIN:VTIMEZONE
TZID:America/Detroit
BEGIN:DAYLIGHT
TZOFFSETFROM:-0500
TZOFFSETTO:-0400
TZNAME:EDT
DTSTART:20250309T070000
END:DAYLIGHT
BEGIN:STANDARD
TZOFFSETFROM:-0400
TZOFFSETTO:-0500
TZNAME:EST
DTSTART:20251102T060000
END:STANDARD
BEGIN:DAYLIGHT
TZOFFSETFROM:-0500
TZOFFSETTO:-0400
TZNAME:EDT
DTSTART:20260308T070000
END:DAYLIGHT
BEGIN:STANDARD
TZOFFSETFROM:-0400
TZOFFSETTO:-0500
TZNAME:EST
DTSTART:20261101T060000
END:STANDARD
BEGIN:DAYLIGHT
TZOFFSETFROM:-0500
TZOFFSETTO:-0400
TZNAME:EDT
DTSTART:20270314T070000
END:DAYLIGHT
BEGIN:STANDARD
TZOFFSETFROM:-0400
TZOFFSETTO:-0500
TZNAME:EST
DTSTART:20271107T060000
END:STANDARD
END:VTIMEZONE
BEGIN:VEVENT
DTSTART;VALUE=DATE:20260424
DTEND;VALUE=DATE:20260503
DTSTAMP:20260422T221454
CREATED:20260413T123721Z
LAST-MODIFIED:20260421T200407Z
UID:10009606-1776988800-1777766399@www.visitglenarbor.com
SUMMARY:Restaurant Week 2026
DESCRIPTION:April 24th – May 2nd\, 2026\nGet ready to indulge during the 12th annual Glen Lake Restaurant Week! From casual bites to gourmet dining\, participating businesses will feature specials or a prix-fixe menu that highlights the best of the local culinary scene. \nWhether you’re craving comfort food\, fresh local ingredients\, or an elevated dining experience\, there’s something for every palate. Some may also offer breakfast and lunch specials in addition to dinner. \n📅 Restaurant Week EVENT on Facebook \nThe Glen Lake Chamber of Commerce extends a special thank you to Gordon Food Service (GFS) for serving as a pillar event sponsor. \nMake your restaurant week plans now. View the menu’s and participating venues\, below. \nVisit these participants:\nLa Bécasse\nReservations recommended. \n> View the RW Menu \nBoonedocks\nOpen Tuesdays – Saturdays\, 11 am-8 pm. No reservations.\n\n> View the RW Menu\nBlu\nReservations Recommended. \n> View the RW Menu \nTrattoria Funistrada\nOpen Tuesday – Saturday 5pm – 9pm. Reservations recommended. \n> View the RW Menu  \nCherry Public House\n> View the RW Menu \nArt’s Tavern\nOpen for Breakfast\, Lunch and Dinner. Cash Only. No reservations. \n> View the RW Menu \nLeelanau Coffee Roasting Co.\nGood Harbor Grill\nOpening for the season\, GHG is pleased to offer a 3 course lunch menu for just $18 during Restaurant Week! \n\n> View the RW Menu \n\n\n 
URL:https://www.visitglenarbor.com/event/gl-restaurant-week-2026/
LOCATION:Glen Arbor\, MI\, Glen Arbor
CATEGORIES:Chamber Events,Food/Dining Event,Local Business Event
ATTACH;FMTTYPE=image/png:https://www.visitglenarbor.com/wp-content/uploads/2026/04/RW-logo-1-e1776083935570.png
END:VEVENT
BEGIN:VEVENT
DTSTART;TZID=America/Detroit:20260507T160000
DTEND;TZID=America/Detroit:20260507T190000
DTSTAMP:20260422T221454
CREATED:20260326T194724Z
LAST-MODIFIED:20260402T164943Z
UID:10009577-1778169600-1778180400@www.visitglenarbor.com
SUMMARY:Live Music at French Valley: Loose Change
DESCRIPTION:Come have fun with us at French Valley! Enjoy live music\, locally crafted drinks\, kid-friendly options\, and tasty snacks for the whole family.
URL:https://www.visitglenarbor.com/event/live-music-at-french-valley-loose-change-4/2026-05-07/
LOCATION:French Valley Vineyard\, 3655 South French Road\, cedar\, MI\, 49621\, United States
CATEGORIES:Community Events,Food/Dining Event,Kids + Family Friendly,Music,Wine/Beer or Tasting Event
ATTACH;FMTTYPE=image/png:https://www.visitglenarbor.com/wp-content/uploads/2026/03/FVV-LIVE-MUSIC.png
ORGANIZER;CN="French Valley Vineyard":MAILTO:info@fvvineyard.com
END:VEVENT
END:VCALENDAR