BEGIN:VCALENDAR
VERSION:2.0
PRODID:-//Glen Lake Chamber of Commerce - ECPv6.15.19//NONSGML v1.0//EN
CALSCALE:GREGORIAN
METHOD:PUBLISH
X-ORIGINAL-URL:https://www.visitglenarbor.com
X-WR-CALDESC:Events for Glen Lake Chamber of Commerce
REFRESH-INTERVAL;VALUE=DURATION:PT1H
X-Robots-Tag:noindex
X-PUBLISHED-TTL:PT1H
BEGIN:VTIMEZONE
TZID:America/Detroit
BEGIN:DAYLIGHT
TZOFFSETFROM:-0500
TZOFFSETTO:-0400
TZNAME:EDT
DTSTART:20250309T070000
END:DAYLIGHT
BEGIN:STANDARD
TZOFFSETFROM:-0400
TZOFFSETTO:-0500
TZNAME:EST
DTSTART:20251102T060000
END:STANDARD
BEGIN:DAYLIGHT
TZOFFSETFROM:-0500
TZOFFSETTO:-0400
TZNAME:EDT
DTSTART:20260308T070000
END:DAYLIGHT
BEGIN:STANDARD
TZOFFSETFROM:-0400
TZOFFSETTO:-0500
TZNAME:EST
DTSTART:20261101T060000
END:STANDARD
BEGIN:DAYLIGHT
TZOFFSETFROM:-0500
TZOFFSETTO:-0400
TZNAME:EDT
DTSTART:20270314T070000
END:DAYLIGHT
BEGIN:STANDARD
TZOFFSETFROM:-0400
TZOFFSETTO:-0500
TZNAME:EST
DTSTART:20271107T060000
END:STANDARD
END:VTIMEZONE
BEGIN:VEVENT
DTSTART;TZID=America/Detroit:20260301T170000
DTEND;TZID=America/Detroit:20260301T190000
DTSTAMP:20260421T222943
CREATED:20251014T151945Z
LAST-MODIFIED:20251014T151945Z
UID:10008450-1772384400-1772391600@www.visitglenarbor.com
SUMMARY:Trivia Night!
DESCRIPTION:Think you’ve got what it takes to be the trivia champ? Join us every Sunday evening at Cherry Public House for a brain-boosting good time with Trivia Night\, hosted by the legendary Quizmaster Whoot! 🍻 \n🧠 Test your knowledge across pop culture\, history\, music\, and more\n🍔 Enjoy delicious food and drink specials all evening\n🏆 Prizes for top teams – bring your A-game! \nGrab your smartest friends\, snag a table\, and settle in for two hours of laughs\, surprises\, and fierce-but-friendly competition. Walk-ins welcome — fun guaranteed!
URL:https://www.visitglenarbor.com/event/trivia-night-3/2026-03-01/
LOCATION:Cherry Public House\, 6026 South Lake Street\, Glen Arbor\, MI\, 49636
CATEGORIES:Community Events,Food/Dining Event,Kids + Family Friendly
ATTACH;FMTTYPE=image/jpeg:https://www.visitglenarbor.com/wp-content/uploads/2025/10/trivia_night_0.jpg
ORGANIZER;CN="Cherry Republic":MAILTO:experience@cherryrepublic.com
END:VEVENT
BEGIN:VEVENT
DTSTART;TZID=America/Detroit:20260308T170000
DTEND;TZID=America/Detroit:20260308T190000
DTSTAMP:20260421T222943
CREATED:20251014T151945Z
LAST-MODIFIED:20251014T151945Z
UID:10008451-1772989200-1772996400@www.visitglenarbor.com
SUMMARY:Trivia Night!
DESCRIPTION:Think you’ve got what it takes to be the trivia champ? Join us every Sunday evening at Cherry Public House for a brain-boosting good time with Trivia Night\, hosted by the legendary Quizmaster Whoot! 🍻 \n🧠 Test your knowledge across pop culture\, history\, music\, and more\n🍔 Enjoy delicious food and drink specials all evening\n🏆 Prizes for top teams – bring your A-game! \nGrab your smartest friends\, snag a table\, and settle in for two hours of laughs\, surprises\, and fierce-but-friendly competition. Walk-ins welcome — fun guaranteed!
URL:https://www.visitglenarbor.com/event/trivia-night-3/2026-03-08/
LOCATION:Cherry Public House\, 6026 South Lake Street\, Glen Arbor\, MI\, 49636
CATEGORIES:Community Events,Food/Dining Event,Kids + Family Friendly
ATTACH;FMTTYPE=image/jpeg:https://www.visitglenarbor.com/wp-content/uploads/2025/10/trivia_night_0.jpg
ORGANIZER;CN="Cherry Republic":MAILTO:experience@cherryrepublic.com
END:VEVENT
BEGIN:VEVENT
DTSTART;TZID=America/Detroit:20260314T130000
DTEND;TZID=America/Detroit:20260314T190000
DTSTAMP:20260421T222943
CREATED:20260211T162905Z
LAST-MODIFIED:20260211T162905Z
UID:10009211-1773493200-1773514800@www.visitglenarbor.com
SUMMARY:St. Patricks Day Pub Crawl
DESCRIPTION:Mark your calendars for Glen Arbor’s Annual St. Patrick’s Day Pub Crawl! \nTimeline to be determined shortly!
URL:https://www.visitglenarbor.com/event/st-patricks-day-pub-crawl/
CATEGORIES:Chamber Events,Food/Dining Event,Local Business Event
ATTACH;FMTTYPE=image/png:https://www.visitglenarbor.com/wp-content/uploads/2026/02/Screenshot-2026-02-02-at-12.12.10-PM.png
END:VEVENT
BEGIN:VEVENT
DTSTART;TZID=America/Detroit:20260315T170000
DTEND;TZID=America/Detroit:20260315T190000
DTSTAMP:20260421T222943
CREATED:20251014T151945Z
LAST-MODIFIED:20251014T151945Z
UID:10008452-1773594000-1773601200@www.visitglenarbor.com
SUMMARY:Trivia Night!
DESCRIPTION:Think you’ve got what it takes to be the trivia champ? Join us every Sunday evening at Cherry Public House for a brain-boosting good time with Trivia Night\, hosted by the legendary Quizmaster Whoot! 🍻 \n🧠 Test your knowledge across pop culture\, history\, music\, and more\n🍔 Enjoy delicious food and drink specials all evening\n🏆 Prizes for top teams – bring your A-game! \nGrab your smartest friends\, snag a table\, and settle in for two hours of laughs\, surprises\, and fierce-but-friendly competition. Walk-ins welcome — fun guaranteed!
URL:https://www.visitglenarbor.com/event/trivia-night-3/2026-03-15/
LOCATION:Cherry Public House\, 6026 South Lake Street\, Glen Arbor\, MI\, 49636
CATEGORIES:Community Events,Food/Dining Event,Kids + Family Friendly
ATTACH;FMTTYPE=image/jpeg:https://www.visitglenarbor.com/wp-content/uploads/2025/10/trivia_night_0.jpg
ORGANIZER;CN="Cherry Republic":MAILTO:experience@cherryrepublic.com
END:VEVENT
BEGIN:VEVENT
DTSTART;TZID=America/Detroit:20260322T170000
DTEND;TZID=America/Detroit:20260322T190000
DTSTAMP:20260421T222943
CREATED:20251014T151945Z
LAST-MODIFIED:20251014T151945Z
UID:10008453-1774198800-1774206000@www.visitglenarbor.com
SUMMARY:Trivia Night!
DESCRIPTION:Think you’ve got what it takes to be the trivia champ? Join us every Sunday evening at Cherry Public House for a brain-boosting good time with Trivia Night\, hosted by the legendary Quizmaster Whoot! 🍻 \n🧠 Test your knowledge across pop culture\, history\, music\, and more\n🍔 Enjoy delicious food and drink specials all evening\n🏆 Prizes for top teams – bring your A-game! \nGrab your smartest friends\, snag a table\, and settle in for two hours of laughs\, surprises\, and fierce-but-friendly competition. Walk-ins welcome — fun guaranteed!
URL:https://www.visitglenarbor.com/event/trivia-night-3/2026-03-22/
LOCATION:Cherry Public House\, 6026 South Lake Street\, Glen Arbor\, MI\, 49636
CATEGORIES:Community Events,Food/Dining Event,Kids + Family Friendly
ATTACH;FMTTYPE=image/jpeg:https://www.visitglenarbor.com/wp-content/uploads/2025/10/trivia_night_0.jpg
ORGANIZER;CN="Cherry Republic":MAILTO:experience@cherryrepublic.com
END:VEVENT
BEGIN:VEVENT
DTSTART;TZID=America/Detroit:20260329T170000
DTEND;TZID=America/Detroit:20260329T190000
DTSTAMP:20260421T222943
CREATED:20251014T151945Z
LAST-MODIFIED:20251014T151945Z
UID:10008454-1774803600-1774810800@www.visitglenarbor.com
SUMMARY:Trivia Night!
DESCRIPTION:Think you’ve got what it takes to be the trivia champ? Join us every Sunday evening at Cherry Public House for a brain-boosting good time with Trivia Night\, hosted by the legendary Quizmaster Whoot! 🍻 \n🧠 Test your knowledge across pop culture\, history\, music\, and more\n🍔 Enjoy delicious food and drink specials all evening\n🏆 Prizes for top teams – bring your A-game! \nGrab your smartest friends\, snag a table\, and settle in for two hours of laughs\, surprises\, and fierce-but-friendly competition. Walk-ins welcome — fun guaranteed!
URL:https://www.visitglenarbor.com/event/trivia-night-3/2026-03-29/
LOCATION:Cherry Public House\, 6026 South Lake Street\, Glen Arbor\, MI\, 49636
CATEGORIES:Community Events,Food/Dining Event,Kids + Family Friendly
ATTACH;FMTTYPE=image/jpeg:https://www.visitglenarbor.com/wp-content/uploads/2025/10/trivia_night_0.jpg
ORGANIZER;CN="Cherry Republic":MAILTO:experience@cherryrepublic.com
END:VEVENT
END:VCALENDAR