BEGIN:VCALENDAR
VERSION:2.0
PRODID:-//Glen Lake Chamber of Commerce - ECPv6.15.20//NONSGML v1.0//EN
CALSCALE:GREGORIAN
METHOD:PUBLISH
X-ORIGINAL-URL:https://www.visitglenarbor.com
X-WR-CALDESC:Events for Glen Lake Chamber of Commerce
REFRESH-INTERVAL;VALUE=DURATION:PT1H
X-Robots-Tag:noindex
X-PUBLISHED-TTL:PT1H
BEGIN:VTIMEZONE
TZID:America/Detroit
BEGIN:DAYLIGHT
TZOFFSETFROM:-0500
TZOFFSETTO:-0400
TZNAME:EDT
DTSTART:20220313T070000
END:DAYLIGHT
BEGIN:STANDARD
TZOFFSETFROM:-0400
TZOFFSETTO:-0500
TZNAME:EST
DTSTART:20221106T060000
END:STANDARD
BEGIN:DAYLIGHT
TZOFFSETFROM:-0500
TZOFFSETTO:-0400
TZNAME:EDT
DTSTART:20230312T070000
END:DAYLIGHT
BEGIN:STANDARD
TZOFFSETFROM:-0400
TZOFFSETTO:-0500
TZNAME:EST
DTSTART:20231105T060000
END:STANDARD
BEGIN:DAYLIGHT
TZOFFSETFROM:-0500
TZOFFSETTO:-0400
TZNAME:EDT
DTSTART:20240310T070000
END:DAYLIGHT
BEGIN:STANDARD
TZOFFSETFROM:-0400
TZOFFSETTO:-0500
TZNAME:EST
DTSTART:20241103T060000
END:STANDARD
BEGIN:DAYLIGHT
TZOFFSETFROM:-0500
TZOFFSETTO:-0400
TZNAME:EDT
DTSTART:20250309T070000
END:DAYLIGHT
BEGIN:STANDARD
TZOFFSETFROM:-0400
TZOFFSETTO:-0500
TZNAME:EST
DTSTART:20251102T060000
END:STANDARD
END:VTIMEZONE
BEGIN:VEVENT
DTSTART;TZID=America/Detroit:20231212T190000
DTEND;TZID=America/Detroit:20231226T200000
DTSTAMP:20260425T125259
CREATED:20231129T142842Z
LAST-MODIFIED:20231129T142842Z
UID:10005337-1702407600-1703620800@www.visitglenarbor.com
SUMMARY:Great Lakes Untamed:  A Documentary Film Series
DESCRIPTION:Experience the beauty\, power and wonder of our unique Great Lakes ecosystem in this stunning three-part film series. We’ll present one episode on each of the following dates: December 5\, 12 & 19\, 7:00 PM.
URL:https://www.visitglenarbor.com/event/great-lakes-untamed-a-documentary-film-series/2023-12-12/
LOCATION:Glen Lake Community Library\, 10115 Front Street\, Empire\, MI\, 49630\, United States
CATEGORIES:Community Events,Education,Kids + Family Friendly
ATTACH;FMTTYPE=image/jpeg:https://www.visitglenarbor.com/wp-content/uploads/2023/11/stormy-seas.jpg
ORGANIZER;CN="Glen Lake Community Library":MAILTO:info@glenlakelibrary.net
END:VEVENT
BEGIN:VEVENT
DTSTART;TZID=America/Detroit:20231219T190000
DTEND;TZID=America/Detroit:20240102T200000
DTSTAMP:20260425T125259
CREATED:20231129T142842Z
LAST-MODIFIED:20231129T142842Z
UID:10005338-1703012400-1704225600@www.visitglenarbor.com
SUMMARY:Great Lakes Untamed:  A Documentary Film Series
DESCRIPTION:Experience the beauty\, power and wonder of our unique Great Lakes ecosystem in this stunning three-part film series. We’ll present one episode on each of the following dates: December 5\, 12 & 19\, 7:00 PM.
URL:https://www.visitglenarbor.com/event/great-lakes-untamed-a-documentary-film-series/2023-12-19/
LOCATION:Glen Lake Community Library\, 10115 Front Street\, Empire\, MI\, 49630\, United States
CATEGORIES:Community Events,Education,Kids + Family Friendly
ATTACH;FMTTYPE=image/jpeg:https://www.visitglenarbor.com/wp-content/uploads/2023/11/stormy-seas.jpg
ORGANIZER;CN="Glen Lake Community Library":MAILTO:info@glenlakelibrary.net
END:VEVENT
END:VCALENDAR