BEGIN:VCALENDAR
VERSION:2.0
PRODID:-//Glen Lake Chamber of Commerce - ECPv6.15.19//NONSGML v1.0//EN
CALSCALE:GREGORIAN
METHOD:PUBLISH
X-WR-CALNAME:Glen Lake Chamber of Commerce
X-ORIGINAL-URL:https://www.visitglenarbor.com
X-WR-CALDESC:Events for Glen Lake Chamber of Commerce
REFRESH-INTERVAL;VALUE=DURATION:PT1H
X-Robots-Tag:noindex
X-PUBLISHED-TTL:PT1H
BEGIN:VTIMEZONE
TZID:America/Detroit
BEGIN:DAYLIGHT
TZOFFSETFROM:-0500
TZOFFSETTO:-0400
TZNAME:EDT
DTSTART:20190310T070000
END:DAYLIGHT
BEGIN:STANDARD
TZOFFSETFROM:-0400
TZOFFSETTO:-0500
TZNAME:EST
DTSTART:20191103T060000
END:STANDARD
BEGIN:DAYLIGHT
TZOFFSETFROM:-0500
TZOFFSETTO:-0400
TZNAME:EDT
DTSTART:20200308T070000
END:DAYLIGHT
BEGIN:STANDARD
TZOFFSETFROM:-0400
TZOFFSETTO:-0500
TZNAME:EST
DTSTART:20201101T060000
END:STANDARD
BEGIN:DAYLIGHT
TZOFFSETFROM:-0500
TZOFFSETTO:-0400
TZNAME:EDT
DTSTART:20210314T070000
END:DAYLIGHT
BEGIN:STANDARD
TZOFFSETFROM:-0400
TZOFFSETTO:-0500
TZNAME:EST
DTSTART:20211107T060000
END:STANDARD
END:VTIMEZONE
BEGIN:VEVENT
DTSTART;TZID=America/Detroit:20200119T140000
DTEND;TZID=America/Detroit:20200119T150000
DTSTAMP:20260422T055911
CREATED:20191218T210006Z
LAST-MODIFIED:20200309T055029Z
UID:10003046-1579442400-1579446000@www.visitglenarbor.com
SUMMARY:Color In The Garden: Native Plants conversation
DESCRIPTION:The Glen Arbor Arts Center welcomes Brian Zimmerman\, a third-generation landscaper from Traverse City\, to discuss ways to bring more color to home gardens with native plants and pollinator-friendly blooms. Color In The Garden takes place Sunday\, January 19\, 2 pm in the GAAC gallery.  \nNative plant are those that occur naturally in a region in which they evolved. They are central to the health and welfare of birds and pollinating insects as well as the human habitat. Brian Zimmerman has built his practice around a passion for plants native to Michigan. He is the owner of the native-plant focused Four Season Nursery in Traverse City. During this conversational presentation\, Brian will talk about how he uses native and pollinator-friendly plants in his designs\, and how home gardeners can begin to explore this rich source of native color. \nColor In The Garden is a free presentation offered in conjunction with the GAAC exhibition COLOR\, January 10 through March 26. The GAAC is located at 6031 S. Lake St.\, Glen Arbor. For more information go to GlenArborArt.org\, and click on EVENTS
URL:https://www.visitglenarbor.com/event/color-in-the-garden-native-plants-conversation/
CATEGORIES:Art/Gallery/Exhibit,Education
ATTACH;FMTTYPE=image/jpeg:https://www.visitglenarbor.com/wp-content/uploads/2020/03/2020_Color_Zimmerman_orange-flower.jpeg
END:VEVENT
END:VCALENDAR