BEGIN:VCALENDAR
VERSION:2.0
PRODID:-//Glen Lake Chamber of Commerce - ECPv6.15.20//NONSGML v1.0//EN
CALSCALE:GREGORIAN
METHOD:PUBLISH
X-ORIGINAL-URL:https://www.visitglenarbor.com
X-WR-CALDESC:Events for Glen Lake Chamber of Commerce
REFRESH-INTERVAL;VALUE=DURATION:PT1H
X-Robots-Tag:noindex
X-PUBLISHED-TTL:PT1H
BEGIN:VTIMEZONE
TZID:America/Detroit
BEGIN:DAYLIGHT
TZOFFSETFROM:-0500
TZOFFSETTO:-0400
TZNAME:EDT
DTSTART:20180311T070000
END:DAYLIGHT
BEGIN:STANDARD
TZOFFSETFROM:-0400
TZOFFSETTO:-0500
TZNAME:EST
DTSTART:20181104T060000
END:STANDARD
BEGIN:DAYLIGHT
TZOFFSETFROM:-0500
TZOFFSETTO:-0400
TZNAME:EDT
DTSTART:20190310T070000
END:DAYLIGHT
BEGIN:STANDARD
TZOFFSETFROM:-0400
TZOFFSETTO:-0500
TZNAME:EST
DTSTART:20191103T060000
END:STANDARD
BEGIN:DAYLIGHT
TZOFFSETFROM:-0500
TZOFFSETTO:-0400
TZNAME:EDT
DTSTART:20200308T070000
END:DAYLIGHT
BEGIN:STANDARD
TZOFFSETFROM:-0400
TZOFFSETTO:-0500
TZNAME:EST
DTSTART:20201101T060000
END:STANDARD
END:VTIMEZONE
BEGIN:VEVENT
DTSTART;TZID=America/Detroit:20190814T110000
DTEND;TZID=America/Detroit:20190814T114500
DTSTAMP:20260424T094832
CREATED:20190710T213646Z
LAST-MODIFIED:20200309T054959Z
UID:10004069-1565780400-1565783100@www.visitglenarbor.com
SUMMARY:Story Time: Dune Dragons
DESCRIPTION:Author Gretchen Rose will join us for Story Time at Cottage Book Shop in Glen Arbor on Wednesday\, Aug. 14th at 11am featuring her book “Dune Dragons.” \n \nIn search of a new land–some place where they may be free of man’s violence and wars–a colony of dragons sets out on a great journey across a vast ocean. The dragons settle in what is known today as Northern Michigan\, and they are delighted with their new home. Dune warrens provide the perfect shelter for their long winter naps\, and there are plenty of delicious fruits and nuts to eat. In the spring\, the frozen lake thaws\, and great sheets of ice pile up on shore\, creating iridescent towers for younglings Chryllis and Jilly to play upon. During the lazy days of summer\, the two best friends compete in games with the woodland animals or dune-slide into the turquoise lake\, while Dra teens soar overhead on upward drafts. In the fall\, when the trees are ablaze\, there are cherry-pit-spitting contests\, and popcorn popping with dragon breath. But when a ragtag band of humans comes ashore to establish a settlement\, the idyllic life of the Dune Dragons is threatened. (Ages 6 and up)\n \nDune Dragons\, By Gretchen Rose\, Indigo River Publishing $19.95
URL:https://www.visitglenarbor.com/event/story-time-dune-dragons/
LOCATION:Cottage Book Shop\, 5989 Lake St\, Glen Arbor\, MI\, 49636\, United States
CATEGORIES:Education,Kids + Family Friendly,Local Business Event
ATTACH;FMTTYPE=image/jpeg:https://www.visitglenarbor.com/wp-content/uploads/2020/03/Dune-Dragon_Gretchen-Rose_childres-book_story-time-glen-arbor-Cottage-Book-Shop.jpg
END:VEVENT
BEGIN:VEVENT
DTSTART;TZID=America/Detroit:20190814T190000
DTEND;TZID=America/Detroit:20190814T203000
DTSTAMP:20260424T094832
CREATED:20190724T070242Z
LAST-MODIFIED:20190724T070242Z
UID:10004120-1565809200-1565814600@www.visitglenarbor.com
SUMMARY:The Port Oneida Community Inside & Out   7 pm
DESCRIPTION:An evening tour when the sun is settling over this 19th century farm community and you’re looking for something different to end your day! \nLearn the history of this 1800s agricultural community by exploring 4-5 of the 18 farmsteads with our tour guide. Poke inside some of the houses\, barns\, granaries and smokehouse. Car caravan to each farm. Meet at Port Oneida Farms Heritage Center/ Olsen farm\, 3164 W. Harbor Hwy. (M-22) near Port Oneida Road\, 4 miles N. of Glen Arbor. 1.5 -2 hrs. Donations Appreciated. \n  July 10 – August 21
URL:https://www.visitglenarbor.com/event/the-port-oneida-community-inside-out-7-pm-4/
LOCATION:Port Oneida Heritage Center\, 3164 W. Harbor Hwy.\, Maple City\, Michigan\, 49630
CATEGORIES:Art/Gallery/Exhibit,Community Events,Education,Kids + Family Friendly
ATTACH;FMTTYPE=:
END:VEVENT
BEGIN:VEVENT
DTSTART;TZID=America/Detroit:20190814T220000
DTEND;TZID=America/Detroit:20190814T220000
DTSTAMP:20260424T094832
CREATED:20190521T212606Z
LAST-MODIFIED:20190521T212606Z
UID:10002870-1565820000-1565820000@www.visitglenarbor.com
SUMMARY:Stargazing and Constellation Lesson
DESCRIPTION:Stargazing and Constellation Lessons at the The Leelanau School Observatory in Glen Arbor. Open to the Public. \nTakes place Wednesday and Thursday nights\,  June 26 – Aug. 29 (Closed July 4)\, from 10:00 p.m. until midnight — if skies are clear. \nThe Leelanau School\, One Old Homestead Rd.\, Glen Arbor \n(231)334-5800 leelanau.org
URL:https://www.visitglenarbor.com/event/stargazing-and-constellation-lesson-13/
LOCATION:The Leelanau School\, 1 Old Homestead Road\, Glen Arbor\, Michigan\, 49636
CATEGORIES:Education
ATTACH;FMTTYPE=:
END:VEVENT
END:VCALENDAR