BEGIN:VCALENDAR
VERSION:2.0
PRODID:-//Glen Lake Chamber of Commerce - ECPv6.15.19//NONSGML v1.0//EN
CALSCALE:GREGORIAN
METHOD:PUBLISH
X-ORIGINAL-URL:https://www.visitglenarbor.com
X-WR-CALDESC:Events for Glen Lake Chamber of Commerce
REFRESH-INTERVAL;VALUE=DURATION:PT1H
X-Robots-Tag:noindex
X-PUBLISHED-TTL:PT1H
BEGIN:VTIMEZONE
TZID:America/Detroit
BEGIN:DAYLIGHT
TZOFFSETFROM:-0500
TZOFFSETTO:-0400
TZNAME:EDT
DTSTART:20230312T070000
END:DAYLIGHT
BEGIN:STANDARD
TZOFFSETFROM:-0400
TZOFFSETTO:-0500
TZNAME:EST
DTSTART:20231105T060000
END:STANDARD
BEGIN:DAYLIGHT
TZOFFSETFROM:-0500
TZOFFSETTO:-0400
TZNAME:EDT
DTSTART:20240310T070000
END:DAYLIGHT
BEGIN:STANDARD
TZOFFSETFROM:-0400
TZOFFSETTO:-0500
TZNAME:EST
DTSTART:20241103T060000
END:STANDARD
BEGIN:DAYLIGHT
TZOFFSETFROM:-0500
TZOFFSETTO:-0400
TZNAME:EDT
DTSTART:20250309T070000
END:DAYLIGHT
BEGIN:STANDARD
TZOFFSETFROM:-0400
TZOFFSETTO:-0500
TZNAME:EST
DTSTART:20251102T060000
END:STANDARD
END:VTIMEZONE
BEGIN:VEVENT
DTSTART;TZID=America/Detroit:20240404T130000
DTEND;TZID=America/Detroit:20240404T143000
DTSTAMP:20260422T102653
CREATED:20240409T205742Z
LAST-MODIFIED:20240409T205742Z
UID:10005400-1712235600-1712241000@www.visitglenarbor.com
SUMMARY:Digital Newspaper Archive: Workshop
DESCRIPTION:The Leelanau Historical Society will lead this interactive workshop\, exploring the wealth of resources available via the Digital Michigan Newspaper Portal. LHS staff will walk attendees through some sample searches\, demonstrating the various tools available\, then provide time for individual exploration and questions. Bring your own laptop or tablet\, or borrow one from the library. Space is limited\, so please register in advance with the LHS.
URL:https://www.visitglenarbor.com/event/digital-newspaper-archive-workshop/
LOCATION:Glen Lake Community Library\, 10115 Front Street\, Empire\, MI\, 49630\, United States
CATEGORIES:Community Events,Education
ATTACH;FMTTYPE=image/jpeg:https://www.visitglenarbor.com/wp-content/uploads/2024/03/LHS-4.jpg
ORGANIZER;CN="Glen Lake Community Library":MAILTO:info@glenlakelibrary.net
END:VEVENT
BEGIN:VEVENT
DTSTART;TZID=America/Detroit:20240412T190000
DTEND;TZID=America/Detroit:20240412T200000
DTSTAMP:20260422T102653
CREATED:20240409T205732Z
LAST-MODIFIED:20240409T205732Z
UID:10005401-1712948400-1712952000@www.visitglenarbor.com
SUMMARY:Chris Lamb: Landscape Astrophotography
DESCRIPTION:Christopher Lamb will share examples of his unique compositions\, combining the beauty of landscape photography with the wonderment of the night sky.  The result is a gallery of the night sky not visible with the naked eye\, with all of its colors\, detail and clarity.  Come join us for a discussion about the images of the night sky\, how they were made\, and the various methods through which cameras provide a look at something that is both mysterious and familiar all within one image.
URL:https://www.visitglenarbor.com/event/chris-lamb-landscape-astrophotography/
LOCATION:Glen Lake Community Library\, 10115 Front Street\, Empire\, MI\, 49630\, United States
CATEGORIES:Art/Gallery/Exhibit,Education
ATTACH;FMTTYPE=image/jpeg:https://www.visitglenarbor.com/wp-content/uploads/2024/03/C-Lamb-DHDay.jpg
ORGANIZER;CN="Glen Lake Community Library":MAILTO:info@glenlakelibrary.net
END:VEVENT
END:VCALENDAR