BEGIN:VCALENDAR
VERSION:2.0
PRODID:-//Glen Lake Chamber of Commerce - ECPv6.15.19//NONSGML v1.0//EN
CALSCALE:GREGORIAN
METHOD:PUBLISH
X-WR-CALNAME:Glen Lake Chamber of Commerce
X-ORIGINAL-URL:https://www.visitglenarbor.com
X-WR-CALDESC:Events for Glen Lake Chamber of Commerce
REFRESH-INTERVAL;VALUE=DURATION:PT1H
X-Robots-Tag:noindex
X-PUBLISHED-TTL:PT1H
BEGIN:VTIMEZONE
TZID:America/Detroit
BEGIN:DAYLIGHT
TZOFFSETFROM:-0500
TZOFFSETTO:-0400
TZNAME:EDT
DTSTART:20190310T070000
END:DAYLIGHT
BEGIN:STANDARD
TZOFFSETFROM:-0400
TZOFFSETTO:-0500
TZNAME:EST
DTSTART:20191103T060000
END:STANDARD
BEGIN:DAYLIGHT
TZOFFSETFROM:-0500
TZOFFSETTO:-0400
TZNAME:EDT
DTSTART:20200308T070000
END:DAYLIGHT
BEGIN:STANDARD
TZOFFSETFROM:-0400
TZOFFSETTO:-0500
TZNAME:EST
DTSTART:20201101T060000
END:STANDARD
BEGIN:DAYLIGHT
TZOFFSETFROM:-0500
TZOFFSETTO:-0400
TZNAME:EDT
DTSTART:20210314T070000
END:DAYLIGHT
BEGIN:STANDARD
TZOFFSETFROM:-0400
TZOFFSETTO:-0500
TZNAME:EST
DTSTART:20211107T060000
END:STANDARD
END:VTIMEZONE
BEGIN:VEVENT
DTSTART;TZID=America/Detroit:20200212T120000
DTEND;TZID=America/Detroit:20200212T130000
DTSTAMP:20260419T160402
CREATED:20191218T205618Z
LAST-MODIFIED:20200309T055027Z
UID:10003044-1581508800-1581512400@www.visitglenarbor.com
SUMMARY:BYO brown bag lecture: History of Color in Painting
DESCRIPTION:A Short History of Color in Painting\nWednesday\, February 12 | Noon\n \nArt educator Linda Young traces how artists have used color — from the luscious pigments used by 16th century Renaissance artists to the color-drenched canvasses of the 1960s Color Field painters – on Wednesday\, February 12 at the Glen Arbor Arts Center\, 6031 S. Lake St.\, Glen Arbor. “A Short History of Color in Painting” is a BYO brown bag lecture\, and begins at noon. Coffee and cookies will be provided.\n \nYoung’s talk takes a look at the use of light and color by the Impressionists and Post Impressionists\, the importance of black to the Realists\, radical use of color by the Fauves\, and the energy-charged canvasses of the Futurists and Abstract Expressionists. It is offered as part of the GAAC exhibition COLOR. Young\, a Leelanau County resident\, was the Director of Museum Education at the Kalamazoo Institute of Arts for 20 years.\n \nTickets for this event are $10 GAAC member\, $15 nonmembers. They may be reserved on-line at GlenArborArt.org/LECTURES; or call 231/334-6112. COLOR is on display January 10 – March 26.
URL:https://www.visitglenarbor.com/event/byo-brown-bag-lecture-history-of-color-in-painting/
LOCATION:Glen Arbor Arts Center\, 6031 S. Lake Street\, Glen Arbor\, MI\, 49636
CATEGORIES:Art/Gallery/Exhibit,Education
ATTACH;FMTTYPE=image/png:https://www.visitglenarbor.com/wp-content/uploads/2020/03/Charing-Cross-Bridge-London_Andre-Derain_-1906_oil_National-Gallery-of-Art_Washington_DC.png
ORGANIZER;CN="Glen Arbor Arts Center":MAILTO:director@glenarborart.org
END:VEVENT
BEGIN:VEVENT
DTSTART;TZID=America/Detroit:20200229T140000
DTEND;TZID=America/Detroit:20200229T150000
DTSTAMP:20260419T160402
CREATED:20200217T231028Z
LAST-MODIFIED:20200309T055038Z
UID:10004245-1582984800-1582988400@www.visitglenarbor.com
SUMMARY:GALLERY TALK: A ‘COLOR’ TOUR
DESCRIPTION:GALLERY TALK: A ‘COLOR’ TOUR\n \nArt educator Linda Young leads a conversational tour of COLOR\, an exhibition of 2D and 3D color art work on February 29\, 2 pm at the Glen Arbor Arts Center\, 6031 S. Lake St.\, Glen Arbor. There is no charge.\n \nUsing selected works from the COLOR exhibition as examples\, Young will talk about the many ways visual artists use color as a tool in their work. COLOR exhibitors demonstrate how color is used to express emotion\, tension\, energy and action; and how color can tell a story. Young\, a Leelanau County resident\, was the Director of Museum Education at the Kalamazoo Institute of Arts for 20 years.\n \nThe GAAC’s COLOR exhibition continues through March 26. For more information go to GlenArborArt.org
URL:https://www.visitglenarbor.com/event/gallery-talk-a-color-tour/
LOCATION:Glen Arbor Arts Center\, 6031 S. Lake Street\, Glen Arbor\, MI\, 49636
CATEGORIES:Art/Gallery/Exhibit,Education
END:VEVENT
END:VCALENDAR