BEGIN:VCALENDAR
VERSION:2.0
PRODID:-//Glen Lake Chamber of Commerce - ECPv6.15.19//NONSGML v1.0//EN
CALSCALE:GREGORIAN
METHOD:PUBLISH
X-ORIGINAL-URL:https://www.visitglenarbor.com
X-WR-CALDESC:Events for Glen Lake Chamber of Commerce
REFRESH-INTERVAL;VALUE=DURATION:PT1H
X-Robots-Tag:noindex
X-PUBLISHED-TTL:PT1H
BEGIN:VTIMEZONE
TZID:America/Detroit
BEGIN:DAYLIGHT
TZOFFSETFROM:-0500
TZOFFSETTO:-0400
TZNAME:EDT
DTSTART:20180311T070000
END:DAYLIGHT
BEGIN:STANDARD
TZOFFSETFROM:-0400
TZOFFSETTO:-0500
TZNAME:EST
DTSTART:20181104T060000
END:STANDARD
BEGIN:DAYLIGHT
TZOFFSETFROM:-0500
TZOFFSETTO:-0400
TZNAME:EDT
DTSTART:20190310T070000
END:DAYLIGHT
BEGIN:STANDARD
TZOFFSETFROM:-0400
TZOFFSETTO:-0500
TZNAME:EST
DTSTART:20191103T060000
END:STANDARD
BEGIN:DAYLIGHT
TZOFFSETFROM:-0500
TZOFFSETTO:-0400
TZNAME:EDT
DTSTART:20200308T070000
END:DAYLIGHT
BEGIN:STANDARD
TZOFFSETFROM:-0400
TZOFFSETTO:-0500
TZNAME:EST
DTSTART:20201101T060000
END:STANDARD
END:VTIMEZONE
BEGIN:VEVENT
DTSTART;TZID=America/Detroit:20191006T140000
DTEND;TZID=America/Detroit:20191006T140000
DTSTAMP:20260422T154606
CREATED:20190822T172036Z
LAST-MODIFIED:20200309T055009Z
UID:10004163-1570370400-1570370400@www.visitglenarbor.com
SUMMARY:Fiber: Visual Art Survey Program
DESCRIPTION:The Glen Arbor Arts Center takes a short look back\, and a long look forward\, at contemporary fiber and textile arts on Sunday\, October 6\, 2 pm. This visual survey is part of the GAAC’s exhibition Fiber Without Borders\, and is presented without charge. Sarah Bearup-Neal\, GAAC gallery manager and studio fiber artist\, will facilitate the program. \nIn the late 1960s the Museum of Modern Art broke new ground with Wall Hangings\, the first major museum exhibition focused on the work of 28 artist working in fiber and textile materials. In the subsequent decades\, the fiber arts have taken a great leap forward to become one of the most expressive\, versatile media in the contemporary art world. No longer viewed in purely functional and domestic terms\, the fiber arts have continued to push definitions\, materials and techniques in the last 60 years. \nThe medium easily crosses old boundaries – moving from the home front to comment and reflect on social changes\, politics\, feminist issues\, as well as the dividing line between art and craft. Fiber Without Borders continues through November 7. The GAAC is located at 6031 S. Lake St.\, Glen Arbor. For more information\, go to GlenArborArt.org
URL:https://www.visitglenarbor.com/event/fiber-visual-art-survey-program/
LOCATION:Glen Arbor Arts Center\, 6031 S. Lake Street\, Glen Arbor\, MI\, 49636
CATEGORIES:Art/Gallery/Exhibit,Education
ORGANIZER;CN="Glen Arbor Arts Center":MAILTO:director@glenarborart.org
END:VEVENT
END:VCALENDAR