BEGIN:VCALENDAR
VERSION:2.0
PRODID:-//Glen Lake Chamber of Commerce - ECPv6.15.19//NONSGML v1.0//EN
CALSCALE:GREGORIAN
METHOD:PUBLISH
X-WR-CALNAME:Glen Lake Chamber of Commerce
X-ORIGINAL-URL:https://www.visitglenarbor.com
X-WR-CALDESC:Events for Glen Lake Chamber of Commerce
REFRESH-INTERVAL;VALUE=DURATION:PT1H
X-Robots-Tag:noindex
X-PUBLISHED-TTL:PT1H
BEGIN:VTIMEZONE
TZID:America/Detroit
BEGIN:DAYLIGHT
TZOFFSETFROM:-0500
TZOFFSETTO:-0400
TZNAME:EDT
DTSTART:20180311T070000
END:DAYLIGHT
BEGIN:STANDARD
TZOFFSETFROM:-0400
TZOFFSETTO:-0500
TZNAME:EST
DTSTART:20181104T060000
END:STANDARD
BEGIN:DAYLIGHT
TZOFFSETFROM:-0500
TZOFFSETTO:-0400
TZNAME:EDT
DTSTART:20190310T070000
END:DAYLIGHT
BEGIN:STANDARD
TZOFFSETFROM:-0400
TZOFFSETTO:-0500
TZNAME:EST
DTSTART:20191103T060000
END:STANDARD
BEGIN:DAYLIGHT
TZOFFSETFROM:-0500
TZOFFSETTO:-0400
TZNAME:EDT
DTSTART:20200308T070000
END:DAYLIGHT
BEGIN:STANDARD
TZOFFSETFROM:-0400
TZOFFSETTO:-0500
TZNAME:EST
DTSTART:20201101T060000
END:STANDARD
END:VTIMEZONE
BEGIN:VEVENT
DTSTART;TZID=America/Detroit:20190703T220000
DTEND;TZID=America/Detroit:20190703T220000
DTSTAMP:20260424T045418
CREATED:20190521T210822Z
LAST-MODIFIED:20190521T210822Z
UID:10003258-1562191200-1562191200@www.visitglenarbor.com
SUMMARY:Stargazing and Constellation Lesson
DESCRIPTION:Stargazing and Constellation Lessons at the The Leelanau School Observatory in Glen Arbor. Open to the Public. \nTakes place Wednesday and Thursday nights\,  June 26 – Aug. 29 (Closed July 4)\, from 10:00 p.m. until midnight — if skies are clear. \nThe Leelanau School\, One Old Homestead Rd.\, Glen Arbor \n(231)334-5800 leelanau.org
URL:https://www.visitglenarbor.com/event/stargazing-and-constellation-lesson-2/
LOCATION:The Leelanau School\, 1 Old Homestead Road\, Glen Arbor\, Michigan\, 49636
CATEGORIES:Education
ATTACH;FMTTYPE=:
END:VEVENT
BEGIN:VEVENT
DTSTART;TZID=America/Detroit:20190710T220000
DTEND;TZID=America/Detroit:20190710T220000
DTSTAMP:20260424T045418
CREATED:20190521T210916Z
LAST-MODIFIED:20190521T210916Z
UID:10003260-1562796000-1562796000@www.visitglenarbor.com
SUMMARY:Stargazing and Constellation Lesson
DESCRIPTION:Stargazing and Constellation Lessons at the The Leelanau School Observatory in Glen Arbor. Open to the Public. \nTakes place Wednesday and Thursday nights\,  June 26 – Aug. 29 (Closed July 4)\, from 10:00 p.m. until midnight — if skies are clear. \nThe Leelanau School\, One Old Homestead Rd.\, Glen Arbor \n(231)334-5800 leelanau.org
URL:https://www.visitglenarbor.com/event/stargazing-and-constellation-lesson-3/
LOCATION:The Leelanau School\, 1 Old Homestead Road\, Glen Arbor\, Michigan\, 49636
CATEGORIES:Education
ATTACH;FMTTYPE=:
END:VEVENT
BEGIN:VEVENT
DTSTART;TZID=America/Detroit:20190711T220000
DTEND;TZID=America/Detroit:20190711T220000
DTSTAMP:20260424T045418
CREATED:20190521T211008Z
LAST-MODIFIED:20190521T211008Z
UID:10003262-1562882400-1562882400@www.visitglenarbor.com
SUMMARY:Stargazing and Constellation Lesson
DESCRIPTION:Stargazing and Constellation Lessons at the The Leelanau School Observatory in Glen Arbor. Open to the Public. \nTakes place Wednesday and Thursday nights\,  June 26 – Aug. 29 (Closed July 4)\, from 10:00 p.m. until midnight — if skies are clear. \nThe Leelanau School\, One Old Homestead Rd.\, Glen Arbor \n(231)334-5800 leelanau.org
URL:https://www.visitglenarbor.com/event/stargazing-and-constellation-lesson-4/
LOCATION:The Leelanau School\, 1 Old Homestead Road\, Glen Arbor\, Michigan\, 49636
CATEGORIES:Education
ATTACH;FMTTYPE=:
END:VEVENT
BEGIN:VEVENT
DTSTART;TZID=America/Detroit:20190712T193000
DTEND;TZID=America/Detroit:20190712T203000
DTSTAMP:20260424T045418
CREATED:20190710T215717Z
LAST-MODIFIED:20200309T054954Z
UID:10004045-1562959800-1562963400@www.visitglenarbor.com
SUMMARY:Historic Leelanau
DESCRIPTION:Husband and wife authors M. Christine Byron and Thomas Wilson will present their newest collaboration\, Historic Leelanau: Recognized Sites and Places of Historical Significance. Their book documents 42 sites and places formally recognized in the Michigan Register of Historic Sites and/or in the Federal Register of Historic Places.
URL:https://www.visitglenarbor.com/event/historic-leelanau/
LOCATION:Empire Township Hall\, 10088 W. Front Street\, Empire\, MI \, Empire\, MI\, 49630\, United States
CATEGORIES:Education
ATTACH;FMTTYPE=image/jpeg:https://www.visitglenarbor.com/wp-content/uploads/2020/03/Historic-Leelanau.jpg
ORGANIZER;CN="Empire Area Museum":MAILTO:empiremuseum@centurytel.net
END:VEVENT
BEGIN:VEVENT
DTSTART;TZID=America/Detroit:20190717T100000
DTEND;TZID=America/Detroit:20190717T130000
DTSTAMP:20260424T045418
CREATED:20190724T063300Z
LAST-MODIFIED:20200309T055006Z
UID:10004113-1563357600-1563368400@www.visitglenarbor.com
SUMMARY:Port Oneida Auto Tours
DESCRIPTION:Wednesday Driving Tours\nOut of the Ordinary Historic Driving Tours  \nGuided by Retired Ranger Bill Herd     Wednesdays  10 am- noon\nExplore historic structures in the park that are not as well known.  2.5 hrs. \nDonations Appreciated \n7/10      Faust Log Cabin – at Inspiration Point looking over Glen Lake. 10 am\, 11 am\, and noon tours. \n7/17      Ken-tuck-U-Inn – in Benzie County near the Platte River \n7/24     Barn to Barn Tour – car caravan around Port Oneida and Good Harbor region to 5 sites \n7/31      Inside the Farms of Port Oneida – car caravan to several sites \n8/7        Treat Farm Hike and Tour –park and hike the ¼ mi. \nMeeting Locations \nPort Oneida Tours – meet at the Port Oneida Farms Heritage Center/Olsen Farm\, 3164 W. Harbor Hwy (M-22).\, 3 miles N. of Glen Arbor. Sign out front says\, “Charles Olsen”. \nFaust Cabin: Going south\, at the narrows between Glen Lakes\, take a left onto McFarlane road south of Glen Lake. Go up the hill at least a mile. On the left is inspiration point where you can park. The cabin is left of Inspiration point.  Map.  \nKen-Tuck-U-Inn :  located on the east side of M-22 at Long Lake Rd. From the southern border of the Lakeshore (identified by the Welcome to Sleeping Bear Dunes sign) on M-22 near Crystal Lake\, drive north along M-22 about 0.3 miles to Long Lake Road\, which intersects M-22 from the east. Coming from the north\, the Ken-Tuck-U-Inn is about 10.6 miles south of Esch Road on M-22 Map. \nTreat Farm: South of Empire 1/4 mile\, turn right onto Stormer road. After Tweddle farm park at park gate. Meet at gate in front of 2-track for the 1/4 mile walk to the farm.
URL:https://www.visitglenarbor.com/event/port-oneida-auto-tours/
LOCATION:Ken-Tuck-U-Inn\, M-22
CATEGORIES:Art/Gallery/Exhibit,Community Events,Education,Kids + Family Friendly
ATTACH;FMTTYPE=image/jpeg:https://www.visitglenarbor.com/wp-content/uploads/2020/03/2012-Tour-inside-barn-scaled.jpg
END:VEVENT
BEGIN:VEVENT
DTSTART;TZID=America/Detroit:20190717T220000
DTEND;TZID=America/Detroit:20190717T220000
DTSTAMP:20260424T045418
CREATED:20190521T211113Z
LAST-MODIFIED:20190521T211113Z
UID:10002854-1563400800-1563400800@www.visitglenarbor.com
SUMMARY:Stargazing and Constellation Lesson
DESCRIPTION:Stargazing and Constellation Lessons at the The Leelanau School Observatory in Glen Arbor. Open to the Public. \nTakes place Wednesday and Thursday nights\,  June 26 – Aug. 29 (Closed July 4)\, from 10:00 p.m. until midnight — if skies are clear. \nThe Leelanau School\, One Old Homestead Rd.\, Glen Arbor \n(231)334-5800 leelanau.org
URL:https://www.visitglenarbor.com/event/stargazing-and-constellation-lesson-5/
LOCATION:The Leelanau School\, 1 Old Homestead Road\, Glen Arbor\, Michigan\, 49636
CATEGORIES:Education
ATTACH;FMTTYPE=:
END:VEVENT
BEGIN:VEVENT
DTSTART;TZID=America/Detroit:20190718T220000
DTEND;TZID=America/Detroit:20190718T220000
DTSTAMP:20260424T045418
CREATED:20190521T211220Z
LAST-MODIFIED:20190521T211220Z
UID:10002856-1563487200-1563487200@www.visitglenarbor.com
SUMMARY:Stargazing and Constellation Lesson
DESCRIPTION:Stargazing and Constellation Lessons at the The Leelanau School Observatory in Glen Arbor. Open to the Public. \nTakes place Wednesday and Thursday nights\,  June 26 – Aug. 29 (Closed July 4)\, from 10:00 p.m. until midnight — if skies are clear. \nThe Leelanau School\, One Old Homestead Rd.\, Glen Arbor \n(231)334-5800 leelanau.org
URL:https://www.visitglenarbor.com/event/stargazing-and-constellation-lesson-6/
LOCATION:The Leelanau School\, 1 Old Homestead Road\, Glen Arbor\, Michigan\, 49636
CATEGORIES:Education
ATTACH;FMTTYPE=:
END:VEVENT
BEGIN:VEVENT
DTSTART;VALUE=DATE:20190719
DTEND;VALUE=DATE:20190721
DTSTAMP:20260424T045418
CREATED:20190716T232030Z
LAST-MODIFIED:20200309T054959Z
UID:10004071-1563494400-1563667199@www.visitglenarbor.com
SUMMARY:Empire Anchor Days
DESCRIPTION:Friday & Saturday\, July 19th & 20th EMPIRE AREA COMMUNITY CENTER brings their annual “Anchor Day” activities to kids\, families\, community members and visitors. \nFRIDAY\, JULY 19th\nMovie –  ‘Anchor Recovery’\nTribute to Doug Manning.\n7:30 pm  •  Empire Town Hall\nSponsored by the Empire Area Museum\n \nSATURDAY\, JULY 20th \nAnchor Day Fun Run\nStarting at Empire Beach Pavilion\n8:45 am Registration  •  9:00 am Race Time\nDarby Trapp\, Coordinator\nSponsored by Empire Area Community Center (EACC) \nAnchor Day Parade\nFront Street\, Empire\, MI\nParticipants line up between 1 and 1:30 pm at Johnson Park\n11570 Reynolds St.\, Empire\nParade begins 2 pm — through Empire\nSponsored by Empire Area Community Center (EACC) \nLions Club BBQ Chicken Dinner\nEmpire Town Hall  •  1:00 – 7:00 pm\nAdults $13  •  Children under 10 years old $6\nGrilled Chicken\, Baked Beans\, Coleslaw\, Potato’s  & Shortcake\nSponsored by Empire Lions \nStreet Dance \nDoc Probes\, the Music Doctor  &  David Goodwin\, Professional Drummer\nEmpire Town Hall Porch  •  8 pm – 11 pm\nBYOB  •  Chair  •  Dancing Shoes  . . . and friends!\nSponsored by Empire Area Community Centert (EACC)
URL:https://www.visitglenarbor.com/event/empire-anchor-days-2019/
LOCATION:Empire\, MI\, Empire\, MI\, 49630\, United States
CATEGORIES:Community Events,Education,Kids + Family Friendly,Race,Recreation
ATTACH;FMTTYPE=image/png:https://www.visitglenarbor.com/wp-content/uploads/2020/03/Anchor-Day-Activities-Empire-Commnity-center-events.png
END:VEVENT
BEGIN:VEVENT
DTSTART;TZID=America/Detroit:20190724T220000
DTEND;TZID=America/Detroit:20190724T220000
DTSTAMP:20260424T045418
CREATED:20190521T211307Z
LAST-MODIFIED:20190521T211307Z
UID:10002858-1564005600-1564005600@www.visitglenarbor.com
SUMMARY:Stargazing and Constellation Lesson
DESCRIPTION:Public Stargazing and Constellation Lessons at the The Leelanau School Observatory in Glen Arbor. \nTakes place Wednesday and Thursday nights\,  June 26 – Aug. 29 (Closed July 4)\, from 10:00 p.m. until midnight — if skies are clear. \nThe Leelanau School\, One Old Homestead Rd.\, Glen Arbor \n(231)334-5800 leelanau.org
URL:https://www.visitglenarbor.com/event/stargazing-and-constellation-lesson-7/
LOCATION:The Leelanau School\, 1 Old Homestead Road\, Glen Arbor\, Michigan\, 49636
CATEGORIES:Education
ATTACH;FMTTYPE=:
END:VEVENT
BEGIN:VEVENT
DTSTART;TZID=America/Detroit:20190725T150000
DTEND;TZID=America/Detroit:20190725T160000
DTSTAMP:20260424T045418
CREATED:20190724T031709Z
LAST-MODIFIED:20190724T031709Z
UID:10004085-1564066800-1564070400@www.visitglenarbor.com
SUMMARY:Horse and Wagon Tours
DESCRIPTION:Clip Clop Back in Time\n\nExperience the Port Oneida Historic District the way they did in the late 1800 to early 1900s –  by horse and wagon!  We’ll travel in the footsteps of the early pioneers down the back roads of Port Oneida where you’ll learn about the history of this significant agricultural community with rolling hills and 18 farmsteads. \nBring your family and friends for an activity that is relaxing\, educational and memorable.  Or\, make it a romantic end to your perfect day before dinner. \nSchedule \nTues. 4:30 & Thurs. 3:00 and 4:30  \nStarting Thursday\, July 2 through Sept. 3 \nIf you would like to pay for an entire wagon on a date please contact us. Weekends are not typically available. \nTours are approximately 1.25 hr\n \nDonation:  $20 per adult;  $12 per child 4-12   Children 3 and under on laps are free \nReservations required – please call 231-334-6103.\nPLEASE MAKE YOUR RESERVATIONS EARLY!  Register before 11 am the day of the ride to ensure we have enough people. Wagon holds 12 people. We need a minimum of 8 reservations to conduct the tour. Private rental rides can be arranged – call for details. Late registration may be available. \nPark and meet at the Port Oneida Farms Heritage Center at the Charles Olsen farm 15 minutes before the tour begins. \nRates and Schedule subject to change. Reservations are held with credit card. Pay in cash or check on arrival. No refund for no-shows. Credit card will be charged for no-shows.
URL:https://www.visitglenarbor.com/event/horse-and-wagon-tours-3/
LOCATION:Port Oneida Heritage Center\, 3164 W. Harbor Hwy.\, Maple City\, Michigan\, 49630
CATEGORIES:Community Events,Education,Kids + Family Friendly
ATTACH;FMTTYPE=:
END:VEVENT
BEGIN:VEVENT
DTSTART;TZID=America/Detroit:20190725T220000
DTEND;TZID=America/Detroit:20190725T220000
DTSTAMP:20260424T045418
CREATED:20190521T211403Z
LAST-MODIFIED:20190521T211403Z
UID:10002860-1564092000-1564092000@www.visitglenarbor.com
SUMMARY:Stargazing and Constellation Lesson
DESCRIPTION:Stargazing and Constellation Lessons\, Open to the Public\, at the The Leelanau School Observatory in Glen Arbor. \nTakes place Wednesday and Thursday nights\,  June 26 – Aug. 29 (Closed July 4)\, from 10:00 p.m. until midnight — if skies are clear. \nThe Leelanau School\, One Old Homestead Rd.\, Glen Arbor \n(231)334-5800 leelanau.org
URL:https://www.visitglenarbor.com/event/stargazing-and-constellation-lesson-8/
LOCATION:The Leelanau School\, 1 Old Homestead Road\, Glen Arbor\, Michigan\, 49636
CATEGORIES:Education
ATTACH;FMTTYPE=:
END:VEVENT
BEGIN:VEVENT
DTSTART;TZID=America/Detroit:20190729T093000
DTEND;TZID=America/Detroit:20190729T110000
DTSTAMP:20260424T045418
CREATED:20190724T053141Z
LAST-MODIFIED:20200309T055003Z
UID:10004096-1564392600-1564398000@www.visitglenarbor.com
SUMMARY:Mornings in the Garden 9:30 - 11 am
DESCRIPTION:Join our Master Gardeners at the Olsen Farm during their morning tending\, to learn about heirloom plants\, companion planting\, and more in our vegetable and perennial gardens.  You can even dig in and get your hands dirty to help them if you like! For all ages. Kids can discover what’s growing in season\, practice historic planting techniques\, go on an insect safari or explore the wild world of soil! \nMondays\, June 24 – August 19
URL:https://www.visitglenarbor.com/event/mornings-in-the-garden-930-11-am/
LOCATION:Port Oneida Heritage Center\, 3164 W. Harbor Hwy.\, Maple City\, Michigan\, 49630
CATEGORIES:Education,Kids + Family Friendly,Recreation
ATTACH;FMTTYPE=image/jpeg:https://www.visitglenarbor.com/wp-content/uploads/2020/03/FullSizeRender.jpg
END:VEVENT
BEGIN:VEVENT
DTSTART;TZID=America/Detroit:20190731T100000
DTEND;TZID=America/Detroit:20190731T120000
DTSTAMP:20260424T045418
CREATED:20190724T064117Z
LAST-MODIFIED:20190724T064117Z
UID:10004115-1564567200-1564574400@www.visitglenarbor.com
SUMMARY:Port Oneida Auto Tours
DESCRIPTION:Wednesday Driving Tours\nOut of the Ordinary Historic Driving Tours  \nGuided by Retired Ranger Bill Herd     Wednesdays  10 am- noon\nExplore historic structures in the park that are not as well known.  2.5 hrs. \nDonations Appreciated \n7/10      Faust Log Cabin – at Inspiration Point looking over Glen Lake. 10 am\, 11 am\, and noon tours. \n7/17      Ken-tuck-U-Inn – in Benzie County near the Platte River \n7/24     Barn to Barn Tour – car caravan around Port Oneida and Good Harbor region to 5 sites \n7/31      Inside the Farms of Port Oneida – car caravan to several sites \n8/7        Treat Farm Hike and Tour –park and hike the ¼ mi. \nMeeting Locations \nPort Oneida Tours – meet at the Port Oneida Farms Heritage Center/Olsen Farm\, 3164 W. Harbor Hwy (M-22).\, 3 miles N. of Glen Arbor. Sign out front says\, “Charles Olsen”. \nFaust Cabin: Going south\, at the narrows between Glen Lakes\, take a left onto McFarlane road south of Glen Lake. Go up the hill at least a mile. On the left is inspiration point where you can park. The cabin is left of Inspiration point.  Map.  \nKen-Tuck-U-Inn :  located on the east side of M-22 at Long Lake Rd. From the southern border of the Lakeshore (identified by the Welcome to Sleeping Bear Dunes sign) on M-22 near Crystal Lake\, drive north along M-22 about 0.3 miles to Long Lake Road\, which intersects M-22 from the east. Coming from the north\, the Ken-Tuck-U-Inn is about 10.6 miles south of Esch Road on M-22 Map. \nTreat Farm: South of Empire 1/4 mile\, turn right onto Stormer road. After Tweddle farm park at park gate. Meet at gate in front of 2-track for the 1/4 mile walk to the farm.
URL:https://www.visitglenarbor.com/event/port-oneida-auto-tours-3/
LOCATION:Port Oneida Heritage Center\, 3164 W. Harbor Hwy.\, Maple City\, Michigan\, 49630
CATEGORIES:Art/Gallery/Exhibit,Community Events,Education,Kids + Family Friendly
ATTACH;FMTTYPE=:
END:VEVENT
BEGIN:VEVENT
DTSTART;TZID=America/Detroit:20190731T220000
DTEND;TZID=America/Detroit:20190731T220000
DTSTAMP:20260424T045418
CREATED:20190521T211500Z
LAST-MODIFIED:20190521T211500Z
UID:10002862-1564610400-1564610400@www.visitglenarbor.com
SUMMARY:Stargazing and Constellation Lesson
DESCRIPTION:Stargazing and Constellation Lessons\, Open to the Public\, at the The Leelanau School Observatory in Glen Arbor. \nTakes place Wednesday and Thursday nights\,  June 26 – Aug. 29 (Closed July 4)\, from 10:00 p.m. until midnight — if skies are clear. \nThe Leelanau School\, One Old Homestead Rd.\, Glen Arbor \n(231)334-5800 leelanau.org
URL:https://www.visitglenarbor.com/event/stargazing-and-constellation-lesson-9/
LOCATION:The Leelanau School\, 1 Old Homestead Road\, Glen Arbor\, Michigan\, 49636
CATEGORIES:Education
ATTACH;FMTTYPE=:
END:VEVENT
END:VCALENDAR