BEGIN:VCALENDAR
VERSION:2.0
PRODID:-//Glen Lake Chamber of Commerce - ECPv6.15.19//NONSGML v1.0//EN
CALSCALE:GREGORIAN
METHOD:PUBLISH
X-WR-CALNAME:Glen Lake Chamber of Commerce
X-ORIGINAL-URL:https://www.visitglenarbor.com
X-WR-CALDESC:Events for Glen Lake Chamber of Commerce
REFRESH-INTERVAL;VALUE=DURATION:PT1H
X-Robots-Tag:noindex
X-PUBLISHED-TTL:PT1H
BEGIN:VTIMEZONE
TZID:America/Detroit
BEGIN:DAYLIGHT
TZOFFSETFROM:-0500
TZOFFSETTO:-0400
TZNAME:EDT
DTSTART:20250309T070000
END:DAYLIGHT
BEGIN:STANDARD
TZOFFSETFROM:-0400
TZOFFSETTO:-0500
TZNAME:EST
DTSTART:20251102T060000
END:STANDARD
BEGIN:DAYLIGHT
TZOFFSETFROM:-0500
TZOFFSETTO:-0400
TZNAME:EDT
DTSTART:20260308T070000
END:DAYLIGHT
BEGIN:STANDARD
TZOFFSETFROM:-0400
TZOFFSETTO:-0500
TZNAME:EST
DTSTART:20261101T060000
END:STANDARD
BEGIN:DAYLIGHT
TZOFFSETFROM:-0500
TZOFFSETTO:-0400
TZNAME:EDT
DTSTART:20270314T070000
END:DAYLIGHT
BEGIN:STANDARD
TZOFFSETFROM:-0400
TZOFFSETTO:-0500
TZNAME:EST
DTSTART:20271107T060000
END:STANDARD
END:VTIMEZONE
BEGIN:VEVENT
DTSTART;VALUE=DATE:20260207
DTEND;VALUE=DATE:20260316
DTSTAMP:20260421T215723
CREATED:20260211T163131Z
LAST-MODIFIED:20260211T163131Z
UID:10009238-1770422400-1773619199@www.visitglenarbor.com
SUMMARY:Neighborhood Forest – Free Trees for Kids!
DESCRIPTION:Once again the Glen Lake Library is participating in the wonderful Neighborhood Forest program. Through March 15\, you can order free trees\, which will then be delivered to the library for you and your kids to pick up and plant at home. To sign up visit the Glen Lake Library webpage\, www.glenlakelibrary.net and access the link under Events. This is a great way to help make the world a little greener.  You can also donate trees or funds to help the program blossom even further. If you have questions\, please feel free to contact the library.  231.326.5361
URL:https://www.visitglenarbor.com/event/neighborhood-forest-free-trees-for-kids/
LOCATION:MI
CATEGORIES:Community Events
END:VEVENT
BEGIN:VEVENT
DTSTART;TZID=America/Detroit:20260222T170000
DTEND;TZID=America/Detroit:20260222T190000
DTSTAMP:20260421T215723
CREATED:20251014T151945Z
LAST-MODIFIED:20251014T151945Z
UID:10008449-1771779600-1771786800@www.visitglenarbor.com
SUMMARY:Trivia Night!
DESCRIPTION:Think you’ve got what it takes to be the trivia champ? Join us every Sunday evening at Cherry Public House for a brain-boosting good time with Trivia Night\, hosted by the legendary Quizmaster Whoot! 🍻 \n🧠 Test your knowledge across pop culture\, history\, music\, and more\n🍔 Enjoy delicious food and drink specials all evening\n🏆 Prizes for top teams – bring your A-game! \nGrab your smartest friends\, snag a table\, and settle in for two hours of laughs\, surprises\, and fierce-but-friendly competition. Walk-ins welcome — fun guaranteed!
URL:https://www.visitglenarbor.com/event/trivia-night-3/2026-02-22/
LOCATION:Cherry Public House\, 6026 South Lake Street\, Glen Arbor\, MI\, 49636
CATEGORIES:Community Events,Food/Dining Event,Kids + Family Friendly
ATTACH;FMTTYPE=image/jpeg:https://www.visitglenarbor.com/wp-content/uploads/2025/10/trivia_night_0.jpg
ORGANIZER;CN="Cherry Republic":MAILTO:experience@cherryrepublic.com
END:VEVENT
END:VCALENDAR