BEGIN:VCALENDAR
VERSION:2.0
PRODID:-//Glen Lake Chamber of Commerce - ECPv6.15.19//NONSGML v1.0//EN
CALSCALE:GREGORIAN
METHOD:PUBLISH
X-ORIGINAL-URL:https://www.visitglenarbor.com
X-WR-CALDESC:Events for Glen Lake Chamber of Commerce
REFRESH-INTERVAL;VALUE=DURATION:PT1H
X-Robots-Tag:noindex
X-PUBLISHED-TTL:PT1H
BEGIN:VTIMEZONE
TZID:America/Detroit
BEGIN:DAYLIGHT
TZOFFSETFROM:-0500
TZOFFSETTO:-0400
TZNAME:EDT
DTSTART:20240310T070000
END:DAYLIGHT
BEGIN:STANDARD
TZOFFSETFROM:-0400
TZOFFSETTO:-0500
TZNAME:EST
DTSTART:20241103T060000
END:STANDARD
BEGIN:DAYLIGHT
TZOFFSETFROM:-0500
TZOFFSETTO:-0400
TZNAME:EDT
DTSTART:20250309T070000
END:DAYLIGHT
BEGIN:STANDARD
TZOFFSETFROM:-0400
TZOFFSETTO:-0500
TZNAME:EST
DTSTART:20251102T060000
END:STANDARD
BEGIN:DAYLIGHT
TZOFFSETFROM:-0500
TZOFFSETTO:-0400
TZNAME:EDT
DTSTART:20260308T070000
END:DAYLIGHT
BEGIN:STANDARD
TZOFFSETFROM:-0400
TZOFFSETTO:-0500
TZNAME:EST
DTSTART:20261101T060000
END:STANDARD
END:VTIMEZONE
BEGIN:VEVENT
DTSTART;VALUE=DATE:20251001
DTEND;VALUE=DATE:20251101
DTSTAMP:20260423T191225
CREATED:20250925T154823Z
LAST-MODIFIED:20251003T163645Z
UID:10008361-1759276800-1761955199@www.visitglenarbor.com
SUMMARY:SHOPtober 2025
DESCRIPTION:Shop Small\, Eat Local\, Win Big! Spend $350 at participating businesses in the Glen Arbor area during the month of October and get entered to win $100 in Glen Arbor Bucks!\nSubmit receipts in an envelope (yours or provided) by Nov. 5. Pick up/drop off at the M22 Store in Glen Arbor or mail to: Glen Lake Chamber\, PO Box 217\, Glen Arbor\, MI 49636. Limit 3 entries per person. \nReceipts must total $350 or more and be dated October 1–31\, 2025. Winners will be announced via Facebook\, Instagram and our email newsletter after November 10th. Purchases on lodging or services may be excluded. \nPrizes up for grabs: $100 for 1st place winner and $60 for 2nd place! Bucks will be valid only for the coming calendar year. Merchants who receive “Glen Arbor Bucks” as a form of payment may be reimbursed by presenting the Chamber with the Glen Arbor Buck used for purchase. Questions about the event? Contact Kaitlyn at M22 Glen Arbor via email: kait@crystalriveroutfitters.com  \n• Browse the local business directory \n• Share the SHOPtober Event on Facebook! \n 
URL:https://www.visitglenarbor.com/event/shoptober-2025/
LOCATION:MI
CATEGORIES:Community Events,Local Business Event,Shopping
ATTACH;FMTTYPE=image/png:https://www.visitglenarbor.com/wp-content/uploads/2025/09/Shoptober_facebook-cover-graphic-scaled.png
END:VEVENT
BEGIN:VEVENT
DTSTART;TZID=America/Detroit:20251026T150000
DTEND;TZID=America/Detroit:20251026T180000
DTSTAMP:20260423T191225
CREATED:20250610T152509Z
LAST-MODIFIED:20250610T152509Z
UID:10007952-1761490800-1761501600@www.visitglenarbor.com
SUMMARY:Live Music at Dune Bird Winery: Loose Change
DESCRIPTION:Join us at Dune Bird Winery for our 2025 lineup of live music events\, happening every Wednesday and Sunday from May through October. Whether you’re sipping wine\, enjoying a handcrafted coffee\, or just soaking in the vineyard views\, our outdoor music series blends local talent with warm community vibes—perfect for a midweek break or a laid-back weekend outing.
URL:https://www.visitglenarbor.com/event/live-music-at-dune-bird-winery-loose-change/2025-10-26/
LOCATION:Dune Bird Winery\, 5620 N Manitou Trail\,\, Northport\, MI\, 49670\, United States
CATEGORIES:Community Events,Music,Wine/Beer or Tasting Event
ATTACH;FMTTYPE=image/jpeg:https://www.visitglenarbor.com/wp-content/uploads/2025/05/dunebirdlivemusic2025.jpg
ORGANIZER;CN="Dune Bird Winery":MAILTO:info@dunebirdwinery.com
END:VEVENT
BEGIN:VEVENT
DTSTART;TZID=America/Detroit:20251026T170000
DTEND;TZID=America/Detroit:20251026T190000
DTSTAMP:20260423T191225
CREATED:20251014T151945Z
LAST-MODIFIED:20251014T151945Z
UID:10008432-1761498000-1761505200@www.visitglenarbor.com
SUMMARY:Trivia Night!
DESCRIPTION:Think you’ve got what it takes to be the trivia champ? Join us every Sunday evening at Cherry Public House for a brain-boosting good time with Trivia Night\, hosted by the legendary Quizmaster Whoot! 🍻 \n🧠 Test your knowledge across pop culture\, history\, music\, and more\n🍔 Enjoy delicious food and drink specials all evening\n🏆 Prizes for top teams – bring your A-game! \nGrab your smartest friends\, snag a table\, and settle in for two hours of laughs\, surprises\, and fierce-but-friendly competition. Walk-ins welcome — fun guaranteed!
URL:https://www.visitglenarbor.com/event/trivia-night-3/2025-10-26/
LOCATION:Cherry Public House\, 6026 South Lake Street\, Glen Arbor\, MI\, 49636
CATEGORIES:Community Events,Food/Dining Event,Kids + Family Friendly
ATTACH;FMTTYPE=image/jpeg:https://www.visitglenarbor.com/wp-content/uploads/2025/10/trivia_night_0.jpg
ORGANIZER;CN="Cherry Republic":MAILTO:experience@cherryrepublic.com
END:VEVENT
END:VCALENDAR