BEGIN:VCALENDAR
VERSION:2.0
PRODID:-//Glen Lake Chamber of Commerce - ECPv6.15.19//NONSGML v1.0//EN
CALSCALE:GREGORIAN
METHOD:PUBLISH
X-WR-CALNAME:Glen Lake Chamber of Commerce
X-ORIGINAL-URL:https://www.visitglenarbor.com
X-WR-CALDESC:Events for Glen Lake Chamber of Commerce
REFRESH-INTERVAL;VALUE=DURATION:PT1H
X-Robots-Tag:noindex
X-PUBLISHED-TTL:PT1H
BEGIN:VTIMEZONE
TZID:America/Detroit
BEGIN:DAYLIGHT
TZOFFSETFROM:-0500
TZOFFSETTO:-0400
TZNAME:EDT
DTSTART:20240310T070000
END:DAYLIGHT
BEGIN:STANDARD
TZOFFSETFROM:-0400
TZOFFSETTO:-0500
TZNAME:EST
DTSTART:20241103T060000
END:STANDARD
BEGIN:DAYLIGHT
TZOFFSETFROM:-0500
TZOFFSETTO:-0400
TZNAME:EDT
DTSTART:20250309T070000
END:DAYLIGHT
BEGIN:STANDARD
TZOFFSETFROM:-0400
TZOFFSETTO:-0500
TZNAME:EST
DTSTART:20251102T060000
END:STANDARD
BEGIN:DAYLIGHT
TZOFFSETFROM:-0500
TZOFFSETTO:-0400
TZNAME:EDT
DTSTART:20260308T070000
END:DAYLIGHT
BEGIN:STANDARD
TZOFFSETFROM:-0400
TZOFFSETTO:-0500
TZNAME:EST
DTSTART:20261101T060000
END:STANDARD
END:VTIMEZONE
BEGIN:VEVENT
DTSTART;TZID=America/Detroit:20250801T170000
DTEND;TZID=America/Detroit:20250815T200000
DTSTAMP:20260423T181135
CREATED:20250617T173643Z
LAST-MODIFIED:20250617T173643Z
UID:10007980-1754067600-1755288000@www.visitglenarbor.com
SUMMARY:Late Night Fridays and Manitou Music
DESCRIPTION:PRESS RELEASE \nContact:\nScott Bouma\nExecutive Director\nGlen Arbor Arts Center\n231/334-6112\ndirector@glenarborart.org \nThe Glen Arbor Arts Center is keeping the lights on a little longer on Friday nights. Late Night Fridays and Manitou Music bring the B-Side Growlers back to the GAAC Front Porch on June 27\, 5-7 pm. This “tradition-inspired\, toe-tapping fired” acoustic trio from Grand Rapids plays a plein air concert of blues\, jazz and country. Bring a chair and refreshments.\nAs part of Late Night Fridays\, both GAAC galleries are open June 13\, 20\, and 27. In the GAAC Main Gallery is the 2025 Members Create\, an exhibition of work by 49 GAAC members. In the Lobby Gallery: Random: Collages From The Scrap Pile by Leelanau County painter Mark Mehaffey. Read more about the exhibit here: GlenArborArt.org / EXHIBITS.\nAll Late Friday Nights events are free. The GAAC is located at 6031 S. Lake St.\, Glen Arbor.
URL:https://www.visitglenarbor.com/event/late-night-fridays-and-manitou-music/2025-08-01/
LOCATION:Glen Arbor Arts Center\, 6031 S. Lake Street\, Glen Arbor\, MI\, 49636
CATEGORIES:Art/Gallery/Exhibit,Community Events,Music
ATTACH;FMTTYPE=image/jpeg:https://www.visitglenarbor.com/wp-content/uploads/2025/06/LateNightFridays_2023_Webslide.jpg
ORGANIZER;CN="Glen Arbor Arts Center":MAILTO:director@glenarborart.org
END:VEVENT
BEGIN:VEVENT
DTSTART;TZID=America/Detroit:20250808T100000
DTEND;TZID=America/Detroit:20250809T160000
DTSTAMP:20260423T181135
CREATED:20250710T161758Z
LAST-MODIFIED:20250710T161758Z
UID:10008205-1754647200-1754755200@www.visitglenarbor.com
SUMMARY:Port Oneida Fair
DESCRIPTION:“Step back in time at the Port Oneida Fair and experience life as it was in the late 1800’s and early 1900’s. Imagine the life of the pioneers as you help bale hay or watch a broom-maker at work. Learn about spinning\, basket weaving\, soap making\, butter making\, candle dipping\, and fur trapping. Listen as park rangers and local history experts share the area’s history. Watch as teams of oxen and horses cut\, load\, and haul hay and artists and craftsmen demonstrate their skills. \nArrive anytime between the hours of 10 am and 4 pm. Most people spend 3-4 hours at the fair. \nAll programs are free with a valid park entrance pass. Passes may be purchased at the Phillip A. Hart Visitor Center in Empire\, Michigan\, and cost $25 (per vehicle) for seven days\, $45 for an annual Sleeping Bear Dunes pass\, or $80 (or less) for the America the Beautiful – National Parks and Federal Recreational Lands pass series.”
URL:https://www.visitglenarbor.com/event/port-oneida-fair-4/
LOCATION:Port Oneida Rural Historic District\, 3164 W Harbor Hwy\, Maple City\, MI\, 49664\, United States
CATEGORIES:Community Events,Education,Kids + Family Friendly
ATTACH;FMTTYPE=image/jpeg:https://www.visitglenarbor.com/wp-content/uploads/2025/07/PortOneidaFair-scaled.jpeg
ORGANIZER;CN="Sleeping Bear Dunes National Lakeshore":MAILTO:SLBE_programs@nps.gov
END:VEVENT
BEGIN:VEVENT
DTSTART;TZID=America/Detroit:20250808T170000
DTEND;TZID=America/Detroit:20250822T200000
DTSTAMP:20260423T181135
CREATED:20250617T173643Z
LAST-MODIFIED:20250617T173643Z
UID:10007981-1754672400-1755892800@www.visitglenarbor.com
SUMMARY:Late Night Fridays and Manitou Music
DESCRIPTION:PRESS RELEASE \nContact:\nScott Bouma\nExecutive Director\nGlen Arbor Arts Center\n231/334-6112\ndirector@glenarborart.org \nThe Glen Arbor Arts Center is keeping the lights on a little longer on Friday nights. Late Night Fridays and Manitou Music bring the B-Side Growlers back to the GAAC Front Porch on June 27\, 5-7 pm. This “tradition-inspired\, toe-tapping fired” acoustic trio from Grand Rapids plays a plein air concert of blues\, jazz and country. Bring a chair and refreshments.\nAs part of Late Night Fridays\, both GAAC galleries are open June 13\, 20\, and 27. In the GAAC Main Gallery is the 2025 Members Create\, an exhibition of work by 49 GAAC members. In the Lobby Gallery: Random: Collages From The Scrap Pile by Leelanau County painter Mark Mehaffey. Read more about the exhibit here: GlenArborArt.org / EXHIBITS.\nAll Late Friday Nights events are free. The GAAC is located at 6031 S. Lake St.\, Glen Arbor.
URL:https://www.visitglenarbor.com/event/late-night-fridays-and-manitou-music/2025-08-08/
LOCATION:Glen Arbor Arts Center\, 6031 S. Lake Street\, Glen Arbor\, MI\, 49636
CATEGORIES:Art/Gallery/Exhibit,Community Events,Music
ATTACH;FMTTYPE=image/jpeg:https://www.visitglenarbor.com/wp-content/uploads/2025/06/LateNightFridays_2023_Webslide.jpg
ORGANIZER;CN="Glen Arbor Arts Center":MAILTO:director@glenarborart.org
END:VEVENT
BEGIN:VEVENT
DTSTART;TZID=America/Detroit:20250809T153000
DTEND;TZID=America/Detroit:20250809T173000
DTSTAMP:20260423T181135
CREATED:20250610T140811Z
LAST-MODIFIED:20250610T140811Z
UID:10007928-1754753400-1754760600@www.visitglenarbor.com
SUMMARY:Live Music at Bel Lago: Luke Woltanski and John Piatek Band
DESCRIPTION:Join us for live music at Bel Lago. Enjoy performances by the talented Luke Woltanski and John Piatek Band while you sip your favorite Bel Lago wines and take in the stunning scenery of Lake Leelanau – the perfect way to unwind.
URL:https://www.visitglenarbor.com/event/live-music-at-bel-lago-luke-woltanski-and-john-piatek-band/
LOCATION:Bel Lago\, 6530 S LAKE SHORE DR\, CEDAR\, MI\, 49621-9615\, United States
CATEGORIES:Community Events,Music,Wine/Beer or Tasting Event
ATTACH;FMTTYPE=image/png:https://www.visitglenarbor.com/wp-content/uploads/2025/05/FVV-WINE-CLUB-RACK-CARD-3.png
ORGANIZER;CN="Bel Lago":MAILTO:info@bellago.com
END:VEVENT
END:VCALENDAR