BEGIN:VCALENDAR
VERSION:2.0
PRODID:-//Glen Lake Chamber of Commerce - ECPv6.15.20//NONSGML v1.0//EN
CALSCALE:GREGORIAN
METHOD:PUBLISH
X-WR-CALNAME:Glen Lake Chamber of Commerce
X-ORIGINAL-URL:https://www.visitglenarbor.com
X-WR-CALDESC:Events for Glen Lake Chamber of Commerce
REFRESH-INTERVAL;VALUE=DURATION:PT1H
X-Robots-Tag:noindex
X-PUBLISHED-TTL:PT1H
BEGIN:VTIMEZONE
TZID:America/Detroit
BEGIN:DAYLIGHT
TZOFFSETFROM:-0500
TZOFFSETTO:-0400
TZNAME:EDT
DTSTART:20240310T070000
END:DAYLIGHT
BEGIN:STANDARD
TZOFFSETFROM:-0400
TZOFFSETTO:-0500
TZNAME:EST
DTSTART:20241103T060000
END:STANDARD
BEGIN:DAYLIGHT
TZOFFSETFROM:-0500
TZOFFSETTO:-0400
TZNAME:EDT
DTSTART:20250309T070000
END:DAYLIGHT
BEGIN:STANDARD
TZOFFSETFROM:-0400
TZOFFSETTO:-0500
TZNAME:EST
DTSTART:20251102T060000
END:STANDARD
BEGIN:DAYLIGHT
TZOFFSETFROM:-0500
TZOFFSETTO:-0400
TZNAME:EDT
DTSTART:20260308T070000
END:DAYLIGHT
BEGIN:STANDARD
TZOFFSETFROM:-0400
TZOFFSETTO:-0500
TZNAME:EST
DTSTART:20261101T060000
END:STANDARD
END:VTIMEZONE
BEGIN:VEVENT
DTSTART;TZID=America/Detroit:20250704T170000
DTEND;TZID=America/Detroit:20250718T200000
DTSTAMP:20260425T161954
CREATED:20250617T173643Z
LAST-MODIFIED:20250617T173643Z
UID:10007976-1751648400-1752868800@www.visitglenarbor.com
SUMMARY:Late Night Fridays and Manitou Music
DESCRIPTION:PRESS RELEASE \nContact:\nScott Bouma\nExecutive Director\nGlen Arbor Arts Center\n231/334-6112\ndirector@glenarborart.org \nThe Glen Arbor Arts Center is keeping the lights on a little longer on Friday nights. Late Night Fridays and Manitou Music bring the B-Side Growlers back to the GAAC Front Porch on June 27\, 5-7 pm. This “tradition-inspired\, toe-tapping fired” acoustic trio from Grand Rapids plays a plein air concert of blues\, jazz and country. Bring a chair and refreshments.\nAs part of Late Night Fridays\, both GAAC galleries are open June 13\, 20\, and 27. In the GAAC Main Gallery is the 2025 Members Create\, an exhibition of work by 49 GAAC members. In the Lobby Gallery: Random: Collages From The Scrap Pile by Leelanau County painter Mark Mehaffey. Read more about the exhibit here: GlenArborArt.org / EXHIBITS.\nAll Late Friday Nights events are free. The GAAC is located at 6031 S. Lake St.\, Glen Arbor.
URL:https://www.visitglenarbor.com/event/late-night-fridays-and-manitou-music/2025-07-04/
LOCATION:Glen Arbor Arts Center\, 6031 S. Lake Street\, Glen Arbor\, MI\, 49636
CATEGORIES:Art/Gallery/Exhibit,Community Events,Music
ATTACH;FMTTYPE=image/jpeg:https://www.visitglenarbor.com/wp-content/uploads/2025/06/LateNightFridays_2023_Webslide.jpg
ORGANIZER;CN="Glen Arbor Arts Center":MAILTO:director@glenarborart.org
END:VEVENT
BEGIN:VEVENT
DTSTART;TZID=America/Detroit:20250711T170000
DTEND;TZID=America/Detroit:20250725T200000
DTSTAMP:20260425T161954
CREATED:20250617T173643Z
LAST-MODIFIED:20250617T173643Z
UID:10007977-1752253200-1753473600@www.visitglenarbor.com
SUMMARY:Late Night Fridays and Manitou Music
DESCRIPTION:PRESS RELEASE \nContact:\nScott Bouma\nExecutive Director\nGlen Arbor Arts Center\n231/334-6112\ndirector@glenarborart.org \nThe Glen Arbor Arts Center is keeping the lights on a little longer on Friday nights. Late Night Fridays and Manitou Music bring the B-Side Growlers back to the GAAC Front Porch on June 27\, 5-7 pm. This “tradition-inspired\, toe-tapping fired” acoustic trio from Grand Rapids plays a plein air concert of blues\, jazz and country. Bring a chair and refreshments.\nAs part of Late Night Fridays\, both GAAC galleries are open June 13\, 20\, and 27. In the GAAC Main Gallery is the 2025 Members Create\, an exhibition of work by 49 GAAC members. In the Lobby Gallery: Random: Collages From The Scrap Pile by Leelanau County painter Mark Mehaffey. Read more about the exhibit here: GlenArborArt.org / EXHIBITS.\nAll Late Friday Nights events are free. The GAAC is located at 6031 S. Lake St.\, Glen Arbor.
URL:https://www.visitglenarbor.com/event/late-night-fridays-and-manitou-music/2025-07-11/
LOCATION:Glen Arbor Arts Center\, 6031 S. Lake Street\, Glen Arbor\, MI\, 49636
CATEGORIES:Art/Gallery/Exhibit,Community Events,Music
ATTACH;FMTTYPE=image/jpeg:https://www.visitglenarbor.com/wp-content/uploads/2025/06/LateNightFridays_2023_Webslide.jpg
ORGANIZER;CN="Glen Arbor Arts Center":MAILTO:director@glenarborart.org
END:VEVENT
BEGIN:VEVENT
DTSTART;TZID=America/Detroit:20250713T150000
DTEND;TZID=America/Detroit:20250713T180000
DTSTAMP:20260425T161954
CREATED:20250605T153836Z
LAST-MODIFIED:20250605T153836Z
UID:10007895-1752418800-1752429600@www.visitglenarbor.com
SUMMARY:Live Music at Dune Bird Winery: Emily Faber
DESCRIPTION:Dune Bird Winery invites you to unwind and sip on your favorite wine\, handcrafted coffee or just soak in the vineyard views while enjoying live music by the wonderful Emily Faber.
URL:https://www.visitglenarbor.com/event/live-music-at-dune-bird-winery-emily-faber/2025-07-13/
LOCATION:Dune Bird Winery\, 5620 N Manitou Trail\,\, Northport\, MI\, 49670\, United States
CATEGORIES:Community Events,Music,Wine/Beer or Tasting Event
ATTACH;FMTTYPE=image/jpeg:https://www.visitglenarbor.com/wp-content/uploads/2025/05/dunebirdlivemusic2025-1.jpg
ORGANIZER;CN="Dune Bird Winery":MAILTO:info@dunebirdwinery.com
END:VEVENT
BEGIN:VEVENT
DTSTART;TZID=America/Detroit:20250713T153000
DTEND;TZID=America/Detroit:20250713T173000
DTSTAMP:20260425T161954
CREATED:20250609T185445Z
LAST-MODIFIED:20250610T142334Z
UID:10007921-1752420600-1752427800@www.visitglenarbor.com
SUMMARY:Live Music at Bel Lago: Loose Change
DESCRIPTION:Join us at Bel Lago for live music with Loose Change. \nLoose Change is an eclectic acoustic duo offering versatile performances that suit any occasion. With their wide-ranging repertoire and dynamic style\, they create the perfect soundtrack for any event.
URL:https://www.visitglenarbor.com/event/live-music-at-bel-lago-loose-change/
LOCATION:Bel Lago\, 6530 S LAKE SHORE DR\, CEDAR\, MI\, 49621-9615\, United States
CATEGORIES:Community Events,Music,Wine/Beer or Tasting Event
ATTACH;FMTTYPE=image/png:https://www.visitglenarbor.com/wp-content/uploads/2025/05/FVV-WINE-CLUB-RACK-CARD-3.png
ORGANIZER;CN="Bel Lago":MAILTO:info@bellago.com
END:VEVENT
END:VCALENDAR