BEGIN:VCALENDAR
VERSION:2.0
PRODID:-//Glen Lake Chamber of Commerce - ECPv6.15.19//NONSGML v1.0//EN
CALSCALE:GREGORIAN
METHOD:PUBLISH
X-ORIGINAL-URL:https://www.visitglenarbor.com
X-WR-CALDESC:Events for Glen Lake Chamber of Commerce
REFRESH-INTERVAL;VALUE=DURATION:PT1H
X-Robots-Tag:noindex
X-PUBLISHED-TTL:PT1H
BEGIN:VTIMEZONE
TZID:America/Detroit
BEGIN:DAYLIGHT
TZOFFSETFROM:-0500
TZOFFSETTO:-0400
TZNAME:EDT
DTSTART:20230312T070000
END:DAYLIGHT
BEGIN:STANDARD
TZOFFSETFROM:-0400
TZOFFSETTO:-0500
TZNAME:EST
DTSTART:20231105T060000
END:STANDARD
BEGIN:DAYLIGHT
TZOFFSETFROM:-0500
TZOFFSETTO:-0400
TZNAME:EDT
DTSTART:20240310T070000
END:DAYLIGHT
BEGIN:STANDARD
TZOFFSETFROM:-0400
TZOFFSETTO:-0500
TZNAME:EST
DTSTART:20241103T060000
END:STANDARD
BEGIN:DAYLIGHT
TZOFFSETFROM:-0500
TZOFFSETTO:-0400
TZNAME:EDT
DTSTART:20250309T070000
END:DAYLIGHT
BEGIN:STANDARD
TZOFFSETFROM:-0400
TZOFFSETTO:-0500
TZNAME:EST
DTSTART:20251102T060000
END:STANDARD
END:VTIMEZONE
BEGIN:VEVENT
DTSTART;TZID=America/Detroit:20240111T123000
DTEND;TZID=America/Detroit:20240111T140000
DTSTAMP:20260419T155044
CREATED:20240108T175318Z
LAST-MODIFIED:20240108T175335Z
UID:10004160-1704976200-1704981600@www.visitglenarbor.com
SUMMARY:For Seniors:  January 11\, 12:30 - 2:00 pm
DESCRIPTION:Come and explore techniques for stress reduction and wellness promotion with Wendy Weckstein of Norther Michigan Psychiatric Services.  She’ll discuss how mindfulness can help reduce the emotional and physical stresses often associated with aging.
URL:https://www.visitglenarbor.com/event/for-seniors-january-11-1230-200-pm/
LOCATION:Glen Lake Community Library\, 10115 Front Street\, Empire\, MI\, 49630\, United States
CATEGORIES:Community Events,Education
ATTACH;FMTTYPE=image/jpeg:https://www.visitglenarbor.com/wp-content/uploads/2023/12/mindfulness-feng.jpg
ORGANIZER;CN="Glen Lake Community Library":MAILTO:info@glenlakelibrary.net
END:VEVENT
END:VCALENDAR