BEGIN:VCALENDAR
VERSION:2.0
PRODID:-//Glen Lake Chamber of Commerce - ECPv6.15.19//NONSGML v1.0//EN
CALSCALE:GREGORIAN
METHOD:PUBLISH
X-ORIGINAL-URL:https://www.visitglenarbor.com
X-WR-CALDESC:Events for Glen Lake Chamber of Commerce
REFRESH-INTERVAL;VALUE=DURATION:PT1H
X-Robots-Tag:noindex
X-PUBLISHED-TTL:PT1H
BEGIN:VTIMEZONE
TZID:America/Detroit
BEGIN:DAYLIGHT
TZOFFSETFROM:-0500
TZOFFSETTO:-0400
TZNAME:EDT
DTSTART:20220313T070000
END:DAYLIGHT
BEGIN:STANDARD
TZOFFSETFROM:-0400
TZOFFSETTO:-0500
TZNAME:EST
DTSTART:20221106T060000
END:STANDARD
BEGIN:DAYLIGHT
TZOFFSETFROM:-0500
TZOFFSETTO:-0400
TZNAME:EDT
DTSTART:20230312T070000
END:DAYLIGHT
BEGIN:STANDARD
TZOFFSETFROM:-0400
TZOFFSETTO:-0500
TZNAME:EST
DTSTART:20231105T060000
END:STANDARD
BEGIN:DAYLIGHT
TZOFFSETFROM:-0500
TZOFFSETTO:-0400
TZNAME:EDT
DTSTART:20240310T070000
END:DAYLIGHT
BEGIN:STANDARD
TZOFFSETFROM:-0400
TZOFFSETTO:-0500
TZNAME:EST
DTSTART:20241103T060000
END:STANDARD
END:VTIMEZONE
BEGIN:VEVENT
DTSTART;TZID=America/Detroit:20230805T090000
DTEND;TZID=America/Detroit:20230805T150000
DTSTAMP:20260423T165640
CREATED:20230723T210950Z
LAST-MODIFIED:20230802T165025Z
UID:10005234-1691226000-1691247600@www.visitglenarbor.com
SUMMARY:Porch sale and breakfast/ coffee and rolls
DESCRIPTION:Mid season sale old and new merchandise. Books\, jewelry\, crafts vintage and new. On the glen lake manor porch and yard. Join us for refreshments too even if not shopping.
URL:https://www.visitglenarbor.com/event/porch-sale-and-breakfast-coffee-and-rolls/2023-08-05/
LOCATION:Glen Lake Manor\, 7345 Glenmere Rd\, Empire\, MI\, United States
CATEGORIES:Community Events
ATTACH;FMTTYPE=image/jpeg:https://www.visitglenarbor.com/wp-content/uploads/2023/06/The-Manor-glen-lake.jpg
ORGANIZER;CN="Glen Lake Manor":MAILTO:theglenlakemanor@gmail.com
END:VEVENT
BEGIN:VEVENT
DTSTART;TZID=America/Detroit:20230805T093000
DTEND;TZID=America/Detroit:20230805T113000
DTSTAMP:20260423T165640
CREATED:20230714T203109Z
LAST-MODIFIED:20230714T203109Z
UID:10005209-1691227800-1691235000@www.visitglenarbor.com
SUMMARY:Biking Tours
DESCRIPTION:Tuesday\, Thursday\, Friday and Saturday at 9:30 am\, a 2 hour narrated tour. Reservations required.\n\nThree tours available:\n• Biking a By-gone Era\n• Peddling Port Oneida’s Past\n• Secrets of D.H. Day’s Kingdom and Beyond\n\nCost is $25 for adults and $15 for Children ages 7 -17.  Discount Bike Rental for these tours is available at Crystal River Outfitters.
URL:https://www.visitglenarbor.com/event/biking-tours-2/2023-08-05/
LOCATION:Port Oneida Rural Historic District\, 3164 W Harbor Hwy\, Maple City\, MI\, 49664\, United States
CATEGORIES:Community Events,Education,Kids + Family Friendly,Recreation
ATTACH;FMTTYPE=image/png:https://www.visitglenarbor.com/wp-content/uploads/2023/07/Bike-Tour-for-Facebook.png
END:VEVENT
END:VCALENDAR