BEGIN:VCALENDAR
VERSION:2.0
PRODID:-//Glen Lake Chamber of Commerce - ECPv6.15.20//NONSGML v1.0//EN
CALSCALE:GREGORIAN
METHOD:PUBLISH
X-ORIGINAL-URL:https://www.visitglenarbor.com
X-WR-CALDESC:Events for Glen Lake Chamber of Commerce
REFRESH-INTERVAL;VALUE=DURATION:PT1H
X-Robots-Tag:noindex
X-PUBLISHED-TTL:PT1H
BEGIN:VTIMEZONE
TZID:America/Detroit
BEGIN:DAYLIGHT
TZOFFSETFROM:-0500
TZOFFSETTO:-0400
TZNAME:EDT
DTSTART:20220313T070000
END:DAYLIGHT
BEGIN:STANDARD
TZOFFSETFROM:-0400
TZOFFSETTO:-0500
TZNAME:EST
DTSTART:20221106T060000
END:STANDARD
BEGIN:DAYLIGHT
TZOFFSETFROM:-0500
TZOFFSETTO:-0400
TZNAME:EDT
DTSTART:20230312T070000
END:DAYLIGHT
BEGIN:STANDARD
TZOFFSETFROM:-0400
TZOFFSETTO:-0500
TZNAME:EST
DTSTART:20231105T060000
END:STANDARD
BEGIN:DAYLIGHT
TZOFFSETFROM:-0500
TZOFFSETTO:-0400
TZNAME:EDT
DTSTART:20240310T070000
END:DAYLIGHT
BEGIN:STANDARD
TZOFFSETFROM:-0400
TZOFFSETTO:-0500
TZNAME:EST
DTSTART:20241103T060000
END:STANDARD
END:VTIMEZONE
BEGIN:VEVENT
DTSTART;TZID=America/Detroit:20230726T173000
DTEND;TZID=America/Detroit:20230726T183000
DTSTAMP:20260425T225850
CREATED:20211004T141427Z
LAST-MODIFIED:20211004T141427Z
UID:10004475-1690392600-1690396200@www.visitglenarbor.com
SUMMARY:Yen Yoga at Nature
DESCRIPTION:Join us in an inspiring space for a community yoga class\, held weekly on Wednesday’s at 5:30 pm. Hosted at Nature in Maple City by Yen Yoga & Fitness. \nThis ia an all-level yoga flow class. Please bring your own yoga mat and practice social distancing. \nSign up to participate is required at yenyogafitness.com  You may sign up online up to 8 days in advance\, or feel free to call us at 231-421-5496
URL:https://www.visitglenarbor.com/event/yen-yoga-at-nature/2023-07-26/
LOCATION:Nature\, 2988 W Burdickville Rd\, Maple City\, MI\, 49664\, United States
CATEGORIES:Community Events,Kids + Family Friendly,Recreation
ATTACH;FMTTYPE=image/png:https://www.visitglenarbor.com/wp-content/uploads/2021/03/Green-Inspirational-Spring-Quote-Facebook-Post.png
ORGANIZER;CN="Nature - A Michigan Retreat":MAILTO:admin@naturemichigan.com
END:VEVENT
BEGIN:VEVENT
DTSTART;TZID=America/Detroit:20230726T180000
DTEND;TZID=America/Detroit:20230726T190000
DTSTAMP:20260425T225850
CREATED:20230707T150557Z
LAST-MODIFIED:20230710T190227Z
UID:10005126-1690394400-1690398000@www.visitglenarbor.com
SUMMARY:Katherine Reay / A Shadow in Moscow: July 26
DESCRIPTION:Join us for a conversation with author Katherine Reay\, who will read from here thrilling new novel A Shadow in Moscow. It weaves together two narratives\, both in Cold War era Moscow but decades apart\, as two courageous women spies risk everything to protect all they love. Katherine is a regular visitor to the Glen Lake area\, and has published numerous acclaimed novels\, including The Printed Letter Bookshop and The London House.  Copies of her new book will be available for sale\, courtesy of the Cottage Book Shop.
URL:https://www.visitglenarbor.com/event/katherine-reay-a-shadow-in-moscow-july-26/
LOCATION:Glen Lake Community Library\, 10115 Front Street\, Empire\, MI\, 49630\, United States
CATEGORIES:Community Events
ATTACH;FMTTYPE=image/jpeg:https://www.visitglenarbor.com/wp-content/uploads/2023/07/Katherine-Reay-photo-e1688668276523.jpg
ORGANIZER;CN="Glen Lake Community Library":MAILTO:info@glenlakelibrary.net
END:VEVENT
BEGIN:VEVENT
DTSTART;TZID=America/Detroit:20230726T220000
DTEND;TZID=America/Detroit:20230726T235900
DTSTAMP:20260425T225850
CREATED:20230224T182331Z
LAST-MODIFIED:20230224T182405Z
UID:10003937-1690408800-1690415940@www.visitglenarbor.com
SUMMARY:Lanphier Observatory Public Viewing
DESCRIPTION:See the sky! The public is welcome to attend “Lanphier Observatory Public Viewings” on Wednesday & Thursday nights from 10 pm-Midnight (clear sky permitting!) at Leelanau School Beach\, June 21st-August 24th. \nDonation Students $4\, Adults $5. \nVisitors may park in any Leelanau School lot and walk down the scenic boardwalk\, across the Crystal River\, to the  Lanphier Observatory boardwalk.
URL:https://www.visitglenarbor.com/event/lanphier-observatory-public-viewing/2023-07-26/
LOCATION:Leelanau School\, 1 Old Homestead Rd\, Glen Arbor\, MI\, 49636\, United States
CATEGORIES:Community Events,Kids + Family Friendly,Recreation
ATTACH;FMTTYPE=image/jpeg:https://www.visitglenarbor.com/wp-content/uploads/2020/03/Observatory-Night-1-e1532113488695.jpg
END:VEVENT
END:VCALENDAR