BEGIN:VCALENDAR
VERSION:2.0
PRODID:-//Glen Lake Chamber of Commerce - ECPv6.15.19//NONSGML v1.0//EN
CALSCALE:GREGORIAN
METHOD:PUBLISH
X-ORIGINAL-URL:https://www.visitglenarbor.com
X-WR-CALDESC:Events for Glen Lake Chamber of Commerce
REFRESH-INTERVAL;VALUE=DURATION:PT1H
X-Robots-Tag:noindex
X-PUBLISHED-TTL:PT1H
BEGIN:VTIMEZONE
TZID:America/Detroit
BEGIN:DAYLIGHT
TZOFFSETFROM:-0500
TZOFFSETTO:-0400
TZNAME:EDT
DTSTART:20210314T070000
END:DAYLIGHT
BEGIN:STANDARD
TZOFFSETFROM:-0400
TZOFFSETTO:-0500
TZNAME:EST
DTSTART:20211107T060000
END:STANDARD
BEGIN:DAYLIGHT
TZOFFSETFROM:-0500
TZOFFSETTO:-0400
TZNAME:EDT
DTSTART:20220313T070000
END:DAYLIGHT
BEGIN:STANDARD
TZOFFSETFROM:-0400
TZOFFSETTO:-0500
TZNAME:EST
DTSTART:20221106T060000
END:STANDARD
BEGIN:DAYLIGHT
TZOFFSETFROM:-0500
TZOFFSETTO:-0400
TZNAME:EDT
DTSTART:20230312T070000
END:DAYLIGHT
BEGIN:STANDARD
TZOFFSETFROM:-0400
TZOFFSETTO:-0500
TZNAME:EST
DTSTART:20231105T060000
END:STANDARD
END:VTIMEZONE
BEGIN:VEVENT
DTSTART;TZID=America/Detroit:20220624T143000
DTEND;TZID=America/Detroit:20220624T173000
DTSTAMP:20260423T045345
CREATED:20220525T183400Z
LAST-MODIFIED:20220525T183400Z
UID:10004599-1656081000-1656091800@www.visitglenarbor.com
SUMMARY:Scrap Tire & Mattress Recycling
DESCRIPTION:Scrap Tire recycling and NEW! – Mattress recycling- Friday\, June 24 from 2:30 pm to 5:30 pm at Glen Lake School. \n$1.00/tire\, and $5.00/mattress. (Limit of 4 mattresses). Boxsprings allowed. \nAppointments required. Call 231-256-9812 to make an appointment and payment arrangements. \n\n\nFAQ: \nWhen Are the Household Hazardous Waste & Electronics Collections? \nCollections are held 3 – 4 times per year. YOU MUST BE A LEELANAU COUNTY RESIDENT TO PARTICIPATE. \nSCHEDULE YOUR HHW APPOINTMENT ONLINE  \nIf you need help scheduling your appointment\, call 231-256-9812 or email planning@leelanau.gov for assistance.
URL:https://www.visitglenarbor.com/event/scrap-tire-mattress-recycling/
LOCATION:Glen Lake School\, 3375 W. Burdickville Rd.\, Maple City\, MI\, 49664\, United States
CATEGORIES:Community Events
ATTACH;FMTTYPE=image/png:https://www.visitglenarbor.com/wp-content/uploads/2022/05/recycle_tires-mattresses-graphic-01-e1659377034573.png
END:VEVENT
END:VCALENDAR