BEGIN:VCALENDAR
VERSION:2.0
PRODID:-//Glen Lake Chamber of Commerce - ECPv6.15.19//NONSGML v1.0//EN
CALSCALE:GREGORIAN
METHOD:PUBLISH
X-WR-CALNAME:Glen Lake Chamber of Commerce
X-ORIGINAL-URL:https://www.visitglenarbor.com
X-WR-CALDESC:Events for Glen Lake Chamber of Commerce
REFRESH-INTERVAL;VALUE=DURATION:PT1H
X-Robots-Tag:noindex
X-PUBLISHED-TTL:PT1H
BEGIN:VTIMEZONE
TZID:America/Detroit
BEGIN:DAYLIGHT
TZOFFSETFROM:-0500
TZOFFSETTO:-0400
TZNAME:EDT
DTSTART:20210314T070000
END:DAYLIGHT
BEGIN:STANDARD
TZOFFSETFROM:-0400
TZOFFSETTO:-0500
TZNAME:EST
DTSTART:20211107T060000
END:STANDARD
BEGIN:DAYLIGHT
TZOFFSETFROM:-0500
TZOFFSETTO:-0400
TZNAME:EDT
DTSTART:20220313T070000
END:DAYLIGHT
BEGIN:STANDARD
TZOFFSETFROM:-0400
TZOFFSETTO:-0500
TZNAME:EST
DTSTART:20221106T060000
END:STANDARD
BEGIN:DAYLIGHT
TZOFFSETFROM:-0500
TZOFFSETTO:-0400
TZNAME:EDT
DTSTART:20230312T070000
END:DAYLIGHT
BEGIN:STANDARD
TZOFFSETFROM:-0400
TZOFFSETTO:-0500
TZNAME:EST
DTSTART:20231105T060000
END:STANDARD
END:VTIMEZONE
BEGIN:VEVENT
DTSTART;TZID=America/Detroit:20220418T190000
DTEND;TZID=America/Detroit:20220418T200000
DTSTAMP:20260422T171647
CREATED:20220411T152014Z
LAST-MODIFIED:20220411T153326Z
UID:10003188-1650308400-1650312000@www.visitglenarbor.com
SUMMARY:Premier of Water\, Sand\, and Sky film at Glen Lake Library
DESCRIPTION:Glen Lake Community Library is hosting a premier of the new movie Water\, Sand\, and Sky. The movie focuses on the landscapes\, biodiversity and history of Sleeping Dunes National Lakeshore. Join us in learning more about the 71\,199 acre park that surrounds us. The movie is being presented in various venues in this area. Visit www.nps.gov/slbe for further information.
URL:https://www.visitglenarbor.com/event/premier-showing-of-water-sand-and-sky-movie/
LOCATION:Glen Lake Community Library\, 10115 Front Street\, Empire\, MI\, 49630\, United States
CATEGORIES:Community Events
ATTACH;FMTTYPE=image/jpeg:https://www.visitglenarbor.com/wp-content/uploads/2022/04/titleweb.jpg
ORGANIZER;CN="Sleeping Bear Dunes National Lakeshore":MAILTO:SLBE_programs@nps.gov
END:VEVENT
END:VCALENDAR