BEGIN:VCALENDAR
VERSION:2.0
PRODID:-//Glen Lake Chamber of Commerce - ECPv6.15.19//NONSGML v1.0//EN
CALSCALE:GREGORIAN
METHOD:PUBLISH
X-WR-CALNAME:Glen Lake Chamber of Commerce
X-ORIGINAL-URL:https://www.visitglenarbor.com
X-WR-CALDESC:Events for Glen Lake Chamber of Commerce
REFRESH-INTERVAL;VALUE=DURATION:PT1H
X-Robots-Tag:noindex
X-PUBLISHED-TTL:PT1H
BEGIN:VTIMEZONE
TZID:America/Detroit
BEGIN:DAYLIGHT
TZOFFSETFROM:-0500
TZOFFSETTO:-0400
TZNAME:EDT
DTSTART:20210314T070000
END:DAYLIGHT
BEGIN:STANDARD
TZOFFSETFROM:-0400
TZOFFSETTO:-0500
TZNAME:EST
DTSTART:20211107T060000
END:STANDARD
BEGIN:DAYLIGHT
TZOFFSETFROM:-0500
TZOFFSETTO:-0400
TZNAME:EDT
DTSTART:20220313T070000
END:DAYLIGHT
BEGIN:STANDARD
TZOFFSETFROM:-0400
TZOFFSETTO:-0500
TZNAME:EST
DTSTART:20221106T060000
END:STANDARD
BEGIN:DAYLIGHT
TZOFFSETFROM:-0500
TZOFFSETTO:-0400
TZNAME:EDT
DTSTART:20230312T070000
END:DAYLIGHT
BEGIN:STANDARD
TZOFFSETFROM:-0400
TZOFFSETTO:-0500
TZNAME:EST
DTSTART:20231105T060000
END:STANDARD
END:VTIMEZONE
BEGIN:VEVENT
DTSTART;TZID=America/Detroit:20220219T080000
DTEND;TZID=America/Detroit:20220228T220000
DTSTAMP:20260419T172556
CREATED:20220221T153850Z
LAST-MODIFIED:20220221T153923Z
UID:10004558-1645257600-1646085600@www.visitglenarbor.com
SUMMARY:Neighborhood Forest: Trees for Kids
DESCRIPTION:Parents in the Glen Lake area are invited to order free trees for their kids\, courtesy of Neighborhood Forest\, to be delivered to the Glen Lake Community Library during the last week of April. For more information\, and to submit your online order\, visit the library’s website: glenlakelibrary.net. Deadline for placing orders is February 28.
URL:https://www.visitglenarbor.com/event/neighborhood-forest-trees-for-kids/2022-02-19/
LOCATION:Glen Lake Community Library\, 10115 Front Street\, Empire\, MI\, 49630\, United States
CATEGORIES:Community Events,Kids + Family Friendly
ATTACH;FMTTYPE=image/jpeg:https://www.visitglenarbor.com/wp-content/uploads/2022/02/Neighborhood-Forest-small.jpg
ORGANIZER;CN="Glen Lake Community Library":MAILTO:info@glenlakelibrary.net
END:VEVENT
BEGIN:VEVENT
DTSTART;TZID=America/Detroit:20220223T173000
DTEND;TZID=America/Detroit:20220223T183000
DTSTAMP:20260419T172556
CREATED:20211004T141427Z
LAST-MODIFIED:20211004T141427Z
UID:10004401-1645637400-1645641000@www.visitglenarbor.com
SUMMARY:Yen Yoga at Nature
DESCRIPTION:Join us in an inspiring space for a community yoga class\, held weekly on Wednesday’s at 5:30 pm. Hosted at Nature in Maple City by Yen Yoga & Fitness. \nThis ia an all-level yoga flow class. Please bring your own yoga mat and practice social distancing. \nSign up to participate is required at yenyogafitness.com  You may sign up online up to 8 days in advance\, or feel free to call us at 231-421-5496
URL:https://www.visitglenarbor.com/event/yen-yoga-at-nature/2022-02-23/
LOCATION:Nature\, 2988 W Burdickville Rd\, Maple City\, MI\, 49664\, United States
CATEGORIES:Community Events,Kids + Family Friendly,Recreation
ATTACH;FMTTYPE=image/png:https://www.visitglenarbor.com/wp-content/uploads/2021/03/Green-Inspirational-Spring-Quote-Facebook-Post.png
ORGANIZER;CN="Nature - A Michigan Retreat":MAILTO:admin@naturemichigan.com
END:VEVENT
END:VCALENDAR