BEGIN:VCALENDAR
VERSION:2.0
PRODID:-//Glen Lake Chamber of Commerce - ECPv6.15.19//NONSGML v1.0//EN
CALSCALE:GREGORIAN
METHOD:PUBLISH
X-WR-CALNAME:Glen Lake Chamber of Commerce
X-ORIGINAL-URL:https://www.visitglenarbor.com
X-WR-CALDESC:Events for Glen Lake Chamber of Commerce
REFRESH-INTERVAL;VALUE=DURATION:PT1H
X-Robots-Tag:noindex
X-PUBLISHED-TTL:PT1H
BEGIN:VTIMEZONE
TZID:America/Detroit
BEGIN:DAYLIGHT
TZOFFSETFROM:-0500
TZOFFSETTO:-0400
TZNAME:EDT
DTSTART:20140309T070000
END:DAYLIGHT
BEGIN:STANDARD
TZOFFSETFROM:-0400
TZOFFSETTO:-0500
TZNAME:EST
DTSTART:20141102T060000
END:STANDARD
BEGIN:DAYLIGHT
TZOFFSETFROM:-0500
TZOFFSETTO:-0400
TZNAME:EDT
DTSTART:20150308T070000
END:DAYLIGHT
BEGIN:STANDARD
TZOFFSETFROM:-0400
TZOFFSETTO:-0500
TZNAME:EST
DTSTART:20151101T060000
END:STANDARD
BEGIN:DAYLIGHT
TZOFFSETFROM:-0500
TZOFFSETTO:-0400
TZNAME:EDT
DTSTART:20160313T070000
END:DAYLIGHT
BEGIN:STANDARD
TZOFFSETFROM:-0400
TZOFFSETTO:-0500
TZNAME:EST
DTSTART:20161106T060000
END:STANDARD
BEGIN:DAYLIGHT
TZOFFSETFROM:-0500
TZOFFSETTO:-0400
TZNAME:EDT
DTSTART:20170312T070000
END:DAYLIGHT
BEGIN:STANDARD
TZOFFSETFROM:-0400
TZOFFSETTO:-0500
TZNAME:EST
DTSTART:20171105T060000
END:STANDARD
END:VTIMEZONE
BEGIN:VEVENT
DTSTART;TZID=America/Detroit:20150917T110000
DTEND;TZID=America/Detroit:20160526T120000
DTSTAMP:20260419T190036
CREATED:20150916T232348Z
LAST-MODIFIED:20150916T232348Z
UID:10002580-1442487600-1464264000@www.visitglenarbor.com
SUMMARY:Stories & More for Preschoolers
DESCRIPTION:The Glen Lake Library in Empire invites preschool children and their caregivers to a lively hour of stories\, music\, crafts and other learning activities\, every Thursday morning at 11:00 am during the 2015-2016 school year. \nThese sessions are free\, thanks to support from the Friends of the Glen Lake Library\, and no advance registration is required. \nEvery Thursday morning at 11:00 am\, during the 2015-2016 school year
URL:https://www.visitglenarbor.com/event/stories-more-for-preschoolers/
LOCATION:Glen Lake Community Library\, 10115 Front Street\, Empire\, MI\, 49630\, United States
CATEGORIES:Community Events
ATTACH;FMTTYPE=:
ORGANIZER;CN="Glen Lake Community Library":MAILTO:info@glenlakelibrary.net
END:VEVENT
BEGIN:VEVENT
DTSTART;TZID=America/Detroit:20160520T190000
DTEND;TZID=America/Detroit:20160522T180000
DTSTAMP:20260419T190036
CREATED:20160512T202430Z
LAST-MODIFIED:20160512T202430Z
UID:10002669-1463770800-1463940000@www.visitglenarbor.com
SUMMARY:Asparagus Festival May 20th\, 21st & 22nd
DESCRIPTION:Empire Asparagus Festival – May 20th\, 21st & 22nd\, 2016 \nFriday\, May 20th \n7:00pm to 10:00pm – Dance & Pig Roast  \nENTRY FEE $5.00 under 16 FREE \nPIGROAST EXTRA \nFront St. Empire – Click here for directions \n  \n  \nCome Dance & Dine on Art’s Taverns famous Pig Roast and wash it down with one of your favorite Right Brain Brewery Brew!! It will be a foot-stompin’ butt swingin’ good time with music from STROBELITE HONEY!!!! \n  \nSaturday\, May 21st \n10:00 AM – 5K Kick Ass-paragus Fun Run/Walk \nRegistration for the run starts at 9.00am at Empire Public Beach \nClick here for more info on the run! \n  \nNOON – Asparagus Recipe Contest Asparagus Cook-Off \nDue to the events popularity the audience will be limited to a first come first served 100 people in line \n2016 Recipe Entry Form \n  \n1:00PM to 4:00PM –  Empire Area Museum is open. \nClick here to visit our site \n  \n2.00pm ODE to ASPARAGUS POETRY Competition \nChildren\, Youth & Adult Catergories with Prizes for esch. \nPlease send entries Including Name\, Age and Contact info via email to info@glenlakelibrary.net \n  \n3 pm to 4pm CHILDREN’S FAVORITE GORDON RUSS & his COMEDY MAGIC REVUE \nUnder the Big Tent on Front Street \n  \n4pm PARADE \nPlease e-mail Ashlea if you’re interested in being in the parade at besquirrely@gmail.com. Must salute to asparagus! \n  \nMusic \n1pm thru 3pm  – Miles Prendergast Band \n4pm thru 6pm – Benjamin James & The Old Mission Collective   \nhttp://www.benjamanjamesmusic.com/about/ \n  \n7pm thru 9pm The Benzie Playboys \n  \n  \nAsparagus Eats plus Wine and Beer Tasting under The BIG TENT \nNOON. thru 9:00 p.m.  \nENTRY FEE $5.00 under 16 FREE \n  \nFOOD VENDORS \nHearth & Vine Black Star Farms http://www.blackstarfarms.com/dining/hearth-vine/ \nDeerings Market \nScalawags Fish & Chips http://scalawagstc.com/ \nMI Grill (Baytown Kitchen) http://baytownkitchen.com/ \nFire Dog Artisan Pizza \nArt’s Tavern http://www.artsglenarbor.com/ \nKontiki Foods \nLittle Traverse Inn \nThe Manor on Glen Lake \nNorconk’s Fresh Asparagus \n  \nBREWERIES & VINTNERS \nRight Brain Brewery http://www.rightbrainbrewery.com \nBlack Star Farms http://www.blackstarfarms.com \nBel Largo Vineyard & Winery \nLaurentide Winery http://laurentidewinery.com \nSt. Ambrose Cellars http://www.stambrose-mead-wine.com \nLake Ann Brewery \nAccoustic Mead http://www.drinkacoustic.com \n  \n1pm Asparagus Festival Foot Golf Tournament \nAt The Dunes Golf Club two man teams set up as a scramble. Each player will kick off and then take the best shot to kick from again\, until they hole out. Prizes for closest to the Asparagus Spear & longest kick. Cost $20 per person includes free soda water & snacks. For more info contact Chris wall at cwall@centurytel.net \n  \nSunday\, May 22nd \nSunday May 19th Empire Lions Club Famous Breakfast \n8am to noon at the Empire Township Hall \n  \nEMPIRE AREA COMMUNITY CENTER FUNDRAISER CONCERT \nDennis Palmer & Friends \nPlace – The Village Inn\, Empire \nTime – 4 pm to 6 pm
URL:https://www.visitglenarbor.com/event/asparagus-festival-may-20th-21st-22nd/
LOCATION:MI
CATEGORIES:Chamber Events,Community Events,Music,Race,Recreation
ATTACH;FMTTYPE=:
ORGANIZER;CN="Empire Area Chamber of Commerce":MAILTO: EmpireAreaCommunityCenter@gmail.com 
END:VEVENT
BEGIN:VEVENT
DTSTART;TZID=America/Detroit:20160521T020000
DTEND;TZID=America/Detroit:20160521T150000
DTSTAMP:20260419T190036
CREATED:20160517T005428Z
LAST-MODIFIED:20200309T054730Z
UID:10002670-1463796000-1463842800@www.visitglenarbor.com
SUMMARY:Asparagus Poetry Contest
DESCRIPTION:The Glen Lake Library will host an asparagus-themed poetry contest & reading as part of the upcoming Empire Asparagus Festival. Poems should be submitted to the library by Thursday\, May 19 to be considered for the contest. Call the library for details: 326-5361; or see our website: www.glenlakelibrary.net.
URL:https://www.visitglenarbor.com/event/asparagus-poetry-contest/
LOCATION:Glen Lake Community Library\, 10115 Front Street\, Empire\, MI\, 49630\, United States
CATEGORIES:Community Events
ATTACH;FMTTYPE=image/jpeg:https://www.visitglenarbor.com/wp-content/uploads/2020/03/Ode-to-Asparagus.jpg
ORGANIZER;CN="Glen Lake Community Library":MAILTO:info@glenlakelibrary.net
END:VEVENT
END:VCALENDAR