BEGIN:VCALENDAR
VERSION:2.0
PRODID:-//Glen Lake Chamber of Commerce - ECPv6.15.19//NONSGML v1.0//EN
CALSCALE:GREGORIAN
METHOD:PUBLISH
X-ORIGINAL-URL:https://www.visitglenarbor.com
X-WR-CALDESC:Events for Glen Lake Chamber of Commerce
REFRESH-INTERVAL;VALUE=DURATION:PT1H
X-Robots-Tag:noindex
X-PUBLISHED-TTL:PT1H
BEGIN:VTIMEZONE
TZID:America/Detroit
BEGIN:DAYLIGHT
TZOFFSETFROM:-0500
TZOFFSETTO:-0400
TZNAME:EDT
DTSTART:20240310T070000
END:DAYLIGHT
BEGIN:STANDARD
TZOFFSETFROM:-0400
TZOFFSETTO:-0500
TZNAME:EST
DTSTART:20241103T060000
END:STANDARD
BEGIN:DAYLIGHT
TZOFFSETFROM:-0500
TZOFFSETTO:-0400
TZNAME:EDT
DTSTART:20250309T070000
END:DAYLIGHT
BEGIN:STANDARD
TZOFFSETFROM:-0400
TZOFFSETTO:-0500
TZNAME:EST
DTSTART:20251102T060000
END:STANDARD
BEGIN:DAYLIGHT
TZOFFSETFROM:-0500
TZOFFSETTO:-0400
TZNAME:EDT
DTSTART:20260308T070000
END:DAYLIGHT
BEGIN:STANDARD
TZOFFSETFROM:-0400
TZOFFSETTO:-0500
TZNAME:EST
DTSTART:20261101T060000
END:STANDARD
END:VTIMEZONE
BEGIN:VEVENT
DTSTART;TZID=America/Detroit:20251102T170000
DTEND;TZID=America/Detroit:20251102T190000
DTSTAMP:20260421T001606
CREATED:20251014T151945Z
LAST-MODIFIED:20251014T151945Z
UID:10008433-1762102800-1762110000@www.visitglenarbor.com
SUMMARY:Trivia Night!
DESCRIPTION:Think you’ve got what it takes to be the trivia champ? Join us every Sunday evening at Cherry Public House for a brain-boosting good time with Trivia Night\, hosted by the legendary Quizmaster Whoot! 🍻 \n🧠 Test your knowledge across pop culture\, history\, music\, and more\n🍔 Enjoy delicious food and drink specials all evening\n🏆 Prizes for top teams – bring your A-game! \nGrab your smartest friends\, snag a table\, and settle in for two hours of laughs\, surprises\, and fierce-but-friendly competition. Walk-ins welcome — fun guaranteed!
URL:https://www.visitglenarbor.com/event/trivia-night-3/2025-11-02/
LOCATION:Cherry Public House\, 6026 South Lake Street\, Glen Arbor\, MI\, 49636
CATEGORIES:Community Events,Food/Dining Event,Kids + Family Friendly
ATTACH;FMTTYPE=image/jpeg:https://www.visitglenarbor.com/wp-content/uploads/2025/10/trivia_night_0.jpg
ORGANIZER;CN="Cherry Republic":MAILTO:experience@cherryrepublic.com
END:VEVENT
BEGIN:VEVENT
DTSTART;TZID=America/Detroit:20251106T190000
DTEND;TZID=America/Detroit:20251106T200000
DTSTAMP:20260421T001606
CREATED:20251108T043655Z
LAST-MODIFIED:20251108T043655Z
UID:10008514-1762455600-1762459200@www.visitglenarbor.com
SUMMARY:Saving the Farm
DESCRIPTION:The Leelanau County Historic Preservation Society will present their new documentary film\, Saving the Barn: the Leelanau County Poor Farm. The film relates the history of this landmark and the dedicated effort to preserve the iconic barn. The LCHPS will also provide an update on new projects ad their vision for the future.
URL:https://www.visitglenarbor.com/event/saving-the-farm/
LOCATION:Glen Lake Community Library\, 10115 Front Street\, Empire\, MI\, 49630\, United States
CATEGORIES:Community Events
ATTACH;FMTTYPE=image/jpeg:https://www.visitglenarbor.com/wp-content/uploads/2025/10/504960165_1282198136595045_614003215124759411_n.jpg
END:VEVENT
BEGIN:VEVENT
DTSTART;TZID=America/Detroit:20251108T110000
DTEND;TZID=America/Detroit:20251108T120000
DTSTAMP:20260421T001606
CREATED:20251108T043645Z
LAST-MODIFIED:20251108T043645Z
UID:10008513-1762599600-1762603200@www.visitglenarbor.com
SUMMARY:Apply with Confidence: GAAC Artist Exhibit Application Tutorial
DESCRIPTION:Want to apply to one of the Glen Arbor Arts Center’s 2026 exhibitions\, but not sure of the process? The GAAC will host a one-hour tutorial about its online application process November 8\, 11 am. There is no charge. \nGallery Manager Sarah Bearup-Neal will discuss how to apply using the online application\, creating effective photographic images of one’s artwork\, and writing an artist’s statement. Bearup-Neal will also provide an overview of the GAAC’s 2026 season of exhibitions\, the 2026 artist-in-residence program\, and deadlines for submissions. This tutorial is open to people interested in exhibiting their artwork\, both novice and experienced exhibitors.
URL:https://www.visitglenarbor.com/event/apply-with-confidence-gaac-artist-exhibit-application-tutorial/
LOCATION:Glen Arbor Arts Center\, 6031 S. Lake Street\, Glen Arbor\, MI\, 49636
CATEGORIES:Community Events
ATTACH;FMTTYPE=image/jpeg:https://www.visitglenarbor.com/wp-content/uploads/2025/10/2025-4-4-Walking_resized-scaled.jpg
ORGANIZER;CN="Glen Arbor Arts Center":MAILTO:director@glenarborart.org
END:VEVENT
BEGIN:VEVENT
DTSTART;TZID=America/Detroit:20251108T140000
DTEND;TZID=America/Detroit:20251108T150000
DTSTAMP:20260421T001606
CREATED:20251108T043734Z
LAST-MODIFIED:20251108T043734Z
UID:10008516-1762610400-1762614000@www.visitglenarbor.com
SUMMARY:Map-Making Workshop
DESCRIPTION:Artists Jerry Gretzinger and Meg Staley will lead this afternoon workshop.  Using the accalimed Jerry’s Map as inspiration\, participants will creative map tiles charting their own imaginary workshop.  A portion of Jerry’s Map is currently on display at the library.  Space is limited for this workshop so please contact the library (231.326.5361) to register before November 8.
URL:https://www.visitglenarbor.com/event/map-making-workshop/
LOCATION:Glen Lake Community Library\, 10115 Front Street\, Empire\, MI\, 49630\, United States
CATEGORIES:Community Events
ATTACH;FMTTYPE=image/jpeg:https://www.visitglenarbor.com/wp-content/uploads/2025/10/Jerry-Gretzinger.jpeg
END:VEVENT
BEGIN:VEVENT
DTSTART;TZID=America/Detroit:20251109T170000
DTEND;TZID=America/Detroit:20251109T190000
DTSTAMP:20260421T001606
CREATED:20251014T151945Z
LAST-MODIFIED:20251014T151945Z
UID:10008434-1762707600-1762714800@www.visitglenarbor.com
SUMMARY:Trivia Night!
DESCRIPTION:Think you’ve got what it takes to be the trivia champ? Join us every Sunday evening at Cherry Public House for a brain-boosting good time with Trivia Night\, hosted by the legendary Quizmaster Whoot! 🍻 \n🧠 Test your knowledge across pop culture\, history\, music\, and more\n🍔 Enjoy delicious food and drink specials all evening\n🏆 Prizes for top teams – bring your A-game! \nGrab your smartest friends\, snag a table\, and settle in for two hours of laughs\, surprises\, and fierce-but-friendly competition. Walk-ins welcome — fun guaranteed!
URL:https://www.visitglenarbor.com/event/trivia-night-3/2025-11-09/
LOCATION:Cherry Public House\, 6026 South Lake Street\, Glen Arbor\, MI\, 49636
CATEGORIES:Community Events,Food/Dining Event,Kids + Family Friendly
ATTACH;FMTTYPE=image/jpeg:https://www.visitglenarbor.com/wp-content/uploads/2025/10/trivia_night_0.jpg
ORGANIZER;CN="Cherry Republic":MAILTO:experience@cherryrepublic.com
END:VEVENT
BEGIN:VEVENT
DTSTART;TZID=America/Detroit:20251114T180000
DTEND;TZID=America/Detroit:20251114T200000
DTSTAMP:20260421T001606
CREATED:20251021T180955Z
LAST-MODIFIED:20251021T180955Z
UID:10008512-1763143200-1763150400@www.visitglenarbor.com
SUMMARY:A GRATEFUL GATHERING
DESCRIPTION:Enjoy holiday refreshments\, and morsels at the Glen Arbor Arts Center’s Grateful Gathering\, November 14\, 6-8 pm. The Grateful Gathering opens the GAAC’s 2025 Small Works Holiday Exhibition\, an annual showcase of 2D + 3D work that offers small\, original art at affordable prices\, $150 or less. The exhibition is November 5 – December 17\, 2025\, and features more than 100 works of art\, 12” x 12” or smaller\, by 19 artists working in glass\, mixed media\, collage\, needlework\, paper\, paint\, clay\, and photography.\nThe Small Works exhibit may be previewed\, either in the GAAC gallery or online from November 5 – 13. Small Works objects will be available for purchase at the Grateful Gathering on November 14\, 6 – 8 pm. Artwork purchases continue through December 17. For more information go to GlenArborArt.org / EVENTS.
URL:https://www.visitglenarbor.com/event/a-grateful-gathering/
LOCATION:Glen Arbor Arts Center\, 6031 S. Lake Street\, Glen Arbor\, MI\, 49636
CATEGORIES:Art/Gallery/Exhibit,Community Events
ATTACH;FMTTYPE=image/jpeg:https://www.visitglenarbor.com/wp-content/uploads/2025/10/XXXXXXXXgift-bag-scaled.jpg
END:VEVENT
BEGIN:VEVENT
DTSTART;TZID=America/Detroit:20251116T170000
DTEND;TZID=America/Detroit:20251116T190000
DTSTAMP:20260421T001606
CREATED:20251014T151945Z
LAST-MODIFIED:20251014T151945Z
UID:10008435-1763312400-1763319600@www.visitglenarbor.com
SUMMARY:Trivia Night!
DESCRIPTION:Think you’ve got what it takes to be the trivia champ? Join us every Sunday evening at Cherry Public House for a brain-boosting good time with Trivia Night\, hosted by the legendary Quizmaster Whoot! 🍻 \n🧠 Test your knowledge across pop culture\, history\, music\, and more\n🍔 Enjoy delicious food and drink specials all evening\n🏆 Prizes for top teams – bring your A-game! \nGrab your smartest friends\, snag a table\, and settle in for two hours of laughs\, surprises\, and fierce-but-friendly competition. Walk-ins welcome — fun guaranteed!
URL:https://www.visitglenarbor.com/event/trivia-night-3/2025-11-16/
LOCATION:Cherry Public House\, 6026 South Lake Street\, Glen Arbor\, MI\, 49636
CATEGORIES:Community Events,Food/Dining Event,Kids + Family Friendly
ATTACH;FMTTYPE=image/jpeg:https://www.visitglenarbor.com/wp-content/uploads/2025/10/trivia_night_0.jpg
ORGANIZER;CN="Cherry Republic":MAILTO:experience@cherryrepublic.com
END:VEVENT
BEGIN:VEVENT
DTSTART;TZID=America/Detroit:20251120T150000
DTEND;TZID=America/Detroit:20251120T180000
DTSTAMP:20260421T001606
CREATED:20250610T145035Z
LAST-MODIFIED:20251002T121544Z
UID:10008388-1763650800-1763661600@www.visitglenarbor.com
SUMMARY:Live Music at French Valley: John Paul
DESCRIPTION:Join us at French Valley Vineyard for an evening of live music by John Paul.
URL:https://www.visitglenarbor.com/event/live-music-at-french-valley-john-paul/
LOCATION:French Valley Vineyard\, 3655 South French Road\, cedar\, MI\, 49621\, United States
CATEGORIES:Community Events,Music,Wine/Beer or Tasting Event
ATTACH;FMTTYPE=image/png:https://www.visitglenarbor.com/wp-content/uploads/2025/06/FVV-MUSIC-1-LIVE-MUSIC-GRAPHIC-COMMUNITY-CALENDARS.png
ORGANIZER;CN="French Valley Vineyard":MAILTO:info@fvvineyard.com
END:VEVENT
BEGIN:VEVENT
DTSTART;TZID=America/Detroit:20251123T170000
DTEND;TZID=America/Detroit:20251123T190000
DTSTAMP:20260421T001606
CREATED:20251014T151945Z
LAST-MODIFIED:20251014T151945Z
UID:10008436-1763917200-1763924400@www.visitglenarbor.com
SUMMARY:Trivia Night!
DESCRIPTION:Think you’ve got what it takes to be the trivia champ? Join us every Sunday evening at Cherry Public House for a brain-boosting good time with Trivia Night\, hosted by the legendary Quizmaster Whoot! 🍻 \n🧠 Test your knowledge across pop culture\, history\, music\, and more\n🍔 Enjoy delicious food and drink specials all evening\n🏆 Prizes for top teams – bring your A-game! \nGrab your smartest friends\, snag a table\, and settle in for two hours of laughs\, surprises\, and fierce-but-friendly competition. Walk-ins welcome — fun guaranteed!
URL:https://www.visitglenarbor.com/event/trivia-night-3/2025-11-23/
LOCATION:Cherry Public House\, 6026 South Lake Street\, Glen Arbor\, MI\, 49636
CATEGORIES:Community Events,Food/Dining Event,Kids + Family Friendly
ATTACH;FMTTYPE=image/jpeg:https://www.visitglenarbor.com/wp-content/uploads/2025/10/trivia_night_0.jpg
ORGANIZER;CN="Cherry Republic":MAILTO:experience@cherryrepublic.com
END:VEVENT
BEGIN:VEVENT
DTSTART;TZID=America/Detroit:20251127T100000
DTEND;TZID=America/Detroit:20251127T110000
DTSTAMP:20260421T001606
CREATED:20251108T043717Z
LAST-MODIFIED:20251108T043717Z
UID:10008515-1764237600-1764241200@www.visitglenarbor.com
SUMMARY:Thanksgiving Day Church Service
DESCRIPTION:The community is invited to come together for an inspirational Thanksgiving Day Service at 10am on Nov. 27\, 2025 at First Church of Christ\, Scientist\, 6753 W. Harbor Hwy (M-109) in Glen Arbor. It includes the reading of the Thanksgiving Proclamation of the President of the United States\, or the Governor of the state\, or both. Also hymns\, prayers\, vocal solo\, a short sermon\, expressions of gratitude by the congregation\, and testimonies of healing by Christian Scientists\, appropriate for the occasion. All are welcome
URL:https://www.visitglenarbor.com/event/thanksgiving-day-church-service/
LOCATION:MI
CATEGORIES:Community Events
ATTACH;FMTTYPE=image/jpeg:https://www.visitglenarbor.com/wp-content/uploads/2025/10/Thanksgiving-Service-Ad-as-jpg.jpg
END:VEVENT
BEGIN:VEVENT
DTSTART;TZID=America/Detroit:20251128T090000
DTEND;TZID=America/Detroit:20251128T093000
DTSTAMP:20260421T001606
CREATED:20251105T192809Z
LAST-MODIFIED:20251105T193109Z
UID:10008519-1764320400-1764322200@www.visitglenarbor.com
SUMMARY:Bed Parade 2025
DESCRIPTION:The fun and quirky Bed Parade rolls back into town the day after Thanksgiving — one of Glen Arbor’s many holiday traditions. You’re invited to watch the spectacle from the curb and cheer on participants as they roll their festively decorated beds on wheels down Western Avenue — or join in the fun by bringing your own creatively adorned bed! \nWant to participate?Rally your crew and haul your creativity to town for a 9am parade start on Friday\, November 28\, 2025. The parade will begin near the Pine Cone and wrap up by the Post Office and Art’s Tavern. Afterward\, warm up and celebrate with a post-parade treat from Leelanau Coffee Roasters or Art’s Tavern\, both open for breakfast. \nThis event is open to everyone. No registration required.Sponsored by Becky Thatcher Designs. Questions? Contact Michael Lyons at (630) 776-0036 or michaell@worthathousandwords.com
URL:https://www.visitglenarbor.com/event/bed-parade-2025/
LOCATION:MI
CATEGORIES:Community Events,Kids + Family Friendly
ATTACH;FMTTYPE=image/jpeg:https://www.visitglenarbor.com/wp-content/uploads/2021/11/Bed-Parade_Glen-Arbor_IMG_2639-scaled-e1637086424201.jpg
END:VEVENT
BEGIN:VEVENT
DTSTART;TZID=America/Detroit:20251128T110000
DTEND;TZID=America/Detroit:20251128T153000
DTSTAMP:20260421T001606
CREATED:20251120T135538Z
LAST-MODIFIED:20251120T135627Z
UID:10008530-1764327600-1764343800@www.visitglenarbor.com
SUMMARY:Glen Lake Library Community Blood Drive
DESCRIPTION:Celebrate the Holiday of Hope by donating blood in the Program Room of the Glen Lake Library. Appointments are preferred. To set up an appointment call 866.642.5653 or visit: versiti.org/mi. Walk-ins are welcome as the schedule allows. As a thank you\, all attempting donors with a valid email will receive a $25 e-gift card.
URL:https://www.visitglenarbor.com/event/glen-lake-library-community-blood-drive-2/
LOCATION:Glen Lake Community Library\, 10115 Front Street\, Empire\, MI\, 49630\, United States
CATEGORIES:Community Events
ATTACH;FMTTYPE=image/jpeg:https://www.visitglenarbor.com/wp-content/uploads/2025/11/blood-donation-2.jpg
END:VEVENT
BEGIN:VEVENT
DTSTART;TZID=America/Detroit:20251128T181500
DTEND;TZID=America/Detroit:20251128T200000
DTSTAMP:20260421T001606
CREATED:20251106T163813Z
LAST-MODIFIED:20251106T163813Z
UID:10008521-1764353700-1764360000@www.visitglenarbor.com
SUMMARY:Tree Lighting\, Caroling + Marketplace Preview Party
DESCRIPTION:Kick off the holiday season in Glen Arbor with an evening of small-town charm and cheer! Gather outside the Town Hall at 6:15pm for the Tree Lighting and joyous Community Caroling\, led by Glen Lake Church. \nThen\, step inside for the Holiday Market Preview Party from 6:30–8pm\, where you’ll be among the first to shop an amazing selection of gifts and goods from 25+ local artists and makers. Enjoy a heartwarming start to the holiday season in Glen Arbor! \n\nThere’s more to enjoy\, shop the Holiday Marketplace on Saturday from 10am-3pm. During the Market\, families and children are invited to meet Santa & Mrs Claus @ the M22 Wine Patio from 11am-1pm for festive photo opportunities. Learn More. 
URL:https://www.visitglenarbor.com/event/tree-lighting-caroling-marketplace-preview-party/
LOCATION:Glen Arbor Town Hall\, MI\, United States
CATEGORIES:Community Events,Kids + Family Friendly,Shopping
ATTACH;FMTTYPE=image/jpeg:https://www.visitglenarbor.com/wp-content/uploads/2025/11/tree-lighting_holiday-market-glen-arbor-22_by-Michele-Aucello_DSC4892.jpeg
END:VEVENT
BEGIN:VEVENT
DTSTART;TZID=America/Detroit:20251130T170000
DTEND;TZID=America/Detroit:20251130T190000
DTSTAMP:20260421T001606
CREATED:20251014T151945Z
LAST-MODIFIED:20251014T151945Z
UID:10008437-1764522000-1764529200@www.visitglenarbor.com
SUMMARY:Trivia Night!
DESCRIPTION:Think you’ve got what it takes to be the trivia champ? Join us every Sunday evening at Cherry Public House for a brain-boosting good time with Trivia Night\, hosted by the legendary Quizmaster Whoot! 🍻 \n🧠 Test your knowledge across pop culture\, history\, music\, and more\n🍔 Enjoy delicious food and drink specials all evening\n🏆 Prizes for top teams – bring your A-game! \nGrab your smartest friends\, snag a table\, and settle in for two hours of laughs\, surprises\, and fierce-but-friendly competition. Walk-ins welcome — fun guaranteed!
URL:https://www.visitglenarbor.com/event/trivia-night-3/2025-11-30/
LOCATION:Cherry Public House\, 6026 South Lake Street\, Glen Arbor\, MI\, 49636
CATEGORIES:Community Events,Food/Dining Event,Kids + Family Friendly
ATTACH;FMTTYPE=image/jpeg:https://www.visitglenarbor.com/wp-content/uploads/2025/10/trivia_night_0.jpg
ORGANIZER;CN="Cherry Republic":MAILTO:experience@cherryrepublic.com
END:VEVENT
END:VCALENDAR