BEGIN:VCALENDAR
VERSION:2.0
PRODID:-//Glen Lake Chamber of Commerce - ECPv6.15.19//NONSGML v1.0//EN
CALSCALE:GREGORIAN
METHOD:PUBLISH
X-ORIGINAL-URL:https://www.visitglenarbor.com
X-WR-CALDESC:Events for Glen Lake Chamber of Commerce
REFRESH-INTERVAL;VALUE=DURATION:PT1H
X-Robots-Tag:noindex
X-PUBLISHED-TTL:PT1H
BEGIN:VTIMEZONE
TZID:America/Detroit
BEGIN:DAYLIGHT
TZOFFSETFROM:-0500
TZOFFSETTO:-0400
TZNAME:EDT
DTSTART:20210314T070000
END:DAYLIGHT
BEGIN:STANDARD
TZOFFSETFROM:-0400
TZOFFSETTO:-0500
TZNAME:EST
DTSTART:20211107T060000
END:STANDARD
BEGIN:DAYLIGHT
TZOFFSETFROM:-0500
TZOFFSETTO:-0400
TZNAME:EDT
DTSTART:20220313T070000
END:DAYLIGHT
BEGIN:STANDARD
TZOFFSETFROM:-0400
TZOFFSETTO:-0500
TZNAME:EST
DTSTART:20221106T060000
END:STANDARD
BEGIN:DAYLIGHT
TZOFFSETFROM:-0500
TZOFFSETTO:-0400
TZNAME:EDT
DTSTART:20230312T070000
END:DAYLIGHT
BEGIN:STANDARD
TZOFFSETFROM:-0400
TZOFFSETTO:-0500
TZNAME:EST
DTSTART:20231105T060000
END:STANDARD
END:VTIMEZONE
BEGIN:VEVENT
DTSTART;TZID=America/Detroit:20220703T080000
DTEND;TZID=America/Detroit:20220703T120000
DTSTAMP:20260423T113626
CREATED:20220628T140644Z
LAST-MODIFIED:20220628T140838Z
UID:10004655-1656835200-1656849600@www.visitglenarbor.com
SUMMARY:Glen Lake Fire Department Pancake Breakfast
DESCRIPTION:This is a fund raiser sponsored by the Glen Lake Fire and Rescue Association. The funds are used to purchase items for the Glen Lake Fire Department. The breakfast is cooked and served by the firefighters. Come and show your support for our first responders.
URL:https://www.visitglenarbor.com/event/glen-lake-fire-department-pancake-breakfast/
LOCATION:Glen Arbor Township Hall
CATEGORIES:Community Events,Food/Dining Event,Kids + Family Friendly
ATTACH;FMTTYPE=image/jpeg:https://www.visitglenarbor.com/wp-content/uploads/2020/03/stack-of-pancake_breakfast-e1425678759575.jpg
END:VEVENT
BEGIN:VEVENT
DTSTART;TZID=America/Detroit:20220704T100000
DTEND;TZID=America/Detroit:20220704T110000
DTSTAMP:20260423T113626
CREATED:20220118T201616Z
LAST-MODIFIED:20220628T142401Z
UID:10004552-1656928800-1656932400@www.visitglenarbor.com
SUMMARY:Flag Raising Ceremony
DESCRIPTION:Celebrate the founding of our nation in a patriotic\, joyous ceremony with community members of all ages. Major Patrick Hopple\, a member of the Judge Advocate General’s Corps\, US Army Reserve\, and a 1999 graduate of Glen Lake Schools\, will be the featured speaker. His presentation is titled Liberty and Service. The flag will be raised by members of the Glen Lake Fire Department. A crowd favorite is the singalong of well-loved and familiar patriotic songs that closes the program. \nThe Flag Raising Ceremony begins at 10 am\, July 4th\, at the Old Settlers Picnic Grounds\, located on the south eastern shore of Glen Lake near the corner of Dunn’s Farm Rd. (CR 675) and Burdickville Rd (CR 616). Please bring your own lawn chairs. Event sponsored by Glen Lake Woman’s Club. \nThe Glen Lake Woman’s Club was established in 1937 with a mission to foster social\, civic and educational projects. In addition to the Art Fair\, other Club projects include the improvement and beautification of the Chapel and grounds at Old Settlers Park\, organization of the community Flag Raising Ceremony at Old Settlers Park\, and a Christmas party for residents of the Maple Lake Valley Nursing Home. \n\nOther patriotic events you might like…\nFire Dept. Pancake Breakfast \n\nThe 4th of July Parade in Glen Arbor\n\nGlen Lake Boat Parade
URL:https://www.visitglenarbor.com/event/flag-raising-ceremony-2022/
LOCATION:Old Settler’s Park\, South Dunns Farm Road (County Road 675)\, Empire Township\, MI\, United States
CATEGORIES:Community Events,Kids + Family Friendly
ATTACH;FMTTYPE=image/jpeg:https://www.visitglenarbor.com/wp-content/uploads/2020/03/Glen-Lake-Fire-Department-members-raising-the-flag-at-Old-Settlers-Park-scaled.jpg
END:VEVENT
BEGIN:VEVENT
DTSTART;TZID=America/Detroit:20220704T120000
DTEND;TZID=America/Detroit:20220704T140000
DTSTAMP:20260423T113626
CREATED:20220601T170830Z
LAST-MODIFIED:20220628T142458Z
UID:10004605-1656936000-1656943200@www.visitglenarbor.com
SUMMARY:4th of July Parade 2022
DESCRIPTION:Join us July 4th\, 2022 for the 60th Fourth of July Parade\, from Glen Haven to Glen Arbor.\n10:30am Organization and lineup of parade participants begins at 10:30 in Glen Haven. The lineup is organized by volunteers\, and look for Stan Brubaker in his usual YELLOW SHIRT. If you’re a walker joining the parade\, please enter the parade closer to town\, via Forest Haven Rd. Anyone is welcome to participate. No registration required.  \n12pm the line up will roar slowly out of Glen Haven to parade into Glen Arbor. \nParade Marshall TBD. \n\n			\n				\n			\n				\n				carrying the American flag\n				\n			\n				\n			\n				\n				military vehicles in the parade\n				\n			\n				\n			\n				\n				mom and child watching the parade\n				\n			\n				\n			\n				\n				sleeping bear dunesmobile\n				\n			\n				\n			\n				\n				camp kohana\n				\n			\n				\n			\n				\n				GLFD in the parade\n				\n		\n\n\nNote: All those watching and attending the parade are encourage to stay on the sidewalks and out of the street. Please be respectful\, please be safe. No organization is in charge of this parade. It’s simply a bunch of Americans showing their gratitude and patriotism in an old-fashion\, small town way. This parade celebration would not be possible without volunteers and street sweepers (we always could use more!) Thank you America\, paraders\, volunteers\, Glen Lake Fire Department\, Sheriff’s Dept. and supporters. \nGlen Arbor Parade photos by Raquel Jackson\, Rockwell Art + Design \n\nOther patriotic events you might like…\nFire Dept. Pancake Breakfast \nFlag Raising Ceremony \n\nGlen Lake Boat Parade
URL:https://www.visitglenarbor.com/event/4th-of-july-parade-2022/
LOCATION:Downtown Glen Arbor\, Glen Arbor\, MI\, 49636\, United States
CATEGORIES:Community Events,Kids + Family Friendly
ATTACH;FMTTYPE=image/jpeg:https://www.visitglenarbor.com/wp-content/uploads/2020/03/IMG_7454-scaled-e1579547746362.jpg
END:VEVENT
BEGIN:VEVENT
DTSTART;TZID=America/Detroit:20220706T173000
DTEND;TZID=America/Detroit:20220706T183000
DTSTAMP:20260423T113626
CREATED:20211004T141427Z
LAST-MODIFIED:20211004T141427Z
UID:10004420-1657128600-1657132200@www.visitglenarbor.com
SUMMARY:Yen Yoga at Nature
DESCRIPTION:Join us in an inspiring space for a community yoga class\, held weekly on Wednesday’s at 5:30 pm. Hosted at Nature in Maple City by Yen Yoga & Fitness. \nThis ia an all-level yoga flow class. Please bring your own yoga mat and practice social distancing. \nSign up to participate is required at yenyogafitness.com  You may sign up online up to 8 days in advance\, or feel free to call us at 231-421-5496
URL:https://www.visitglenarbor.com/event/yen-yoga-at-nature/2022-07-06/
LOCATION:Nature\, 2988 W Burdickville Rd\, Maple City\, MI\, 49664\, United States
CATEGORIES:Community Events,Kids + Family Friendly,Recreation
ATTACH;FMTTYPE=image/png:https://www.visitglenarbor.com/wp-content/uploads/2021/03/Green-Inspirational-Spring-Quote-Facebook-Post.png
ORGANIZER;CN="Nature - A Michigan Retreat":MAILTO:admin@naturemichigan.com
END:VEVENT
BEGIN:VEVENT
DTSTART;TZID=America/Detroit:20220710T110000
DTEND;TZID=America/Detroit:20220710T150000
DTSTAMP:20260423T113626
CREATED:20220607T211940Z
LAST-MODIFIED:20220610T151831Z
UID:10004637-1657450800-1657465200@www.visitglenarbor.com
SUMMARY:July Artist PopUP + Demo at the GAAC
DESCRIPTION:The Glen Arbor Arts Center’s second\, 2022 artist PopUP is July 10\, 11 am – 3 pm at the GAAC. The PopUP turns the GAAC’s front yard and parking area into open-air exhibition and music venues.\nThe Artist PopUP is an annual summer event. It’s an opportunity for visitors to watch and ask makers about their work\, and to gain insights into creative process. The July PopUP features these makers: \nNancy McRay – weaving\nJudy Kelly – nature journaling\nJoe Lombardo – plein air painting [11am -1 pm]\nTraverse City Dance Project\nJohn Huston – raku firing\nSue Nichols – felting\nJessica Kovan – mixed media\nBarb Reich – pastel painting\nScott Lankton – blacksmith with the Forging for Peace project \nThe PopUP is part of the GAAC’s 6ft Apart Art Series. It’s free and open to the public. For more information go to GlenArborArt.org/EVENTS. The GAAC is located at 6031 S. Lake St.\, Glen Arbor.
URL:https://www.visitglenarbor.com/event/july-artist-popup-demo-at-the-gaac/
LOCATION:Glen Arbor Arts Center\, 6031 S. Lake Street\, Glen Arbor\, MI\, 49636
CATEGORIES:Art/Gallery/Exhibit,Community Events,Kids + Family Friendly
ATTACH;FMTTYPE=image/jpeg:https://www.visitglenarbor.com/wp-content/uploads/2022/06/6FtApart_Webslide.jpg
ORGANIZER;CN="Glen Arbor Arts Center":MAILTO:director@glenarborart.org
END:VEVENT
BEGIN:VEVENT
DTSTART;TZID=America/Detroit:20220712T183000
DTEND;TZID=America/Detroit:20220712T200000
DTSTAMP:20260423T113626
CREATED:20220701T161010Z
LAST-MODIFIED:20220701T161010Z
UID:10004660-1657650600-1657656000@www.visitglenarbor.com
SUMMARY:Extinct Embroidery Class
DESCRIPTION:Have you ever wanted to explore embroidery? If so\, come to the Glen Lake Library on July 12\, 2022 @ 6:30 pm. Grab a friend and come learn a new skill as Dayna Walton of Solstice Handmade guides us through an embroidery lesson featuring a special bird– the Ivory Billed Woodpecker. We will practice several embroidery stitches and then use them to begin stitching a pattern of this now-extinct bird. While we stitch\, we’ll fill you in on thee history of this famed bird. This class is suitable for beginners and experts\, and all supplies are included. The class is open for ages 12 and above\, though younger stitchers may attend with an older companion. The class will be limited to 20 people\, so contact the library in advance to register @ 231.326.5361.
URL:https://www.visitglenarbor.com/event/extinct-embroidery-class/
LOCATION:Glen Lake Community Library\, 10115 Front Street\, Empire\, MI\, 49630\, United States
CATEGORIES:Community Events
ATTACH;FMTTYPE=image/jpeg:https://www.visitglenarbor.com/wp-content/uploads/2022/07/Walton-slider.jpg
ORGANIZER;CN="Glen Lake Community Library":MAILTO:info@glenlakelibrary.net
END:VEVENT
BEGIN:VEVENT
DTSTART;TZID=America/Detroit:20220713T173000
DTEND;TZID=America/Detroit:20220713T183000
DTSTAMP:20260423T113626
CREATED:20211004T141427Z
LAST-MODIFIED:20211004T141427Z
UID:10004421-1657733400-1657737000@www.visitglenarbor.com
SUMMARY:Yen Yoga at Nature
DESCRIPTION:Join us in an inspiring space for a community yoga class\, held weekly on Wednesday’s at 5:30 pm. Hosted at Nature in Maple City by Yen Yoga & Fitness. \nThis ia an all-level yoga flow class. Please bring your own yoga mat and practice social distancing. \nSign up to participate is required at yenyogafitness.com  You may sign up online up to 8 days in advance\, or feel free to call us at 231-421-5496
URL:https://www.visitglenarbor.com/event/yen-yoga-at-nature/2022-07-13/
LOCATION:Nature\, 2988 W Burdickville Rd\, Maple City\, MI\, 49664\, United States
CATEGORIES:Community Events,Kids + Family Friendly,Recreation
ATTACH;FMTTYPE=image/png:https://www.visitglenarbor.com/wp-content/uploads/2021/03/Green-Inspirational-Spring-Quote-Facebook-Post.png
ORGANIZER;CN="Nature - A Michigan Retreat":MAILTO:admin@naturemichigan.com
END:VEVENT
BEGIN:VEVENT
DTSTART;TZID=America/Detroit:20220714T110000
DTEND;TZID=America/Detroit:20220714T120000
DTSTAMP:20260423T113626
CREATED:20220708T160110Z
LAST-MODIFIED:20220712T133906Z
UID:10003249-1657796400-1657800000@www.visitglenarbor.com
SUMMARY:Scribble Stones
DESCRIPTION:Join us at the Glen Lake Library on Thursday\, July 14th for some stories with stones that really rock.  The fun begins at 11:00 a.m.  We’ll also have a make and take project so kids of all ages can make a scribble stone to take with them.
URL:https://www.visitglenarbor.com/event/scribble-stones/
LOCATION:Glen Lake Community Library\, 10115 Front Street\, Empire\, MI\, 49630\, United States
CATEGORIES:Community Events
ATTACH;FMTTYPE=image/jpeg:https://www.visitglenarbor.com/wp-content/uploads/2022/07/scribble-stones-2.jpg
ORGANIZER;CN="Glen Lake Community Library":MAILTO:info@glenlakelibrary.net
END:VEVENT
BEGIN:VEVENT
DTSTART;TZID=America/Detroit:20220716T120000
DTEND;TZID=America/Detroit:20220716T130000
DTSTAMP:20260423T113626
CREATED:20220714T024550Z
LAST-MODIFIED:20220714T025341Z
UID:10003257-1657972800-1657976400@www.visitglenarbor.com
SUMMARY:Anchor Day Parade
DESCRIPTION:Parade – anything goes. Line up at Johnson Park at 11:15
URL:https://www.visitglenarbor.com/event/anchor-day/
LOCATION:Downtown Empire
CATEGORIES:Community Events
ORGANIZER;CN="Empire Area Community Center":MAILTO:empireareacommunitycenter@gmail.com
END:VEVENT
BEGIN:VEVENT
DTSTART;TZID=America/Detroit:20220716T120000
DTEND;TZID=America/Detroit:20220716T190000
DTSTAMP:20260423T113626
CREATED:20220627T160028Z
LAST-MODIFIED:20220627T160028Z
UID:10004646-1657972800-1657998000@www.visitglenarbor.com
SUMMARY:Empire Anchor Days 2022
DESCRIPTION:After a 3 year hiatus (due to bad weather and Covid) Anchor Days are back this year on July 16th. \nBeginning at 12 Noon\, the parade that is so nice – it goes around twice! Decorate your car\, boat\, bicycle\, or golf cart and line up at Johnson Park in Empire at 11:15\, or just come and enjoy the fun. Library is sponsoring a Pop Up Book Sale 1:00-3:00. Empire Lions are sponsoring their annual BBQ Chicken Dinner 1:00-7:00 at the Empire Town Hall. Don’t miss the street dance sponsored by Empire Area Community Center on Front Street in front of the Empire Town Hall\, Featuring music by “Doc Probes” \nFor more info call 231-835-1207
URL:https://www.visitglenarbor.com/event/anchor-day-empire-2022/
LOCATION:Downtown Empire
CATEGORIES:Community Events,Food/Dining Event,Kids + Family Friendly,Music
ATTACH;FMTTYPE=image/jpeg:https://www.visitglenarbor.com/wp-content/uploads/2020/03/Anchor-Days-in-July_empire-MI_community-events.jpg
END:VEVENT
BEGIN:VEVENT
DTSTART;TZID=America/Detroit:20220716T210000
DTEND;TZID=America/Detroit:20220716T230000
DTSTAMP:20260423T113626
CREATED:20220714T024553Z
LAST-MODIFIED:20220714T024553Z
UID:10003259-1658005200-1658012400@www.visitglenarbor.com
SUMMARY:Street Dance
DESCRIPTION:Dance with Live music By: “Doc Probes”\, The Music Doctor\nBYOB\, Chair & Dancing Shoes
URL:https://www.visitglenarbor.com/event/street-dance/
LOCATION:Empire Township Hall\, 10088 W. Front Street\, Empire\, MI \, Empire\, MI\, 49630\, United States
CATEGORIES:Community Events
ORGANIZER;CN="Empire Area Community Center":MAILTO:empireareacommunitycenter@gmail.com
END:VEVENT
BEGIN:VEVENT
DTSTART;TZID=America/Detroit:20220719T190000
DTEND;TZID=America/Detroit:20220719T200000
DTSTAMP:20260423T113626
CREATED:20220701T161023Z
LAST-MODIFIED:20220701T161023Z
UID:10004661-1658257200-1658260800@www.visitglenarbor.com
SUMMARY:Poetry with Sharon Oriel
DESCRIPTION:July 19th @ 7:00 pm @ Glen Lake Library\nTake a moment to slow down and listen as Sharon Oriel shares poems from her chapbook Lochan and from Holly Wren Spaulding’s Familiars. The two books have multiple connections which Sharon will share. Lochan is a hand-stitched chapbook which was published in a limited edition of 50 in 2020. A copy of this chapbook is available for review in the library. Dunes Review\, Hummingbird Magazine of the Short Poem and Solitary Plover have published Sharon’s poem. Her next chapbook\, Sky Report\, is planned for later this year.
URL:https://www.visitglenarbor.com/event/poetry-with-sharon-oriel/
LOCATION:Glen Lake Community Library\, 10115 Front Street\, Empire\, MI\, 49630\, United States
CATEGORIES:Community Events
END:VEVENT
BEGIN:VEVENT
DTSTART;TZID=America/Detroit:20220719T190000
DTEND;TZID=America/Detroit:20220719T200000
DTSTAMP:20260423T113626
CREATED:20220706T140502Z
LAST-MODIFIED:20220706T140502Z
UID:10003247-1658257200-1658260800@www.visitglenarbor.com
SUMMARY:Poetry with Sharon Oriel: July 19\, 7:00 pm
DESCRIPTION:Join us at the Glen Lake Library for a poetry reading with Sharon Oriel. Sharon shares poems from her chapbook Lochan and from Holly Wren Spaulding’s Familiars. The two books have multiple connections which Sharon will share. Lochan is a hand-stitched chapbook which was published in a limited edition of 50 in 2020. A copy of this chapbook is available for review in the library. Dunes Review\, Hummingbird Magazine of the Short Poem and Solitary Plover have published Sharon’s poem. Her next chapbook\, Sky Report\, is planned for later this year. For further information contact the library @ 231.326.6351 or www.glenlakelibrary.net
URL:https://www.visitglenarbor.com/event/poetry-with-sharon-oriel-july-19-700-pm/
LOCATION:Glen Lake Community Library\, 10115 Front Street\, Empire\, MI\, 49630\, United States
CATEGORIES:Community Events
ORGANIZER;CN="Glen Lake Community Library":MAILTO:info@glenlakelibrary.net
END:VEVENT
BEGIN:VEVENT
DTSTART;TZID=America/Detroit:20220720T173000
DTEND;TZID=America/Detroit:20220720T183000
DTSTAMP:20260423T113626
CREATED:20211004T141427Z
LAST-MODIFIED:20211004T141427Z
UID:10004422-1658338200-1658341800@www.visitglenarbor.com
SUMMARY:Yen Yoga at Nature
DESCRIPTION:Join us in an inspiring space for a community yoga class\, held weekly on Wednesday’s at 5:30 pm. Hosted at Nature in Maple City by Yen Yoga & Fitness. \nThis ia an all-level yoga flow class. Please bring your own yoga mat and practice social distancing. \nSign up to participate is required at yenyogafitness.com  You may sign up online up to 8 days in advance\, or feel free to call us at 231-421-5496
URL:https://www.visitglenarbor.com/event/yen-yoga-at-nature/2022-07-20/
LOCATION:Nature\, 2988 W Burdickville Rd\, Maple City\, MI\, 49664\, United States
CATEGORIES:Community Events,Kids + Family Friendly,Recreation
ATTACH;FMTTYPE=image/png:https://www.visitglenarbor.com/wp-content/uploads/2021/03/Green-Inspirational-Spring-Quote-Facebook-Post.png
ORGANIZER;CN="Nature - A Michigan Retreat":MAILTO:admin@naturemichigan.com
END:VEVENT
BEGIN:VEVENT
DTSTART;TZID=America/Detroit:20220726T090000
DTEND;TZID=America/Detroit:20220726T103000
DTSTAMP:20260423T113626
CREATED:20220423T185418Z
LAST-MODIFIED:20220423T192103Z
UID:10004570-1658826000-1658831400@www.visitglenarbor.com
SUMMARY:Running Bear Run
DESCRIPTION:Running Bear Run\nTuesday\, July 26th\, 2022 – Glen Arbor Women’s Club 15th Annual Running Bear 5K Run/Walk and 1/2 mile Kids’ Run\nRun/Walk: 9:00am\, Kids’ Run: 9:05am-Rain or shine. After run celebration and refreshments. Starts/Ends: Cherry Republic\, Lake Street\, Glen Arbor. Registration info online: www.runningbearrun.com. Run/Walk $20\, ($25 day of run)\, Kids’ Run $5. Proceeds go to local scholarships and local charitable organizations. Questions? Call or text 231-409-0514
URL:https://www.visitglenarbor.com/event/running-bear-run/
LOCATION:Cherry Republic
CATEGORIES:Community Events,Kids + Family Friendly,Race
ATTACH;FMTTYPE=image/jpeg:https://www.visitglenarbor.com/wp-content/uploads/2022/04/0050-scaled.jpg
END:VEVENT
BEGIN:VEVENT
DTSTART;TZID=America/Detroit:20220727T173000
DTEND;TZID=America/Detroit:20220727T183000
DTSTAMP:20260423T113626
CREATED:20211004T141427Z
LAST-MODIFIED:20211004T141427Z
UID:10004423-1658943000-1658946600@www.visitglenarbor.com
SUMMARY:Yen Yoga at Nature
DESCRIPTION:Join us in an inspiring space for a community yoga class\, held weekly on Wednesday’s at 5:30 pm. Hosted at Nature in Maple City by Yen Yoga & Fitness. \nThis ia an all-level yoga flow class. Please bring your own yoga mat and practice social distancing. \nSign up to participate is required at yenyogafitness.com  You may sign up online up to 8 days in advance\, or feel free to call us at 231-421-5496
URL:https://www.visitglenarbor.com/event/yen-yoga-at-nature/2022-07-27/
LOCATION:Nature\, 2988 W Burdickville Rd\, Maple City\, MI\, 49664\, United States
CATEGORIES:Community Events,Kids + Family Friendly,Recreation
ATTACH;FMTTYPE=image/png:https://www.visitglenarbor.com/wp-content/uploads/2021/03/Green-Inspirational-Spring-Quote-Facebook-Post.png
ORGANIZER;CN="Nature - A Michigan Retreat":MAILTO:admin@naturemichigan.com
END:VEVENT
BEGIN:VEVENT
DTSTART;TZID=America/Detroit:20220728T110000
DTEND;TZID=America/Detroit:20220728T120000
DTSTAMP:20260423T113626
CREATED:20250724T171157Z
LAST-MODIFIED:20250724T171157Z
UID:10004666-1659006000-1659009600@www.visitglenarbor.com
SUMMARY:Luunappi Concert
DESCRIPTION:Bring a chair or a blanket and join us for a fun filled morning with music\, songs\, poems\, and stories by our area favorites\, Luunappi!   The Glen Lake Library is hosting the event Thursday\, July 28th at 11:00 a.m. in our outdoor garden area (weather permitting).  The team of Patrick Niemisto and Norm Wheeler will provide an hour of terrific entertainment for kids and adults of all ages.  In case of inclement weather the concert will be held indoors in the library’s program room.  The library is located at 10115 W. Front Street in Empire.  For further information call the library @ 231.326.5361 or visit our webpage:  www.glenlakelibrary.net.
URL:https://www.visitglenarbor.com/event/luunappi-concert/
LOCATION:Glen Lake Community Library\, 10115 Front Street\, Empire\, MI\, 49630\, United States
CATEGORIES:Community Events
ATTACH;FMTTYPE=image/jpeg:https://www.visitglenarbor.com/wp-content/uploads/2022/07/NP-22Luunappi22-scaled-e1659374989193.jpg
ORGANIZER;CN="Glen Lake Community Library":MAILTO:info@glenlakelibrary.net
END:VEVENT
END:VCALENDAR