BEGIN:VCALENDAR
VERSION:2.0
PRODID:-//Glen Lake Chamber of Commerce - ECPv6.15.19//NONSGML v1.0//EN
CALSCALE:GREGORIAN
METHOD:PUBLISH
X-WR-CALNAME:Glen Lake Chamber of Commerce
X-ORIGINAL-URL:https://www.visitglenarbor.com
X-WR-CALDESC:Events for Glen Lake Chamber of Commerce
REFRESH-INTERVAL;VALUE=DURATION:PT1H
X-Robots-Tag:noindex
X-PUBLISHED-TTL:PT1H
BEGIN:VTIMEZONE
TZID:America/Detroit
BEGIN:DAYLIGHT
TZOFFSETFROM:-0500
TZOFFSETTO:-0400
TZNAME:EDT
DTSTART:20210314T070000
END:DAYLIGHT
BEGIN:STANDARD
TZOFFSETFROM:-0400
TZOFFSETTO:-0500
TZNAME:EST
DTSTART:20211107T060000
END:STANDARD
BEGIN:DAYLIGHT
TZOFFSETFROM:-0500
TZOFFSETTO:-0400
TZNAME:EDT
DTSTART:20220313T070000
END:DAYLIGHT
BEGIN:STANDARD
TZOFFSETFROM:-0400
TZOFFSETTO:-0500
TZNAME:EST
DTSTART:20221106T060000
END:STANDARD
BEGIN:DAYLIGHT
TZOFFSETFROM:-0500
TZOFFSETTO:-0400
TZNAME:EDT
DTSTART:20230312T070000
END:DAYLIGHT
BEGIN:STANDARD
TZOFFSETFROM:-0400
TZOFFSETTO:-0500
TZNAME:EST
DTSTART:20231105T060000
END:STANDARD
END:VTIMEZONE
BEGIN:VEVENT
DTSTART;VALUE=DATE:20220601
DTEND;VALUE=DATE:20220624
DTSTAMP:20260423T022452
CREATED:20220427T180018Z
LAST-MODIFIED:20220427T180018Z
UID:10004574-1654041600-1656028799@www.visitglenarbor.com
SUMMARY:Manitou Music Presents the Sound Garden Quintet
DESCRIPTION:The Glen Arbor Arts Center’s inaugural musicians-in-residence\, Interlochen Public Radio’s Sound Garden Quintet\, breaks down barriers to classical music by bringing conversation and a community spirit to music-making. They will present dozens of free performances in Glen Arbor throughout the month of June. The Sound Garden Quintet will be hosted by the GAAC’s community partner\, Pine Street Studios. \nSound Garden Musician-in-Residence schedule of free performances is: \nSunrise and Sunset Sounds: From June 1 – 23\, the Sound Garden Quintet will serenade a different live performance each day at 9 am and 9:30 pm in the Glen Arbor Arts Center lot. \nOpen Rehearsals: Bring a lawn chair\, a book\, and your favorite beverage to the Glen Arbor Arts Center parking lot and enjoy a performance from the deck of Pine Street Studios\, next to the GAAC\, 5710 N. Pine St.\, Glen Arbor. In the case of inclement weather\, the rehearsal will be moved indoors. From 6 – 7:30 pm on May 31\, June 2\, 7\, 9\, and 21 and from 5 – 6:30 pm on June 13. \nThe Sound Garden’s Musical Playground for Kids: The Sound Garden Quintet will be interacting and performing while kids play at the Glen Arbor Township Park Playground\, on the corner of M-22 and State Street in Glen Arbor. The first four Wednesdays in June from 3 – 4:30 pm. \nThe Sound Garden in Concert:\nWednesday\, June 8 and 15\, 5:30-6:45 Glen Arbor Arts Center Front Porch Thursday\, June 23\, 5:30-6:45 pm\, Leelanau School Auditorium (sold out) \nSound Garden Shenanigans: The Sound Garden Quintet’s mission is to “plant music in unexpected places.” They intend to bring music into the lives of area residents as they go about daily activities. \nSound Garden Pop-Up: The Sound Garden Quintet will perform at the GAAC’s 6ft Apart Art Artists PopUP + Demo on June 4 from 11 am – 3 pm in the GAAC parking lot. \nManitou Music is a project of the Glen Arbor Arts Center. For more information\, please go to: GlenArborArt.org\, or call 231/334-6112.
URL:https://www.visitglenarbor.com/event/manitou-music-presents-the-sound-garden-quintet/2022-06-01/1/
LOCATION:Glen Arbor Arts Center\, 6031 S. Lake Street\, Glen Arbor\, MI\, 49636
CATEGORIES:Community Events,Music
ATTACH;FMTTYPE=image/jpeg:https://www.visitglenarbor.com/wp-content/uploads/2022/04/https-cdn.evbuc_.com-images-250315849-80762603365-1-original.20220318-181635.jpeg
ORGANIZER;CN="Glen Arbor Arts Center":MAILTO:director@glenarborart.org
END:VEVENT
BEGIN:VEVENT
DTSTART;VALUE=DATE:20220601
DTEND;VALUE=DATE:20220602
DTSTAMP:20260423T022452
CREATED:20220427T180018Z
LAST-MODIFIED:20220427T180018Z
UID:10004575-1654074000-1654102800@www.visitglenarbor.com
SUMMARY:Manitou Music Presents the Sound Garden Quintet
DESCRIPTION:The Glen Arbor Arts Center’s inaugural musicians-in-residence\, Interlochen Public Radio’s Sound Garden Quintet\, breaks down barriers to classical music by bringing conversation and a community spirit to music-making. They will present dozens of free performances in Glen Arbor throughout the month of June. The Sound Garden Quintet will be hosted by the GAAC’s community partner\, Pine Street Studios. \nSound Garden Musician-in-Residence schedule of free performances is: \nSunrise and Sunset Sounds: From June 1 – 23\, the Sound Garden Quintet will serenade a different live performance each day at 9 am and 9:30 pm in the Glen Arbor Arts Center lot. \nOpen Rehearsals: Bring a lawn chair\, a book\, and your favorite beverage to the Glen Arbor Arts Center parking lot and enjoy a performance from the deck of Pine Street Studios\, next to the GAAC\, 5710 N. Pine St.\, Glen Arbor. In the case of inclement weather\, the rehearsal will be moved indoors. From 6 – 7:30 pm on May 31\, June 2\, 7\, 9\, and 21 and from 5 – 6:30 pm on June 13. \nThe Sound Garden’s Musical Playground for Kids: The Sound Garden Quintet will be interacting and performing while kids play at the Glen Arbor Township Park Playground\, on the corner of M-22 and State Street in Glen Arbor. The first four Wednesdays in June from 3 – 4:30 pm. \nThe Sound Garden in Concert:\nWednesday\, June 8 and 15\, 5:30-6:45 Glen Arbor Arts Center Front Porch Thursday\, June 23\, 5:30-6:45 pm\, Leelanau School Auditorium (sold out) \nSound Garden Shenanigans: The Sound Garden Quintet’s mission is to “plant music in unexpected places.” They intend to bring music into the lives of area residents as they go about daily activities. \nSound Garden Pop-Up: The Sound Garden Quintet will perform at the GAAC’s 6ft Apart Art Artists PopUP + Demo on June 4 from 11 am – 3 pm in the GAAC parking lot. \nManitou Music is a project of the Glen Arbor Arts Center. For more information\, please go to: GlenArborArt.org\, or call 231/334-6112.
URL:https://www.visitglenarbor.com/event/manitou-music-presents-the-sound-garden-quintet/2022-06-01/2/
LOCATION:Glen Arbor Arts Center\, 6031 S. Lake Street\, Glen Arbor\, MI\, 49636
CATEGORIES:Community Events,Music
ATTACH;FMTTYPE=image/jpeg:https://www.visitglenarbor.com/wp-content/uploads/2022/04/https-cdn.evbuc_.com-images-250315849-80762603365-1-original.20220318-181635.jpeg
ORGANIZER;CN="Glen Arbor Arts Center":MAILTO:director@glenarborart.org
END:VEVENT
BEGIN:VEVENT
DTSTART;TZID=America/Detroit:20220601T173000
DTEND;TZID=America/Detroit:20220601T183000
DTSTAMP:20260423T022452
CREATED:20211004T141427Z
LAST-MODIFIED:20211004T141427Z
UID:10004415-1654104600-1654108200@www.visitglenarbor.com
SUMMARY:Yen Yoga at Nature
DESCRIPTION:Join us in an inspiring space for a community yoga class\, held weekly on Wednesday’s at 5:30 pm. Hosted at Nature in Maple City by Yen Yoga & Fitness. \nThis ia an all-level yoga flow class. Please bring your own yoga mat and practice social distancing. \nSign up to participate is required at yenyogafitness.com  You may sign up online up to 8 days in advance\, or feel free to call us at 231-421-5496
URL:https://www.visitglenarbor.com/event/yen-yoga-at-nature/2022-06-01/
LOCATION:Nature\, 2988 W Burdickville Rd\, Maple City\, MI\, 49664\, United States
CATEGORIES:Community Events,Kids + Family Friendly,Recreation
ATTACH;FMTTYPE=image/png:https://www.visitglenarbor.com/wp-content/uploads/2021/03/Green-Inspirational-Spring-Quote-Facebook-Post.png
ORGANIZER;CN="Nature - A Michigan Retreat":MAILTO:admin@naturemichigan.com
END:VEVENT
BEGIN:VEVENT
DTSTART;TZID=America/Detroit:20220604T140000
DTEND;TZID=America/Detroit:20220604T150000
DTSTAMP:20260423T022452
CREATED:20220513T151012Z
LAST-MODIFIED:20220513T151041Z
UID:10004592-1654351200-1654354800@www.visitglenarbor.com
SUMMARY:Ode to Asparagus: June 4\, 2:00 pm
DESCRIPTION:As part of the Empire Asparagus Festival\, Glen Lake Library will be hosting Ode to Asparagus on Saturday\, June 4\, 2:00 PM. Come and hear poets from far and near recite their asparagus poems. Be part of the audience and the fun to determine the “Best in Show” poetry submission. The Library is located in Empire\, 10115 W. Front Street.
URL:https://www.visitglenarbor.com/event/ode-to-asparagus-june-4-200-pm/
LOCATION:Glen Lake Community Library\, 10115 Front Street\, Empire\, MI\, 49630\, United States
CATEGORIES:Community Events
ATTACH;FMTTYPE=image/jpeg:https://www.visitglenarbor.com/wp-content/uploads/2020/03/Ode-to-Asparagus.jpg
ORGANIZER;CN="Glen Lake Community Library":MAILTO:info@glenlakelibrary.net
END:VEVENT
BEGIN:VEVENT
DTSTART;TZID=America/Detroit:20220608T173000
DTEND;TZID=America/Detroit:20220608T183000
DTSTAMP:20260423T022452
CREATED:20211004T141427Z
LAST-MODIFIED:20211004T141427Z
UID:10004416-1654709400-1654713000@www.visitglenarbor.com
SUMMARY:Yen Yoga at Nature
DESCRIPTION:Join us in an inspiring space for a community yoga class\, held weekly on Wednesday’s at 5:30 pm. Hosted at Nature in Maple City by Yen Yoga & Fitness. \nThis ia an all-level yoga flow class. Please bring your own yoga mat and practice social distancing. \nSign up to participate is required at yenyogafitness.com  You may sign up online up to 8 days in advance\, or feel free to call us at 231-421-5496
URL:https://www.visitglenarbor.com/event/yen-yoga-at-nature/2022-06-08/
LOCATION:Nature\, 2988 W Burdickville Rd\, Maple City\, MI\, 49664\, United States
CATEGORIES:Community Events,Kids + Family Friendly,Recreation
ATTACH;FMTTYPE=image/png:https://www.visitglenarbor.com/wp-content/uploads/2021/03/Green-Inspirational-Spring-Quote-Facebook-Post.png
ORGANIZER;CN="Nature - A Michigan Retreat":MAILTO:admin@naturemichigan.com
END:VEVENT
BEGIN:VEVENT
DTSTART;TZID=America/Detroit:20220610T080000
DTEND;TZID=America/Detroit:20220610T170000
DTSTAMP:20260423T022452
CREATED:20220610T150745Z
LAST-MODIFIED:20220610T152019Z
UID:10004640-1654848000-1654880400@www.visitglenarbor.com
SUMMARY:Summer Reading Sign Up
DESCRIPTION:Glen Lake Library will begin its Summer Reading Program sign up starting Monday\, June 14th.  Kids of all ages are welcome to participate in the reading program and earn prizes.  The first Summer Reading Program will be Thursday\, June 23 @ 11:00 at the library.  Great lakes Surf and Rescue will be presenting a water safety program for kids and adults.  Check our website for further Summer Programs @ www.glenlakelibrary.net or call the library @ 231-326.5361.
URL:https://www.visitglenarbor.com/event/summer-reading-sign-up/
LOCATION:Glen Lake Community Library\, 10115 Front Street\, Empire\, MI\, 49630\, United States
CATEGORIES:Community Events,Kids + Family Friendly
END:VEVENT
BEGIN:VEVENT
DTSTART;TZID=America/Detroit:20220615T170000
DTEND;TZID=America/Detroit:20220615T190000
DTSTAMP:20260423T022452
CREATED:20220519T161358Z
LAST-MODIFIED:20220519T161733Z
UID:10003226-1655312400-1655319600@www.visitglenarbor.com
SUMMARY:Art After Hours In Glen Arbor
DESCRIPTION:Nine Glen Arbor galleries and artists studios will keep the night light burning this summer as part of Art After Hours. \nArt After Hours takes place June 15\, July 20\, and August 17\, 5-7 pm. It offers visitors a chance to take a self-guided walking tour of galleries located in Glen Arbor’s art district – a five-block area from Lake Street to M-22 to M-109 West. Participating galleries are: Arbor Gallery\, Center Gallery\, Forest Gallery\, Glen Arbor Artisans\, Glen Arbor Arts Center\, Glen Lake Artists Gallery\, Margo Burian Fine Art\, North Gallery\, and Synchronicity Gallery. \nFor more information\, gallery locations and more\, go to GlenArborArt.org / EVENTS; or call Synchronicity Gallery\, 231/334-4732.
URL:https://www.visitglenarbor.com/event/art-after-hours-in-glen-arbor/
LOCATION:Downtown Glen Arbor\, Glen Arbor\, MI\, 49636\, United States
CATEGORIES:Art/Gallery/Exhibit,Community Events,Local Business Event,Wine/Beer or Tasting Event
ATTACH;FMTTYPE=image/jpeg:https://www.visitglenarbor.com/wp-content/uploads/2022/05/AfterHours_2022_FB-e1659377146815.jpg
ORGANIZER;CN="Glen Arbor Arts Center":MAILTO:director@glenarborart.org
END:VEVENT
BEGIN:VEVENT
DTSTART;TZID=America/Detroit:20220615T173000
DTEND;TZID=America/Detroit:20220615T183000
DTSTAMP:20260423T022452
CREATED:20211004T141427Z
LAST-MODIFIED:20211004T141427Z
UID:10004417-1655314200-1655317800@www.visitglenarbor.com
SUMMARY:Yen Yoga at Nature
DESCRIPTION:Join us in an inspiring space for a community yoga class\, held weekly on Wednesday’s at 5:30 pm. Hosted at Nature in Maple City by Yen Yoga & Fitness. \nThis ia an all-level yoga flow class. Please bring your own yoga mat and practice social distancing. \nSign up to participate is required at yenyogafitness.com  You may sign up online up to 8 days in advance\, or feel free to call us at 231-421-5496
URL:https://www.visitglenarbor.com/event/yen-yoga-at-nature/2022-06-15/
LOCATION:Nature\, 2988 W Burdickville Rd\, Maple City\, MI\, 49664\, United States
CATEGORIES:Community Events,Kids + Family Friendly,Recreation
ATTACH;FMTTYPE=image/png:https://www.visitglenarbor.com/wp-content/uploads/2021/03/Green-Inspirational-Spring-Quote-Facebook-Post.png
ORGANIZER;CN="Nature - A Michigan Retreat":MAILTO:admin@naturemichigan.com
END:VEVENT
BEGIN:VEVENT
DTSTART;TZID=America/Detroit:20220622T173000
DTEND;TZID=America/Detroit:20220622T183000
DTSTAMP:20260423T022452
CREATED:20211004T141427Z
LAST-MODIFIED:20211004T141427Z
UID:10004418-1655919000-1655922600@www.visitglenarbor.com
SUMMARY:Yen Yoga at Nature
DESCRIPTION:Join us in an inspiring space for a community yoga class\, held weekly on Wednesday’s at 5:30 pm. Hosted at Nature in Maple City by Yen Yoga & Fitness. \nThis ia an all-level yoga flow class. Please bring your own yoga mat and practice social distancing. \nSign up to participate is required at yenyogafitness.com  You may sign up online up to 8 days in advance\, or feel free to call us at 231-421-5496
URL:https://www.visitglenarbor.com/event/yen-yoga-at-nature/2022-06-22/
LOCATION:Nature\, 2988 W Burdickville Rd\, Maple City\, MI\, 49664\, United States
CATEGORIES:Community Events,Kids + Family Friendly,Recreation
ATTACH;FMTTYPE=image/png:https://www.visitglenarbor.com/wp-content/uploads/2021/03/Green-Inspirational-Spring-Quote-Facebook-Post.png
ORGANIZER;CN="Nature - A Michigan Retreat":MAILTO:admin@naturemichigan.com
END:VEVENT
BEGIN:VEVENT
DTSTART;TZID=America/Detroit:20220623T110000
DTEND;TZID=America/Detroit:20220623T120000
DTSTAMP:20260423T022452
CREATED:20220610T151336Z
LAST-MODIFIED:20220610T151852Z
UID:10004641-1655982000-1655985600@www.visitglenarbor.com
SUMMARY:Water Safety Presentation
DESCRIPTION:Great Lakes Surf and Rescue Project will be presenting a program on Water Safety\, Thursday\, June 23 starting @ 11:00 at the Glen Lake Library.  All are welcome to attend.
URL:https://www.visitglenarbor.com/event/water-safety-presentation/
LOCATION:Glen Lake Community Library\, 10115 Front Street\, Empire\, MI\, 49630\, United States
CATEGORIES:Community Events,Kids + Family Friendly
ORGANIZER;CN="Glen Lake Community Library":MAILTO:info@glenlakelibrary.net
END:VEVENT
BEGIN:VEVENT
DTSTART;TZID=America/Detroit:20220624T143000
DTEND;TZID=America/Detroit:20220624T173000
DTSTAMP:20260423T022452
CREATED:20220525T183400Z
LAST-MODIFIED:20220525T183400Z
UID:10004599-1656081000-1656091800@www.visitglenarbor.com
SUMMARY:Scrap Tire & Mattress Recycling
DESCRIPTION:Scrap Tire recycling and NEW! – Mattress recycling- Friday\, June 24 from 2:30 pm to 5:30 pm at Glen Lake School. \n$1.00/tire\, and $5.00/mattress. (Limit of 4 mattresses). Boxsprings allowed. \nAppointments required. Call 231-256-9812 to make an appointment and payment arrangements. \n\n\nFAQ: \nWhen Are the Household Hazardous Waste & Electronics Collections? \nCollections are held 3 – 4 times per year. YOU MUST BE A LEELANAU COUNTY RESIDENT TO PARTICIPATE. \nSCHEDULE YOUR HHW APPOINTMENT ONLINE  \nIf you need help scheduling your appointment\, call 231-256-9812 or email planning@leelanau.gov for assistance.
URL:https://www.visitglenarbor.com/event/scrap-tire-mattress-recycling/
LOCATION:Glen Lake School\, 3375 W. Burdickville Rd.\, Maple City\, MI\, 49664\, United States
CATEGORIES:Community Events
ATTACH;FMTTYPE=image/png:https://www.visitglenarbor.com/wp-content/uploads/2022/05/recycle_tires-mattresses-graphic-01-e1659377034573.png
END:VEVENT
BEGIN:VEVENT
DTSTART;TZID=America/Detroit:20220628T193000
DTEND;TZID=America/Detroit:20220628T203000
DTSTAMP:20260423T022452
CREATED:20220607T012213Z
LAST-MODIFIED:20220607T012239Z
UID:10004607-1656444600-1656448200@www.visitglenarbor.com
SUMMARY:Spiritual Discovery in a Time of Upheaval
DESCRIPTION:A talk on Christian Science. Real change and healing come from new views of people\, power\, and prayer.
URL:https://www.visitglenarbor.com/event/spiritual-discovery-in-a-time-of-upheaval/
LOCATION:Glen Arbor Township Hall
CATEGORIES:Community Events,Education
ATTACH;FMTTYPE=image/jpeg:https://www.visitglenarbor.com/wp-content/uploads/2022/06/9AA29078-27AE-40C2-8F2F-B8E865F64DEC.jpeg
END:VEVENT
BEGIN:VEVENT
DTSTART;TZID=America/Detroit:20220629T173000
DTEND;TZID=America/Detroit:20220629T183000
DTSTAMP:20260423T022452
CREATED:20211004T141427Z
LAST-MODIFIED:20211004T141427Z
UID:10004419-1656523800-1656527400@www.visitglenarbor.com
SUMMARY:Yen Yoga at Nature
DESCRIPTION:Join us in an inspiring space for a community yoga class\, held weekly on Wednesday’s at 5:30 pm. Hosted at Nature in Maple City by Yen Yoga & Fitness. \nThis ia an all-level yoga flow class. Please bring your own yoga mat and practice social distancing. \nSign up to participate is required at yenyogafitness.com  You may sign up online up to 8 days in advance\, or feel free to call us at 231-421-5496
URL:https://www.visitglenarbor.com/event/yen-yoga-at-nature/2022-06-29/
LOCATION:Nature\, 2988 W Burdickville Rd\, Maple City\, MI\, 49664\, United States
CATEGORIES:Community Events,Kids + Family Friendly,Recreation
ATTACH;FMTTYPE=image/png:https://www.visitglenarbor.com/wp-content/uploads/2021/03/Green-Inspirational-Spring-Quote-Facebook-Post.png
ORGANIZER;CN="Nature - A Michigan Retreat":MAILTO:admin@naturemichigan.com
END:VEVENT
BEGIN:VEVENT
DTSTART;TZID=America/Detroit:20220630T110000
DTEND;TZID=America/Detroit:20220630T160000
DTSTAMP:20260423T022452
CREATED:20220218T154931Z
LAST-MODIFIED:20220610T151845Z
UID:10004556-1656586800-1656604800@www.visitglenarbor.com
SUMMARY:The Omena Garden Walk 2022 to benefit the Omena Village Preservation Association (OVPA)
DESCRIPTION:The Omena Village Preservation Association (OVPA) invites you to join other garden lovers as they 0visit and enjoy The Omena Garden Tour 2022. It will be held in our charming village of Omena\, located amidst the spectacular woods\, cherry orchards\, farmlands\, and sparkling waters of Leelanau County on the “pinky” of Michigan. In 2017\, Omena was designated as a Historic District and was listed on the National Register of Historic Places by the U.S. Department of the interior. Among those buildings so designated\, two properties are owned by OVPA: the Omena Post Office and the historic Anderson House. OVPA honors the history and value of these buildings as it strives to keep them in good condition. Established in 2002\, OVPA is celebrating its 20th Anniversary this summer with this incredible Omena Garden Walk 2022. Tour eight (8) unique Omena gardens which include the private gardens of Omena residents. Waterfalls and ponds; arbors and pergolas; terracing and hardscaping; evergreen borders\, and extensive arrays of perennials — all this and more awaits you. Come find the next idea or inspiration for your own green space while celebrating the 20TH ANNIVERSARY of OVPA. \nThe Omena Garden Walk 2022 will take place on Thursday June 30\, 2022 from 11am to 4pm. It is a Rain or Shine Event with no other alternate date.
URL:https://www.visitglenarbor.com/event/the-omena-garden-walk-2022-to-benefit-the-omena-village-preservation-association-ovpa/
LOCATION:Unnamed Venue\, 6281 Western Ave\, Glen Arbor\, MI\, Select a Country:
CATEGORIES:Community Events
ATTACH;FMTTYPE=image/jpeg:https://www.visitglenarbor.com/wp-content/uploads/2022/02/IMG_2898-cropped.jpg
END:VEVENT
BEGIN:VEVENT
DTSTART;TZID=America/Detroit:20220630T170000
DTEND;TZID=America/Detroit:20220630T190000
DTSTAMP:20260423T022452
CREATED:20220419T141109Z
LAST-MODIFIED:20220419T141109Z
UID:10004565-1656608400-1656615600@www.visitglenarbor.com
SUMMARY:QuinTango
DESCRIPTION:Presented by our community sponsor Interlochen Public Radio\, QuinTango’s woman-powered quintet plus their male Argentine bandoneon player re-imagine traditional tango using classical chops\, jazz harmonies\, and arrangements. The Washington DC-based sextet’s passion and precision create an unforgettable evening of intimacy and musical audacity. We will be holding this amazing performance at the Glen Lake Community School’s indoor auditorium. Don’t miss this wonderful performance! \nReservations for admission are free and will be available starting May 1st. Names will be on a list at the door.
URL:https://www.visitglenarbor.com/event/quintango/
LOCATION:Glen Lake School\, 3375 W. Burdickville Rd.\, Maple City\, MI\, 49664\, United States
CATEGORIES:Community Events,Kids + Family Friendly,Music
ATTACH;FMTTYPE=image/jpeg:https://www.visitglenarbor.com/wp-content/uploads/2022/04/2022-quintango.jpg
ORGANIZER;CN="Glen Arbor Arts Center":MAILTO:director@glenarborart.org
END:VEVENT
END:VCALENDAR