BEGIN:VCALENDAR
VERSION:2.0
PRODID:-//Glen Lake Chamber of Commerce - ECPv6.15.19//NONSGML v1.0//EN
CALSCALE:GREGORIAN
METHOD:PUBLISH
X-WR-CALNAME:Glen Lake Chamber of Commerce
X-ORIGINAL-URL:https://www.visitglenarbor.com
X-WR-CALDESC:Events for Glen Lake Chamber of Commerce
REFRESH-INTERVAL;VALUE=DURATION:PT1H
X-Robots-Tag:noindex
X-PUBLISHED-TTL:PT1H
BEGIN:VTIMEZONE
TZID:America/Detroit
BEGIN:DAYLIGHT
TZOFFSETFROM:-0500
TZOFFSETTO:-0400
TZNAME:EDT
DTSTART:20210314T070000
END:DAYLIGHT
BEGIN:STANDARD
TZOFFSETFROM:-0400
TZOFFSETTO:-0500
TZNAME:EST
DTSTART:20211107T060000
END:STANDARD
BEGIN:DAYLIGHT
TZOFFSETFROM:-0500
TZOFFSETTO:-0400
TZNAME:EDT
DTSTART:20220313T070000
END:DAYLIGHT
BEGIN:STANDARD
TZOFFSETFROM:-0400
TZOFFSETTO:-0500
TZNAME:EST
DTSTART:20221106T060000
END:STANDARD
BEGIN:DAYLIGHT
TZOFFSETFROM:-0500
TZOFFSETTO:-0400
TZNAME:EDT
DTSTART:20230312T070000
END:DAYLIGHT
BEGIN:STANDARD
TZOFFSETFROM:-0400
TZOFFSETTO:-0500
TZNAME:EST
DTSTART:20231105T060000
END:STANDARD
END:VTIMEZONE
BEGIN:VEVENT
DTSTART;TZID=America/Detroit:20220503T190000
DTEND;TZID=America/Detroit:20220503T200000
DTSTAMP:20260422T102708
CREATED:20220427T134617Z
LAST-MODIFIED:20220427T134617Z
UID:10004573-1651604400-1651608000@www.visitglenarbor.com
SUMMARY:Poor Farm Barn: a history restored
DESCRIPTION:The Leelanau County Historic Preservation Society will relate the history of the iconic Poor Farm\, located just west of Maple City. The farm was established by Leelanau County in 1908\, as a means of providing housing and meaningful employment to impoverished area residents. After the farm ceased operations\, the property fell into disrepair\, with only the barn remaining in place. LCHPS members Laurel Jeris\, Barbara Siepker and Steve Stier will describe the successful efforts to preserve and rehabilitate this historic structure\, and promote greater understanding of the farm’s history. NOTE: Attendance will be limited to 25\, so please contact the library in advance to register: 326-5361\, or info@glenlakelibrary.net
URL:https://www.visitglenarbor.com/event/poor-farm-barn-a-history-restored/
LOCATION:Glen Lake Community Library\, 10115 Front Street\, Empire\, MI\, 49630\, United States
CATEGORIES:Community Events
ATTACH;FMTTYPE=image/jpeg:https://www.visitglenarbor.com/wp-content/uploads/2022/04/barn-montage.jpg
END:VEVENT
BEGIN:VEVENT
DTSTART;TZID=America/Detroit:20220504T173000
DTEND;TZID=America/Detroit:20220504T183000
DTSTAMP:20260422T102708
CREATED:20211004T141427Z
LAST-MODIFIED:20211004T141427Z
UID:10004411-1651685400-1651689000@www.visitglenarbor.com
SUMMARY:Yen Yoga at Nature
DESCRIPTION:Join us in an inspiring space for a community yoga class\, held weekly on Wednesday’s at 5:30 pm. Hosted at Nature in Maple City by Yen Yoga & Fitness. \nThis ia an all-level yoga flow class. Please bring your own yoga mat and practice social distancing. \nSign up to participate is required at yenyogafitness.com  You may sign up online up to 8 days in advance\, or feel free to call us at 231-421-5496
URL:https://www.visitglenarbor.com/event/yen-yoga-at-nature/2022-05-04/
LOCATION:Nature\, 2988 W Burdickville Rd\, Maple City\, MI\, 49664\, United States
CATEGORIES:Community Events,Kids + Family Friendly,Recreation
ATTACH;FMTTYPE=image/png:https://www.visitglenarbor.com/wp-content/uploads/2021/03/Green-Inspirational-Spring-Quote-Facebook-Post.png
ORGANIZER;CN="Nature - A Michigan Retreat":MAILTO:admin@naturemichigan.com
END:VEVENT
BEGIN:VEVENT
DTSTART;TZID=America/Detroit:20220511T173000
DTEND;TZID=America/Detroit:20220511T183000
DTSTAMP:20260422T102708
CREATED:20211004T141427Z
LAST-MODIFIED:20211004T141427Z
UID:10004412-1652290200-1652293800@www.visitglenarbor.com
SUMMARY:Yen Yoga at Nature
DESCRIPTION:Join us in an inspiring space for a community yoga class\, held weekly on Wednesday’s at 5:30 pm. Hosted at Nature in Maple City by Yen Yoga & Fitness. \nThis ia an all-level yoga flow class. Please bring your own yoga mat and practice social distancing. \nSign up to participate is required at yenyogafitness.com  You may sign up online up to 8 days in advance\, or feel free to call us at 231-421-5496
URL:https://www.visitglenarbor.com/event/yen-yoga-at-nature/2022-05-11/
LOCATION:Nature\, 2988 W Burdickville Rd\, Maple City\, MI\, 49664\, United States
CATEGORIES:Community Events,Kids + Family Friendly,Recreation
ATTACH;FMTTYPE=image/png:https://www.visitglenarbor.com/wp-content/uploads/2021/03/Green-Inspirational-Spring-Quote-Facebook-Post.png
ORGANIZER;CN="Nature - A Michigan Retreat":MAILTO:admin@naturemichigan.com
END:VEVENT
BEGIN:VEVENT
DTSTART;TZID=America/Detroit:20220518T173000
DTEND;TZID=America/Detroit:20220518T183000
DTSTAMP:20260422T102708
CREATED:20211004T141427Z
LAST-MODIFIED:20211004T141427Z
UID:10004413-1652895000-1652898600@www.visitglenarbor.com
SUMMARY:Yen Yoga at Nature
DESCRIPTION:Join us in an inspiring space for a community yoga class\, held weekly on Wednesday’s at 5:30 pm. Hosted at Nature in Maple City by Yen Yoga & Fitness. \nThis ia an all-level yoga flow class. Please bring your own yoga mat and practice social distancing. \nSign up to participate is required at yenyogafitness.com  You may sign up online up to 8 days in advance\, or feel free to call us at 231-421-5496
URL:https://www.visitglenarbor.com/event/yen-yoga-at-nature/2022-05-18/
LOCATION:Nature\, 2988 W Burdickville Rd\, Maple City\, MI\, 49664\, United States
CATEGORIES:Community Events,Kids + Family Friendly,Recreation
ATTACH;FMTTYPE=image/png:https://www.visitglenarbor.com/wp-content/uploads/2021/03/Green-Inspirational-Spring-Quote-Facebook-Post.png
ORGANIZER;CN="Nature - A Michigan Retreat":MAILTO:admin@naturemichigan.com
END:VEVENT
BEGIN:VEVENT
DTSTART;VALUE=DATE:20220520
DTEND;VALUE=DATE:20220523
DTSTAMP:20260422T102708
CREATED:20220425T165245Z
LAST-MODIFIED:20220509T170311Z
UID:10004572-1653004800-1653263999@www.visitglenarbor.com
SUMMARY:Glen Arbor Season Opener
DESCRIPTION:May 20th\, 21st and 22nd is Glen Arbor’s newest “spend local” campaign designed to “kick off the season.” \nAll are invited to “step up to the plate” and “take a swing” during Glen Arbor’s Season Opener. Event “Batter Cards” will be available at M22 Glen Arbor and Cottonseed Apparel. Take your card around town and “run the bases” while supporting local businesses and seeing what’s new and open for the season. Stop by any six participating businesses in the area to see if you can score a home run! Purchases are encouraged but not required. 1st\, 2nd and 3rd place winners will be selected to receive “Glen Arbor Bucks.”  \nHow it works: \nThe event will take place at your leisure on May 20th\, 21st and 22nd. Participants are to pick up their batter card at M22 Glen Arbor or Cottonseed. The card has six spaces (or bases) to get stamped. As you spend the weekend in Glen Arbor\, ask local businesses to stamp your card. Purchases are encouraged but not required during this “shop small\, eat local” campaign. Once all six bases have been stamped\, participants should drop off their completed batter card to M22 Glen Arbor or Cottonseed. No more than 2 cards per person. 3 winners will be selected to receive “Glen Arbor Bucks.” Winners will be announced via the Glen Lake Chamber’s social media pages and email newsletter.  \n  \nTHE EVENT ON FACEBOOK
URL:https://www.visitglenarbor.com/event/glen-arbor-season-opener-22/
LOCATION:Downtown Glen Arbor\, Glen Arbor\, MI\, 49636\, United States
CATEGORIES:Chamber Events,Community Events,Local Business Event,Recreation,Shopping
ATTACH;FMTTYPE=image/jpeg:https://www.visitglenarbor.com/wp-content/uploads/2022/04/season-opener-2022-graphic-01-scaled.jpg
END:VEVENT
BEGIN:VEVENT
DTSTART;TZID=America/Detroit:20220525T173000
DTEND;TZID=America/Detroit:20220525T183000
DTSTAMP:20260422T102708
CREATED:20211004T141427Z
LAST-MODIFIED:20211004T141427Z
UID:10004414-1653499800-1653503400@www.visitglenarbor.com
SUMMARY:Yen Yoga at Nature
DESCRIPTION:Join us in an inspiring space for a community yoga class\, held weekly on Wednesday’s at 5:30 pm. Hosted at Nature in Maple City by Yen Yoga & Fitness. \nThis ia an all-level yoga flow class. Please bring your own yoga mat and practice social distancing. \nSign up to participate is required at yenyogafitness.com  You may sign up online up to 8 days in advance\, or feel free to call us at 231-421-5496
URL:https://www.visitglenarbor.com/event/yen-yoga-at-nature/2022-05-25/
LOCATION:Nature\, 2988 W Burdickville Rd\, Maple City\, MI\, 49664\, United States
CATEGORIES:Community Events,Kids + Family Friendly,Recreation
ATTACH;FMTTYPE=image/png:https://www.visitglenarbor.com/wp-content/uploads/2021/03/Green-Inspirational-Spring-Quote-Facebook-Post.png
ORGANIZER;CN="Nature - A Michigan Retreat":MAILTO:admin@naturemichigan.com
END:VEVENT
BEGIN:VEVENT
DTSTART;TZID=America/Detroit:20220527T100000
DTEND;TZID=America/Detroit:20220527T103000
DTSTAMP:20260422T102708
CREATED:20220510T170948Z
LAST-MODIFIED:20220510T171040Z
UID:10004591-1653645600-1653647400@www.visitglenarbor.com
SUMMARY:Memorial Ceremony at Glen Arbor Cemetery
DESCRIPTION:The 3rd annual Memorial Ceremony at the historic Glen Arbor Cemetery\, which we are in the midst of renovating\, kicks off Memorial Day weekend at 10:00 a.m. sharp on Friday\, May 27th. This year\, we honor Civil War veteran Daniel Parker with a presentation by members of the Sons of Union Veterans of the Civil War. \nNorm Wheeler will play taps\, and there’s a possibility that the Glen Lake eighth graders will share a little research on the people who were buried there. All that will be packed into about a half hour. Plan to stand\, although we will have about a dozen chairs and the track chair\, for those who need help getting to the site. \nThe entrance path to the cemetery is located on Forest Haven Road\, precisely 4/10 of a mile south of M-109 right next to the very last house on the east side of the street. Allow 15 minutes to walk in and find a spot. Please do not block any driveways when you park. Dress for ticks and mosquitoes.
URL:https://www.visitglenarbor.com/event/memorial-ceremony-at-glen-arbor-cemetery/
LOCATION:MI\, United States
CATEGORIES:Community Events
ATTACH;FMTTYPE=image/jpeg:https://www.visitglenarbor.com/wp-content/uploads/2022/05/glen-arbor-cemetary-forest-haven-memorial-scaled.jpeg
END:VEVENT
BEGIN:VEVENT
DTSTART;TZID=America/Detroit:20220529T110000
DTEND;TZID=America/Detroit:20220529T140000
DTSTAMP:20260422T102708
CREATED:20220523T191724Z
LAST-MODIFIED:20220523T195322Z
UID:10003232-1653822000-1653832800@www.visitglenarbor.com
SUMMARY:Discover Volunteer Opportunities with Friends of Sleeping Bear Dunes
DESCRIPTION:Discover Volunteer Opportunities with Friends of Sleeping Bear Dunes Sunday\, May 29 th \, 11 am to 2 pm at Cherry Republic\, Glen Arbor.  \nWant to get outside enjoying great hikes\, beaches\, and sand? Do you want to know that you are doing your part to protect our local National Park? Visit with Friends of Sleeping Bear Dunes volunteers Sunday\, May 29th\, 11 am to 2 pm at Cherry Republic\, Glen Arbor. Volunteers will be available to help you find the right volunteer position for you at Sleeping Bear Dunes National Lakeshore. \nOlivia Kleshinski\, is a new volunteer for the Friends. She has used her writing and photography skills to take inspiring photos and create stories used in social media posts and the new Picture-Perfect Sleeping Bear book. She says\, “What draws me to the Friends of Sleeping Bear Dunes is the range of many opportunities to learn new skills and meet other wonderful volunteers. My favorite part about being a Friends volunteer is helping to preserve the National Lakeshore while doing my favorite outdoor activities.” \nThe Friends will also have books for sale to enhance your park experience. The Friends of Sleeping Bear Dunes is a 501(c)(3) organization whose mission is protecting resources and heightening visitor experiences in partnership with Sleeping Bear Dunes National Lakeshore. For more information\, visit friendsofsleepingbear.org
URL:https://www.visitglenarbor.com/event/discover-volunteer-opportunities-with-friends-of-sleeping-bear-dunes/
LOCATION:Cherry Republic
CATEGORIES:Community Events,Recreation
ATTACH;FMTTYPE=image/jpeg:https://www.visitglenarbor.com/wp-content/uploads/2022/05/friends-of-sleeping-bear-dunes-event-scaled-e1659377100861.jpg
ORGANIZER;CN="Friends of Sleeping Bear Dunes":MAILTO: info@friendsofsleepingbear.org
END:VEVENT
END:VCALENDAR