BEGIN:VCALENDAR
VERSION:2.0
PRODID:-//Glen Lake Chamber of Commerce - ECPv6.15.19//NONSGML v1.0//EN
CALSCALE:GREGORIAN
METHOD:PUBLISH
X-ORIGINAL-URL:https://www.visitglenarbor.com
X-WR-CALDESC:Events for Glen Lake Chamber of Commerce
REFRESH-INTERVAL;VALUE=DURATION:PT1H
X-Robots-Tag:noindex
X-PUBLISHED-TTL:PT1H
BEGIN:VTIMEZONE
TZID:America/Detroit
BEGIN:DAYLIGHT
TZOFFSETFROM:-0500
TZOFFSETTO:-0400
TZNAME:EDT
DTSTART:20140309T070000
END:DAYLIGHT
BEGIN:STANDARD
TZOFFSETFROM:-0400
TZOFFSETTO:-0500
TZNAME:EST
DTSTART:20141102T060000
END:STANDARD
BEGIN:DAYLIGHT
TZOFFSETFROM:-0500
TZOFFSETTO:-0400
TZNAME:EDT
DTSTART:20150308T070000
END:DAYLIGHT
BEGIN:STANDARD
TZOFFSETFROM:-0400
TZOFFSETTO:-0500
TZNAME:EST
DTSTART:20151101T060000
END:STANDARD
BEGIN:DAYLIGHT
TZOFFSETFROM:-0500
TZOFFSETTO:-0400
TZNAME:EDT
DTSTART:20160313T070000
END:DAYLIGHT
BEGIN:STANDARD
TZOFFSETFROM:-0400
TZOFFSETTO:-0500
TZNAME:EST
DTSTART:20161106T060000
END:STANDARD
END:VTIMEZONE
BEGIN:VEVENT
DTSTART;TZID=America/Detroit:20150515T180000
DTEND;TZID=America/Detroit:20150615T200000
DTSTAMP:20260423T193557
CREATED:20150424T231820Z
LAST-MODIFIED:20200309T054650Z
UID:10002362-1431712800-1434398400@www.visitglenarbor.com
SUMMARY:Blossom: A Springtime Members Show
DESCRIPTION:The Glen Arbor Art Association is holding an exhibition of 35 of its membersâ paintings and photographs. Â There will be an opening reception 6 pm – 8 pm\, Friday\, May 15 and the exhibit viewing will be open weekdays until June 15. The show will be judged and prizes will be announced at the opening reception. Most artwork will be for sale and many of the artists will be on hand to meet the public at the reception.
URL:https://www.visitglenarbor.com/event/blossom-a-springtime-members-show/
LOCATION:MI\, United States
CATEGORIES:Community Events
END:VEVENT
BEGIN:VEVENT
DTSTART;TZID=America/Detroit:20150522T110000
DTEND;TZID=America/Detroit:20150625T160000
DTSTAMP:20260423T193557
CREATED:20150323T163812Z
LAST-MODIFIED:20200309T054648Z
UID:10002457-1432292400-1435248000@www.visitglenarbor.com
SUMMARY:Charles Murphy: New Paintings
DESCRIPTION:Center Gallery opens its 2015 May 22 with new works of Up North icons by Traverse City painter Charles Murphy. A public reception for the artist is 6 p.m. at the gallery\, 6023 S. Lake St.\, Glen Arbor. \n  \nMurphyâs new body of work reflects his affinity for classic\, northern Michigan symbols â boats\, barns\, birds and the diverse landscape. He looks for subjects that have a strong âlocalâ presence\, and records them as sketches\, which are later finished in the studio. Murphyâs evocative\, emotive impressions of his homeplace are executed in a richly saturated palette using watercolor\, oil and acrylic. \n  \nTwo artistâs demonstrations are scheduled as part of this exhibition\, June 6 and June 20\, 1 p.m. at Center Gallery. Murphy will paint and talk about his work. The exhibition continues through June 25. For more information\, please call 231/334-3179 or go to: lakestreetstudiosglenarbor.com/.
URL:https://www.visitglenarbor.com/event/charles-murphy-new-paintings/
LOCATION:Center Gallery at Lake Street Studios
CATEGORIES:Community Events,Local Business Event
END:VEVENT
BEGIN:VEVENT
DTSTART;TZID=America/Detroit:20150608T190000
DTEND;TZID=America/Detroit:20150608T200000
DTSTAMP:20260423T193557
CREATED:20150602T230253Z
LAST-MODIFIED:20200309T054652Z
UID:10002470-1433790000-1433793600@www.visitglenarbor.com
SUMMARY:Cottage Book Shop presents Random House Rep Night
DESCRIPTION:Random House Rep Night\nMonday June 8 at 7:00 p.m.\nGlen Arbor Town Hall\nOur friends Bridget and Laura\, representatives from Penguin Random House\, will be here to discuss the latest and greatest in the publishing world. Special savings\, expert recommendations\, giveaways…bring your book group\, bring your friends – this is one of those events you will regret missing! Reception and book sales following the program at Cottage Book Shop. This is an event in partnership with Glen Lake Community Library. To register call 231-334-4223.
URL:https://www.visitglenarbor.com/event/cottage-book-shop-presents-random-house-rep-night/
LOCATION:Glen Arbor Township Hall
CATEGORIES:Community Events
ORGANIZER;CN="Sue Boucher":MAILTO:sue@cottagebooks.com
END:VEVENT
BEGIN:VEVENT
DTSTART;TZID=America/Detroit:20150609T160000
DTEND;TZID=America/Detroit:20150609T193000
DTSTAMP:20260423T193557
CREATED:20150414T210724Z
LAST-MODIFIED:20150414T210724Z
UID:10002354-1433865600-1433878200@www.visitglenarbor.com
SUMMARY:June 2015 | Glen Arbor Walkabout + Chamber Meeting
DESCRIPTION:Tuesday\, June 9th\, 2015 | Village walkabout + Meeting\nPlease join us for a village walkabout around Glen Arbor on June 9th! This is an opportunity to allow members/business owners to show and tell their store/products/services with the intention to educate\, having things to share in order to promote each other throughout the season. \nThe ‘Walkabout’ at 4pm sharp on the east side of town at Crystal River Outfitters/The Cyclery\, with a toast to the season at the M-22 Store\, then work our way west. The walk is weather permitting\, if it’s raining we’ll cancel this portion and plan on meeting at the Glen Arbor Art Association for the social and member meeting. \nSchedule\n4:00pm  | Walk Around:  starting at Crystal River Outfitters/The Cyclery/M22 Store \n5:30pm | Social at Glen Arbor Art Association \n6:15pm | Meeting \nWe hope to see you there!   \nMembers and others\, feel free to attend\, bring a colleague or friend!
URL:https://www.visitglenarbor.com/event/glen-arbor-walkabout-chamber-meeting/
LOCATION:Glen Arbor Arts Center\, 6031 S. Lake Street\, Glen Arbor\, MI\, 49636
CATEGORIES:Chamber Events,Community Events,Local Business Event
END:VEVENT
BEGIN:VEVENT
DTSTART;TZID=America/Detroit:20150612T073000
DTEND;TZID=America/Detroit:20150614T150000
DTSTAMP:20260423T193557
CREATED:20150529T144650Z
LAST-MODIFIED:20200309T054652Z
UID:10002468-1434094200-1434294000@www.visitglenarbor.com
SUMMARY:Glen Arbor Art Association presents the Reader Theater performance of God Bless the Child
DESCRIPTION:Glen Arbor Art Association presents the Reader Theater performance of God Bless the Child by Empire author Ron Healy. It is a story of redemption within the generations of a family.  Naomi and Oliver have recently married and are having difficulties adjusting to their new positions and differing backgrounds.  It is a rocky start but salvaged by an honest course of action taken by their grandchildren who\, without meaning to\, help them adjust to their new life.\n\nThe story takes place on a farm where roots are deep and generations of family inform the past\, present and future. ”God Bless the Child”\, directed by Harriet Mittelberger\,  will be performed June 12\, and 13 at 7:30 p.m. and June 14\, at 3:00 p.m. at GAAA . Admission is free but reservations are recommended and can be made at glenarborart.org.\n\nThe cast list is as follows:  Joe Kilpatrick is Oliver\, Kathryn Den Houter is Naomi\, Pete LaPlaca is Porter\, James Deaton is Cal\, Oliver’s grandson\, Cory Woessner is Jaime\, Naomi’s grandson\, and Rhonda Richards is Carey\, Jaime’s wife.\n 
URL:https://www.visitglenarbor.com/event/glen-arbor-art-association-presents-the-reader-theater-performance-of-god-bless-the-child/
LOCATION:MI\, United States
CATEGORIES:Community Events
END:VEVENT
BEGIN:VEVENT
DTSTART;TZID=America/Detroit:20150618T090000
DTEND;TZID=America/Detroit:20150620T090000
DTSTAMP:20260423T193557
CREATED:20150413T172010Z
LAST-MODIFIED:20200309T054649Z
UID:10002348-1434618000-1434790800@www.visitglenarbor.com
SUMMARY:Barn Restoration Workshop in Port Oneida
DESCRIPTION:At Burfiend Barn in Port Oneida\n| Event Date: June 18 – 20\, 2015\nFriends of Sleeping Bear Dunes\nThe park will again be hosting our successful barn restoration workshop June 18-20th at the John Burfiend Barn located on Port Oneida Road\, four (4) miles north of Glen Arbor\, Michigan on M-22. This year marks the 19th year of the partnership between the Michigan Barn Preservation Network and Sleeping Bear Dunes National Lakeshore in developing this series of “hands-on” workshops. The park and the Michigan Barn Preservation Network are providing the skilled labor to put on this workshop. \nThe workshop will address “Barn Floor\, Siding\, Post\, Ramp\, Window and Door Repair and Construction.” The John Burfiend Barn was the site of the first park and Michigan Barn Preservation Network workshop in 1997. The course will include 1) basics about structural and load analysis for post placement and repair\, 2) repair of floors and walkways\, 3) wood ramp installation\, 5) large and pedestrian door repair\, construction and installation\, 6) wood window repair\, 7) exterior siding repair and installation\, and 8) tool safety while completing the task presented. This workshop is again able to provide a unique experience for all participants. \nThe course is set up so participants receive “hands on” training of all techniques. The workshop begins on site at 9:00 a.m. each day. There is no cost to participants. Tools and materials will be provided. Participants should wear boots\, gloves\, and bring a sack lunch for each day that they attend. Participants can sign up for any number of days. \nWorkers are not required to be skilled in the building trades\, though experience will be helpful and appreciated. The purpose of the workshop is to teach the techniques and train owners and those interested how to do restoration work on timber and frame structures\, including concrete and stonework. Past workshop attendees have ranged in age from 7 to 75 with each contributing their own unique skills to the project. \nCampsites will be provided for those volunteers who wish to camp for those days they are signed up for the workshop. Please indicate on the form\, by email\, or when you call to sign up. Interested parties should contact the park historical architect\, Kimberly Mann (231)326-4771\, to sign up for the workshop. To sign up by email: kimberly_mann@nps.gov
URL:https://www.visitglenarbor.com/event/barn-restoration-workshop-in-port-oneida/
LOCATION:Port Oneida Rural Historic District\, 3164 W Harbor Hwy\, Maple City\, MI\, 49664\, United States
CATEGORIES:Community Events
ATTACH;FMTTYPE=image/jpeg:https://www.visitglenarbor.com/wp-content/uploads/2020/03/Burfield-Farm-in-Port-Oneida.jpg
ORGANIZER;CN="Friends of Sleeping Bear Dunes":MAILTO: info@friendsofsleepingbear.org
END:VEVENT
BEGIN:VEVENT
DTSTART;TZID=America/Detroit:20150618T193000
DTEND;TZID=America/Detroit:20150618T210000
DTSTAMP:20260423T193557
CREATED:20150415T190116Z
LAST-MODIFIED:20200309T054650Z
UID:10002358-1434655800-1434661200@www.visitglenarbor.com
SUMMARY:Artist-in-Residence Talk: Poet Nancy Cook
DESCRIPTION:Nancy Cook\, a creative writer from St. Paul\, Minnesota\, talks about her artistâs residency with the Glen Arbor Art Association (GAAA) June 18\, 7:30 p.m. at the GAAA\, 6031 S. Lake St.\, Glen Arbor. \n  \nCook is using her two-week residency to move eight poems in draft form closer to the finish line: a chapbook of 35-40 pages. The book is scheduled to be published at the end of 2015. These poems come out of a series of monthly writing workshops Cook facilitates in a low-income\, St. Paul community. \n  \nAs part of the AIR program\, artists are asked to make a public presentation at the end of their residency. For more information\, please all 231/334-6112 or visit the GAAA website to read about all the GAAAâs artist residents\, glenarborart.org.
URL:https://www.visitglenarbor.com/event/artist-in-residence-talk-poet-nancy-cook/
LOCATION:MI\, United States
CATEGORIES:Community Events,Local Business Event
ATTACH;FMTTYPE=image/jpeg:https://www.visitglenarbor.com/wp-content/uploads/2020/03/Cook-scaled.jpg
END:VEVENT
BEGIN:VEVENT
DTSTART;TZID=America/Detroit:20150620T130000
DTEND;TZID=America/Detroit:20150620T150000
DTSTAMP:20260423T193557
CREATED:20150617T162015Z
LAST-MODIFIED:20150617T162015Z
UID:10002519-1434805200-1434812400@www.visitglenarbor.com
SUMMARY:Painting Demonstration
DESCRIPTION:Traverse City artist Charles Murphy will conduct a painting demonstration as part of his exhibition of new work at Center Gallery\, 6023 S. Lake St.\, Glen Arbor. Murphy will paint and talk about his work Saturday\, June 20\, 1 p.m. \n  \nMurphy’s new body of work reflects his affinity for classic\, northern Michigan symbols – boats\, barns\, birds and the diverse landscape. He looks for subjects that have a strong “local” presence\, and records them as sketches\, which are later finished in the studio. Murphy’s evocative\, emotive impressions of his homeplace are executed in a richly saturated palette using watercolor\, oil and acrylic. \n  \nThe exhibition continues through June 25. For more information\, please call 231/334-3179 or go to: lakestreetstudiosglenarbor.com/.
URL:https://www.visitglenarbor.com/event/painting-demonstration-3/
LOCATION:Center Gallery at Lake Street Studios
CATEGORIES:Community Events,Local Business Event
ATTACH;FMTTYPE=:
END:VEVENT
BEGIN:VEVENT
DTSTART;TZID=America/Detroit:20150620T150000
DTEND;TZID=America/Detroit:20150620T150000
DTSTAMP:20260423T193557
CREATED:20150620T192051Z
LAST-MODIFIED:20200309T054703Z
UID:10002532-1434812400-1434812400@www.visitglenarbor.com
SUMMARY:North Manitou Island Preservation Project
DESCRIPTION:Volunteer Preservation Project – North Manitou Island\nAugust 21-30   A variety of preservation projects\, a program of Preserve Historic Sleeping Bear. Ferry and housing on the island provided. Volunteer now!
URL:https://www.visitglenarbor.com/event/north-manitou-island-preservation-project-2/
LOCATION:North Manitou Island\, MI\, United States
CATEGORIES:Community Events,Local Business Event
END:VEVENT
BEGIN:VEVENT
DTSTART;TZID=America/Detroit:20150625T142000
DTEND;TZID=America/Detroit:20150903T142000
DTSTAMP:20260423T193557
CREATED:20150620T183208Z
LAST-MODIFIED:20200309T054702Z
UID:10002524-1435242000-1441290000@www.visitglenarbor.com
SUMMARY:Historic Farm Horse and Wagon Tours
DESCRIPTION:Horse and Wagon Tours Thursdays 4:30 pm and 5;45  Preserve Historic Sleeping Bear invites you to explore Port Oneida by horse and wagon!  Starting at the Olsen Farm. Learn the history of this significant late 1800s agricultural community. Reservations required – call 231-334-6103  Minimum of 8 registrations required to run the tour.
URL:https://www.visitglenarbor.com/event/historic-farm-horse-wagon-tours/
LOCATION:Port Oneida Rural Historic District\, 3164 W Harbor Hwy\, Maple City\, MI\, 49664\, United States
CATEGORIES:Community Events,Local Business Event,Recreation
ATTACH;FMTTYPE=image/jpeg:https://www.visitglenarbor.com/wp-content/uploads/2020/03/Horse-and-wagon.jpg
END:VEVENT
BEGIN:VEVENT
DTSTART;VALUE=DATE:20150626
DTEND;VALUE=DATE:20150629
DTSTAMP:20260423T193557
CREATED:20150501T195514Z
LAST-MODIFIED:20200309T054650Z
UID:10002464-1435276800-1435535999@www.visitglenarbor.com
SUMMARY:TENNIS TOURNAMENT for 2015 in Glen Arbor
DESCRIPTION:ALL DOUBLES\, played in our beautiful downtown Glen Arbor park!\nEvents…\nFriday\, June 26th – Women’s Doubles* and luncheon (change this year\, see\nbelow for info) \nSaturday\, June 27th – Men’s Doubles* (change this year\, see below for info)\nand Mixed-Doubles* Draws \nSunday\, June 28th – Semi’s and Finals of Men’s Doubles and Mixed-Doubles\nDraws \n*each team is guaranteed at least 2 matches \nCost…\n$50.00 (per player) – Women’s Doubles and Luncheon\, by Cherry Republic\, winners prizes and door prizes donated by local businesses and artists\, T-shirt included. \n$25.00 (per player) – Men’s Doubles and Mixed Doubles\, includes T-shirt\, sack lunch provided by Cherry Republic and prizes donated by local businesses. \nHow to Enter…\nGet your partners lined up\, email or call me with the names of your team ASAP – last day to enter is Monday\, June 22nd.\nIf you need help finding a doubles partner for any of the events please contact me and we’ll see if we can help.  We will collect money from you at the event\, please bring cash or check (make checks out to the Glen Arbor Township). You will be contacted a few days prior to the event to let you know the approximate times of play. Please let me know if you have any questions and PLEASE pass this along to anyone you think might be interested in this FUN tennis tourney in beautiful downtown Glen Arbor!!! \n Exciting changes this year include 4 newly resurfaced courts for our use at the Leelanau School\, just a couple miles down the road. This allows us to expand our tournament to include 2 separate draws (A and B) in both the Women’s and Men’s Doubles.  The A draw will consist of tournament tough teams\, those who play team tennis\, league play\, 3.5 rating or above and wish to play in a competitive environment. The B draw is for the recreational player\, those who enjoy playing competitively but want to have a more light-hearted fun environment.  If you have any questions where you might fit\, please give me a call or email. \n\nALL money raised from this tournament goes back into maintaining and beautifying our Glen Arbor Park!\nOnce again\, this year the tournament is being sponsored by: AND A big thank you to both Cherry Republic and Anderson’s Market for once again sponsoring our tournament\, this allows us to raise even more money towards improving our beautiful park!
URL:https://www.visitglenarbor.com/event/tennis-tournament-for-2015-in-glen-arbor/
LOCATION:Glen Arbor Tennis Courts & Park\, Corner of S Ray Street/M22 & State St.\, Glen Arbor \, MI\, 49636\, United States
CATEGORIES:Community Events,Recreation
ATTACH;FMTTYPE=image/jpeg:https://www.visitglenarbor.com/wp-content/uploads/2020/03/Glen-Arbor-community-Park-Tennis-Courts.jpg
END:VEVENT
BEGIN:VEVENT
DTSTART;TZID=America/Detroit:20150626T090000
DTEND;TZID=America/Detroit:20150626T160000
DTSTAMP:20260423T193557
CREATED:20150620T184055Z
LAST-MODIFIED:20200309T054702Z
UID:10002525-1435309200-1435334400@www.visitglenarbor.com
SUMMARY:Olsen Farm Preservation Project
DESCRIPTION:Olsen Farm project\, Fri\, June 26  9 am – 4 pm Come out do some historic preservation work on the barn and landscape in the Port Oneida Rural Historic District of Sleeping Bear Dunes National Lakeshore. Bring gloves\, a shovel\, lunch and wear close-toed shoes. Participants can volunteer for an hour or two. Stay as long as you want. For more information call Preserve Historic Sleeping Bear at 334-6103.
URL:https://www.visitglenarbor.com/event/olsen-farm-preservation-project/
LOCATION:Charles Olson Farm\, 3164 W Harbor Hwy\, Glen Arbor\, MI\, 49636\, United States
CATEGORIES:Community Events
ATTACH;FMTTYPE=image/jpeg:https://www.visitglenarbor.com/wp-content/uploads/2020/03/Copy-of-Olsen-barn.jpg
END:VEVENT
BEGIN:VEVENT
DTSTART;TZID=America/Detroit:20150626T110000
DTEND;TZID=America/Detroit:20150702T160000
DTSTAMP:20260423T193557
CREATED:20150525T200911Z
LAST-MODIFIED:20200309T054652Z
UID:10002467-1435316400-1435852800@www.visitglenarbor.com
SUMMARY:Leelanau Icons: New Paintings by Michael Lowery
DESCRIPTION:Grand Ledge artist Michael Lowery makes a “Return To Leelanau” with a new body of watercolor paintings June 26 at Center Gallery\, 6023 S. Lake Street\, Glen Arbor. An artist’s reception is 6-8 p.m. \n  \nLowery’s work is based on Leelanau County icons: weathered barns\, laundry flapping on the farmhouse clothesline\, a solitary raven at rest on the roof. He paints in a limited palette and conveys through shadow and light a sense of nostalgia and melancholy for another imagined time in the county. \n  \n“Return To Leelanau” continues through July 2. For more information please call 231/334-3179.
URL:https://www.visitglenarbor.com/event/leelanau-icons-new-paintings-by-michael-lowery/
LOCATION:Center Gallery at Lake Street Studios
CATEGORIES:Community Events
ATTACH;FMTTYPE=image/jpeg:https://www.visitglenarbor.com/wp-content/uploads/2020/03/art-08-23-14-021-scaled.jpg
END:VEVENT
BEGIN:VEVENT
DTSTART;TZID=America/Detroit:20150629T100000
DTEND;TZID=America/Detroit:20150629T140000
DTSTAMP:20260423T193557
CREATED:20150620T184320Z
LAST-MODIFIED:20200309T054702Z
UID:10002526-1435572000-1435586400@www.visitglenarbor.com
SUMMARY:Port Oneida Docent Recruitment and Orientation
DESCRIPTION:Docent Recruitment and Orientation\, Monday\, June 29 10 am  Reservations required. If you would like to serve as a docent in the Olsen farm exhibit in Port Oneida\, please let us know of your interest by calling  334-6103.  Service of six 3 hour sessions through Fall color season is required of docents.  This is the session to attend to learn about what’s involved.  We welcome new volunteers.
URL:https://www.visitglenarbor.com/event/port-oneida-docent-recruitment-and-orientation/
LOCATION:Charles Olson Farm\, 3164 W Harbor Hwy\, Glen Arbor\, MI\, 49636\, United States
CATEGORIES:Community Events,Local Business Event
ATTACH;FMTTYPE=image/jpeg:https://www.visitglenarbor.com/wp-content/uploads/2020/03/Olsen-Oct.-14-sjp-4-web.jpg
END:VEVENT
END:VCALENDAR