BEGIN:VCALENDAR
VERSION:2.0
PRODID:-//Glen Lake Chamber of Commerce - ECPv6.15.19//NONSGML v1.0//EN
CALSCALE:GREGORIAN
METHOD:PUBLISH
X-ORIGINAL-URL:https://www.visitglenarbor.com
X-WR-CALDESC:Events for Glen Lake Chamber of Commerce
REFRESH-INTERVAL;VALUE=DURATION:PT1H
X-Robots-Tag:noindex
X-PUBLISHED-TTL:PT1H
BEGIN:VTIMEZONE
TZID:America/Detroit
BEGIN:DAYLIGHT
TZOFFSETFROM:-0500
TZOFFSETTO:-0400
TZNAME:EDT
DTSTART:20230312T070000
END:DAYLIGHT
BEGIN:STANDARD
TZOFFSETFROM:-0400
TZOFFSETTO:-0500
TZNAME:EST
DTSTART:20231105T060000
END:STANDARD
BEGIN:DAYLIGHT
TZOFFSETFROM:-0500
TZOFFSETTO:-0400
TZNAME:EDT
DTSTART:20240310T070000
END:DAYLIGHT
BEGIN:STANDARD
TZOFFSETFROM:-0400
TZOFFSETTO:-0500
TZNAME:EST
DTSTART:20241103T060000
END:STANDARD
BEGIN:DAYLIGHT
TZOFFSETFROM:-0500
TZOFFSETTO:-0400
TZNAME:EDT
DTSTART:20250309T070000
END:DAYLIGHT
BEGIN:STANDARD
TZOFFSETFROM:-0400
TZOFFSETTO:-0500
TZNAME:EST
DTSTART:20251102T060000
END:STANDARD
END:VTIMEZONE
BEGIN:VEVENT
DTSTART;TZID=America/Detroit:20241016T170000
DTEND;TZID=America/Detroit:20241016T190000
DTSTAMP:20260422T195218
CREATED:20240921T171322Z
LAST-MODIFIED:20241007T181340Z
UID:10006438-1729098000-1729105200@www.visitglenarbor.com
SUMMARY:Annual Chamber Dinner Meeting
DESCRIPTION:Members of local businesses and organizations are invited to connect with the Glen Lake Chamber on Wednesday\, October 16th\, 2024\, 5-7pm\, graciously hosted at Broomstack Kitchen & Taphouse. Please join the Chamber Board and Officers for our Annual dinner meeting! The evening will begin with a social hour from 5-5:30pm (cash bar)\, followed by an annual meeting from 5:30-6pm\, and finish with a prix-fixe dinner offering from 6-7pm. Please RSVP by Wednesday\, Oct. 9th. Open to Chamber and Non-Chamber members. \n>> RSVP form online \nInterested in joining us on the board of directors or joining the chamber as a new member? This is the perfect event to learn more\, connect with the Glen Lake Chamber and engage with your local business community.
URL:https://www.visitglenarbor.com/event/annual-chamber-dinner-meeting-2024/
LOCATION:Broomstack Kitchen & Taphouse\, 172 W Burdickville Rd\, Maple City\, MI\, 49664
CATEGORIES:Chamber Events,Local Business Event
ATTACH;FMTTYPE=image/jpeg:https://www.visitglenarbor.com/wp-content/uploads/2024/09/105414CB-3AA5-43C0-925A-549BA45DF989-scaled-e1727110622294.jpeg
END:VEVENT
BEGIN:VEVENT
DTSTART;TZID=America/Detroit:20241017T180000
DTEND;TZID=America/Detroit:20241017T210000
DTSTAMP:20260422T195218
CREATED:20241001T150934Z
LAST-MODIFIED:20241001T151011Z
UID:10006445-1729188000-1729198800@www.visitglenarbor.com
SUMMARY:Leelanau Chamber of Commerce Annual Dinner & Meeting
DESCRIPTION:The evening will begin with a cocktail reception in the loft at The Barn at French Valley Vineyard followed by a short business meeting and buffet dinner service in the lower level. Business of the Year will be awarded.\n\n\n\n\n\n\n\n\nA cash bar will be available with a selection of French Valley Vineyard wines\, beer\, water and coffee stations. \nFood service includes hors d’oeuvre display\, plated salad with organic spring greens tossed with pear-infused white balsamic vinaigrette topped with dried cherries & toasted almonds\, with freshly baked rolls and butter for the table. Buffet dinner includes a carving station with garlic & herb-crusted Steamship Round of Beef\, Chicken Breast Forestiere sauteed with fire-roasted leeks and forest mushroom sauce\, smoked gouda redskin mashed potato\, penne pasta with tomato\, basil cream\, artichoke hearts & fire-roasted sweet peppers with asiago cheese\, and fresh vegetable medley with basil & olive oil. \nAdvance tickets are required. \nLeelanau Chamber Members: $90/person\nTable of 8 ppl: $720\nNon-Members (Leelanau Chamber): $105/person \nRSVP by Wednesday\, October 2\, 2024. \n\n\n\n\n\nReserve Tickets\n\n\n\n\n\nFor questions\, contact Jamie Jewell at 231.835.0104 or info@leelanauchamber.com.
URL:https://www.visitglenarbor.com/event/leelanau-chamber-of-commerce-annual-dinner-meeting/
LOCATION:French Valley Vineyard\, 3655 South French Road\, cedar\, MI\, 49621\, United States
CATEGORIES:Chamber Events
ATTACH;FMTTYPE=image/png:https://www.visitglenarbor.com/wp-content/uploads/2024/10/Chamber-Meeting-Dinner.png
ORGANIZER;CN="French Valley Vineyard":MAILTO:info@fvvineyard.com
END:VEVENT
END:VCALENDAR