BEGIN:VCALENDAR
VERSION:2.0
PRODID:-//Glen Lake Chamber of Commerce - ECPv6.15.19//NONSGML v1.0//EN
CALSCALE:GREGORIAN
METHOD:PUBLISH
X-ORIGINAL-URL:https://www.visitglenarbor.com
X-WR-CALDESC:Events for Glen Lake Chamber of Commerce
REFRESH-INTERVAL;VALUE=DURATION:PT1H
X-Robots-Tag:noindex
X-PUBLISHED-TTL:PT1H
BEGIN:VTIMEZONE
TZID:America/Detroit
BEGIN:DAYLIGHT
TZOFFSETFROM:-0500
TZOFFSETTO:-0400
TZNAME:EDT
DTSTART:20230312T070000
END:DAYLIGHT
BEGIN:STANDARD
TZOFFSETFROM:-0400
TZOFFSETTO:-0500
TZNAME:EST
DTSTART:20231105T060000
END:STANDARD
BEGIN:DAYLIGHT
TZOFFSETFROM:-0500
TZOFFSETTO:-0400
TZNAME:EDT
DTSTART:20240310T070000
END:DAYLIGHT
BEGIN:STANDARD
TZOFFSETFROM:-0400
TZOFFSETTO:-0500
TZNAME:EST
DTSTART:20241103T060000
END:STANDARD
BEGIN:DAYLIGHT
TZOFFSETFROM:-0500
TZOFFSETTO:-0400
TZNAME:EDT
DTSTART:20250309T070000
END:DAYLIGHT
BEGIN:STANDARD
TZOFFSETFROM:-0400
TZOFFSETTO:-0500
TZNAME:EST
DTSTART:20251102T060000
END:STANDARD
END:VTIMEZONE
BEGIN:VEVENT
DTSTART;VALUE=DATE:20240517
DTEND;VALUE=DATE:20240520
DTSTAMP:20260419T231755
CREATED:20240301T194941Z
LAST-MODIFIED:20240508T113443Z
UID:10005374-1715904000-1716163199@www.visitglenarbor.com
SUMMARY:Glen Arbor’s Season Opener
DESCRIPTION:Glen Arbor’s Season Opener\nKick off the season with Glen Arbor’s Season Opener\, a fun-filled spend local campaign supporting our businesses!\nAll are invited to “step up to the plate” and “take a swing” during Glen Arbor’s Season Opener! \nEvent “Batter Cards” are available at M22 Glen Arbor and Cottonseed Apparel. Take your Batter Card around town to “run the bases” while support local businesses. See what’s new and open for the season!  Stop by any six participating businesses in the area to see if you can score a home run!  Purchases are encouraged but not required.  1st\, 2nd and 3rd place winners receive “Glen Arbor Bucks.” \nHow it works:  \nThe event takes place at your leisure from Friday\, May 17th to Sunday\, May 19th.  Participants can get their Batter Card at M22 Glen Arbor or Cottonseed. The Batter Card has six spaces (or bases) to get stamped. As you spend the weekend in Glen Arbor\, ask local businesses to stamp your card. Purchases are encouraged but not required during this “shop small\, eat local” campaign. Once all six bases have been stamped\, participants should drop off their completed Batter Card to M22 Glen Arbor and Cottonseed. No more than 2 cards per person. 3 winners are selected to receive “Glen Arbor Bucks.” Winners will be announced via the Glen Lake Chamber’s social media pages and email newsletter.
URL:https://www.visitglenarbor.com/event/season-opener-2024/
CATEGORIES:Chamber Events,Community Events,Kids + Family Friendly,Local Business Event,Recreation
ATTACH;FMTTYPE=image/png:https://www.visitglenarbor.com/wp-content/uploads/2024/05/season-opener-2024-graphic-cover-e1715167913231.png
END:VEVENT
BEGIN:VEVENT
DTSTART;TZID=America/Detroit:20240530T170000
DTEND;TZID=America/Detroit:20240530T190000
DTSTAMP:20260419T231755
CREATED:20240405T172500Z
LAST-MODIFIED:20240408T185718Z
UID:10005412-1717088400-1717095600@www.visitglenarbor.com
SUMMARY:Spring Chamber Connect
DESCRIPTION:Join us on May 30th from 5-7pm at M22’s Wine Patio in Glen Arbor\, MI for an unforgettable “Spring Chamber Connect” event! Members of the community\, local businesses\, and organizations are invited to gather for a delightful social hour hosted by the Glen Lake Chamber. \nThis event offers a unique opportunity to connect with the chamber community\, learn about exciting business updates\, and engage in meaningful conversations. Whether you’re a seasoned member or new to the chamber\, Chamber Connect welcomes all to come together and support each other. Attendance is free and open to both Chamber and Non-Chamber members. We encourage existing members to bring along a non-member\, neighbor\, friend\, or colleague to share in the experience and expand our network. \nAlso\, we are excited to honor “The District” for being named as “Leelanau Business of the Year” in addition to kicking off the Summer season of business in the Glen Lake area. Mark your calendars and join us at Spring Chamber Connect for an evening of camaraderie\, collaboration\, and celebration!
URL:https://www.visitglenarbor.com/event/spring-chamber-connect-24/
LOCATION:M22 Outdoor Wine Patio\, 6298 W. Western Ave\, Glen Arbor\, MI\, 49636\, United States
CATEGORIES:Chamber Events,Community Events,Wine/Beer or Tasting Event
ATTACH;FMTTYPE=image/jpeg:https://www.visitglenarbor.com/wp-content/uploads/2021/08/IMG_2102-scaled-e1637086702391.jpg
END:VEVENT
END:VCALENDAR