BEGIN:VCALENDAR
VERSION:2.0
PRODID:-//Glen Lake Chamber of Commerce - ECPv6.15.19//NONSGML v1.0//EN
CALSCALE:GREGORIAN
METHOD:PUBLISH
X-WR-CALNAME:Glen Lake Chamber of Commerce
X-ORIGINAL-URL:https://www.visitglenarbor.com
X-WR-CALDESC:Events for Glen Lake Chamber of Commerce
REFRESH-INTERVAL;VALUE=DURATION:PT1H
X-Robots-Tag:noindex
X-PUBLISHED-TTL:PT1H
BEGIN:VTIMEZONE
TZID:America/Detroit
BEGIN:DAYLIGHT
TZOFFSETFROM:-0500
TZOFFSETTO:-0400
TZNAME:EDT
DTSTART:20150308T070000
END:DAYLIGHT
BEGIN:STANDARD
TZOFFSETFROM:-0400
TZOFFSETTO:-0500
TZNAME:EST
DTSTART:20151101T060000
END:STANDARD
BEGIN:DAYLIGHT
TZOFFSETFROM:-0500
TZOFFSETTO:-0400
TZNAME:EDT
DTSTART:20160313T070000
END:DAYLIGHT
BEGIN:STANDARD
TZOFFSETFROM:-0400
TZOFFSETTO:-0500
TZNAME:EST
DTSTART:20161106T060000
END:STANDARD
BEGIN:DAYLIGHT
TZOFFSETFROM:-0500
TZOFFSETTO:-0400
TZNAME:EDT
DTSTART:20170312T070000
END:DAYLIGHT
BEGIN:STANDARD
TZOFFSETFROM:-0400
TZOFFSETTO:-0500
TZNAME:EST
DTSTART:20171105T060000
END:STANDARD
END:VTIMEZONE
BEGIN:VEVENT
DTSTART;TZID=America/Detroit:20161004T160000
DTEND;TZID=America/Detroit:20161004T173000
DTSTAMP:20260423T234211
CREATED:20160129T234902Z
LAST-MODIFIED:20200309T054724Z
UID:10002637-1475596800-1475602200@www.visitglenarbor.com
SUMMARY:Chamber Board meeting - October 4th
DESCRIPTION:Chamber Board members meet once a month\, at 4:00pm in the Glen Arbor Township Hall (unless noted otherwise)\, typically scheduled for the 1st Tuesday of the month. These meetings are closed to Board members only. \n2016 Glen Lake Chamber Board Meeting Dates\nJanuary 12\nFebruary 2\nMarch 1\nApril 5\nMay 3\nJune 7\nJuly 5\nAugust 2\nSeptember 6\nOctober 4\nNovember 1\nDecember  6 \n\nUseful Link:\nView our Member meeting dates for 2016\, Open to the Community
URL:https://www.visitglenarbor.com/event/chamber-board-meeting-october-4th/
LOCATION:Glen Arbor Township Hall
CATEGORIES:Chamber Events
END:VEVENT
BEGIN:VEVENT
DTSTART;TZID=America/Detroit:20161011T173000
DTEND;TZID=America/Detroit:20161011T190000
DTSTAMP:20260423T234211
CREATED:20160129T211715Z
LAST-MODIFIED:20200309T054722Z
UID:10002625-1476207000-1476212400@www.visitglenarbor.com
SUMMARY:Chamber Member Fall Dinner
DESCRIPTION:October 11th\, 2016\nPlease join us for our Annual Glen Lake Chamber Member Dinner on October 11th at The Homestead’s Café Manitou. \nSchedule\n5:30pm | Social \n6:15pm | Dinner & Meeting* \n*Cost of Dinner and drinks. Special Menu for the event. \nWe hope to see you there! \nMembers and others\, feel free to attend\, bring a colleague or friend! ALL are welcome to attend.
URL:https://www.visitglenarbor.com/event/chamber-member-dinner-meeting/
CATEGORIES:Chamber Events,Community Events,Local Business Event
ATTACH;FMTTYPE=image/jpeg:https://www.visitglenarbor.com/wp-content/uploads/2020/03/cafe-manitou-the-homestead-resort-glen-arbor.jpg
END:VEVENT
BEGIN:VEVENT
DTSTART;TZID=America/Detroit:20161013T173000
DTEND;TZID=America/Detroit:20161013T190000
DTSTAMP:20260423T234211
CREATED:20160922T200447Z
LAST-MODIFIED:20200309T054755Z
UID:10002802-1476379800-1476385200@www.visitglenarbor.com
SUMMARY:LPCC Business After Hours - Thursday\, October 13
DESCRIPTION:Business After Hours will be held on Thursday\, October 13\, 2016 at 5:30 pm at The Leelanau School which is located near The Homestead.  \n\n\n  \n\n\nAs members of the LPCC\, they are anxious to have fellow chamber members come to their facility to learn about the school\, its mission and everything that they offer to their students.  \n\n\n  \n\n\nThe students will not be on campus at the time so they will be able to provide refreshments!
URL:https://www.visitglenarbor.com/event/lpcc-business-after-hours-thursday-october-13/
LOCATION:Leelanau School\, 1 Old Homestead Rd\, Glen Arbor\, MI\, 49636\, United States
CATEGORIES:Chamber Events,Community Events,Wine/Beer or Tasting Event
ATTACH;FMTTYPE=image/jpeg:https://www.visitglenarbor.com/wp-content/uploads/2020/03/The-Leelanau-School-2014-05-30-2-scaled-e1587065634832.jpg
END:VEVENT
BEGIN:VEVENT
DTSTART;TZID=America/Detroit:20161022T010000
DTEND;TZID=America/Detroit:20161022T180000
DTSTAMP:20260423T234211
CREATED:20160912T013444Z
LAST-MODIFIED:20200309T054753Z
UID:10002791-1477098000-1477159200@www.visitglenarbor.com
SUMMARY:Pumpkin Fest 2016
DESCRIPTION:Join us for the Inaugural pet family friendly Pumpkin Fest on October 22nd from 1-6pm!\nThis celebration of fall will take place downtown Glen Arbor all afternoon\, giving participants time to carve their artistic creations\, enjoy family friendly activities and contests\, followed by a Pumpkin lighting at dusk and a community Dinner. \nFrom 1-6pm Pumpkins will be provided to carve your masterpieces ~ Free and Open to Children of all ages 🙂 Pumpkins will be placed along M22 and there will be a Grand Lighting at 6:30. \nThe fun begins with a Costume Parade for Kids and Pets at 1:30pm. From 2 to 5 There will be live music performed by Jack Pine. There will be lots of  fun\, family-friendly activities such as face painting by The Painted Lady from 2-4pm\, games & prizes at 2\, and again at 4\, with a pie eating contest at 3pm. The pumpkins will be lit just before sunset at 6:30pm for the event grand finale. Need refreshments?  There will be a  Beer Garden outside  Art’s Tavern. \nWhile you’re in town\, make sure to shop at our small businesses and eat at the local establishments. Also happening the same day at Anderson’s Market in Glen Arbor is their annual Harvest Fest\, right on site. With food and wine tastings\, face painting and a brat cookout\, there’s plenty of reasons to be in Glen Arbor October 22nd! \nPumpkin Carving is FREE to participate ~ Open to kids of all ages. Donations Accepted. The Community Dinner is $10 for Adults and $5 for Kids 12 and Under. \n> Join & Share the Event on Facebook\n> Follow @visitglenarbor on Instagram\n\n#fall #event #familyfriendly #pumpkinfest #glenarbor #pureleelanau #shopsmall #eatlocal #thingstodo #harvest #Oktoberfest #livemusic \nInterested in Volunteering or being a Sponsor?\nPlease email Linette right away lrouzer@thehomesteadresort.com \nEvent Sponsors\nGlen Lake Chamber of Commerce \nGlen Arbor B&B \nCottage Books  \nNorthwoods Hardware
URL:https://www.visitglenarbor.com/event/pumpkin-fest-2016/
LOCATION:Downtown Glen Arbor\, Glen Arbor\, MI\, 49636\, United States
CATEGORIES:Chamber Events,Food/Dining Event,Kids + Family Friendly,Recreation
ATTACH;FMTTYPE=image/png:https://www.visitglenarbor.com/wp-content/uploads/2020/03/Pumpkin-Fest-2016_Glen-Arbor_graphic-poster-by-Rockwell-Art-Design-01-2-e1475602606393.png
END:VEVENT
END:VCALENDAR