BEGIN:VCALENDAR
VERSION:2.0
PRODID:-//Glen Lake Chamber of Commerce - ECPv6.15.19//NONSGML v1.0//EN
CALSCALE:GREGORIAN
METHOD:PUBLISH
X-WR-CALNAME:Glen Lake Chamber of Commerce
X-ORIGINAL-URL:https://www.visitglenarbor.com
X-WR-CALDESC:Events for Glen Lake Chamber of Commerce
REFRESH-INTERVAL;VALUE=DURATION:PT1H
X-Robots-Tag:noindex
X-PUBLISHED-TTL:PT1H
BEGIN:VTIMEZONE
TZID:America/Detroit
BEGIN:DAYLIGHT
TZOFFSETFROM:-0500
TZOFFSETTO:-0400
TZNAME:EDT
DTSTART:20210314T070000
END:DAYLIGHT
BEGIN:STANDARD
TZOFFSETFROM:-0400
TZOFFSETTO:-0500
TZNAME:EST
DTSTART:20211107T060000
END:STANDARD
BEGIN:DAYLIGHT
TZOFFSETFROM:-0500
TZOFFSETTO:-0400
TZNAME:EDT
DTSTART:20220313T070000
END:DAYLIGHT
BEGIN:STANDARD
TZOFFSETFROM:-0400
TZOFFSETTO:-0500
TZNAME:EST
DTSTART:20221106T060000
END:STANDARD
BEGIN:DAYLIGHT
TZOFFSETFROM:-0500
TZOFFSETTO:-0400
TZNAME:EDT
DTSTART:20230312T070000
END:DAYLIGHT
BEGIN:STANDARD
TZOFFSETFROM:-0400
TZOFFSETTO:-0500
TZNAME:EST
DTSTART:20231105T060000
END:STANDARD
END:VTIMEZONE
BEGIN:VEVENT
DTSTART;TZID=America/Detroit:20220710T110000
DTEND;TZID=America/Detroit:20220710T150000
DTSTAMP:20260423T115330
CREATED:20220607T211940Z
LAST-MODIFIED:20220610T151831Z
UID:10004637-1657450800-1657465200@www.visitglenarbor.com
SUMMARY:July Artist PopUP + Demo at the GAAC
DESCRIPTION:The Glen Arbor Arts Center’s second\, 2022 artist PopUP is July 10\, 11 am – 3 pm at the GAAC. The PopUP turns the GAAC’s front yard and parking area into open-air exhibition and music venues.\nThe Artist PopUP is an annual summer event. It’s an opportunity for visitors to watch and ask makers about their work\, and to gain insights into creative process. The July PopUP features these makers: \nNancy McRay – weaving\nJudy Kelly – nature journaling\nJoe Lombardo – plein air painting [11am -1 pm]\nTraverse City Dance Project\nJohn Huston – raku firing\nSue Nichols – felting\nJessica Kovan – mixed media\nBarb Reich – pastel painting\nScott Lankton – blacksmith with the Forging for Peace project \nThe PopUP is part of the GAAC’s 6ft Apart Art Series. It’s free and open to the public. For more information go to GlenArborArt.org/EVENTS. The GAAC is located at 6031 S. Lake St.\, Glen Arbor.
URL:https://www.visitglenarbor.com/event/july-artist-popup-demo-at-the-gaac/
LOCATION:Glen Arbor Arts Center\, 6031 S. Lake Street\, Glen Arbor\, MI\, 49636
CATEGORIES:Art/Gallery/Exhibit,Community Events,Kids + Family Friendly
ATTACH;FMTTYPE=image/jpeg:https://www.visitglenarbor.com/wp-content/uploads/2022/06/6FtApart_Webslide.jpg
ORGANIZER;CN="Glen Arbor Arts Center":MAILTO:director@glenarborart.org
END:VEVENT
END:VCALENDAR