BEGIN:VCALENDAR
VERSION:2.0
PRODID:-//Glen Lake Chamber of Commerce - ECPv6.15.20//NONSGML v1.0//EN
CALSCALE:GREGORIAN
METHOD:PUBLISH
X-WR-CALNAME:Glen Lake Chamber of Commerce
X-ORIGINAL-URL:https://www.visitglenarbor.com
X-WR-CALDESC:Events for Glen Lake Chamber of Commerce
REFRESH-INTERVAL;VALUE=DURATION:PT1H
X-Robots-Tag:noindex
X-PUBLISHED-TTL:PT1H
BEGIN:VTIMEZONE
TZID:America/Detroit
BEGIN:DAYLIGHT
TZOFFSETFROM:-0500
TZOFFSETTO:-0400
TZNAME:EDT
DTSTART:20150308T070000
END:DAYLIGHT
BEGIN:STANDARD
TZOFFSETFROM:-0400
TZOFFSETTO:-0500
TZNAME:EST
DTSTART:20151101T060000
END:STANDARD
BEGIN:DAYLIGHT
TZOFFSETFROM:-0500
TZOFFSETTO:-0400
TZNAME:EDT
DTSTART:20160313T070000
END:DAYLIGHT
BEGIN:STANDARD
TZOFFSETFROM:-0400
TZOFFSETTO:-0500
TZNAME:EST
DTSTART:20161106T060000
END:STANDARD
BEGIN:DAYLIGHT
TZOFFSETFROM:-0500
TZOFFSETTO:-0400
TZNAME:EDT
DTSTART:20170312T070000
END:DAYLIGHT
BEGIN:STANDARD
TZOFFSETFROM:-0400
TZOFFSETTO:-0500
TZNAME:EST
DTSTART:20171105T060000
END:STANDARD
END:VTIMEZONE
BEGIN:VEVENT
DTSTART;TZID=America/Detroit:20160713T100000
DTEND;TZID=America/Detroit:20160713T180000
DTSTAMP:20260425T103920
CREATED:20160708T230011Z
LAST-MODIFIED:20200309T054744Z
UID:10002738-1468404000-1468432800@www.visitglenarbor.com
SUMMARY:Trunk Show at Becky Thatcher Designs Featuring Marcel Roelofs
DESCRIPTION:Becky Thatcher Designs will welcome Marcel Roelofs to both its Glen Arbor and Traverse City locations for trunk shows this July. \nEuropean designer Roelofs has lived and worked in Germany since the 70’s. A self-taught designer\, Roelofs has created a unique interchangeable clasp system for necklaces\, earrings and rings that has brought him international recognition. \nMeet Marcel Roelofs in person at Becky Thatcher Designs in Glen Arbor on July 13 between 10:00 a.m. and 6:00 p.m. He will later visit the Traverse City location from July 14-July 16.
URL:https://www.visitglenarbor.com/event/trunk-show-at-becky-thatcher-designs-featuring-marcel-roelofs/
CATEGORIES:Art/Gallery/Exhibit,Community Events,Local Business Event
END:VEVENT
END:VCALENDAR