BEGIN:VCALENDAR
VERSION:2.0
PRODID:-//Glen Lake Chamber of Commerce - ECPv6.15.19//NONSGML v1.0//EN
CALSCALE:GREGORIAN
METHOD:PUBLISH
X-ORIGINAL-URL:https://www.visitglenarbor.com
X-WR-CALDESC:Events for Glen Lake Chamber of Commerce
REFRESH-INTERVAL;VALUE=DURATION:PT1H
X-Robots-Tag:noindex
X-PUBLISHED-TTL:PT1H
BEGIN:VTIMEZONE
TZID:America/Detroit
BEGIN:DAYLIGHT
TZOFFSETFROM:-0500
TZOFFSETTO:-0400
TZNAME:EDT
DTSTART:20210314T070000
END:DAYLIGHT
BEGIN:STANDARD
TZOFFSETFROM:-0400
TZOFFSETTO:-0500
TZNAME:EST
DTSTART:20211107T060000
END:STANDARD
BEGIN:DAYLIGHT
TZOFFSETFROM:-0500
TZOFFSETTO:-0400
TZNAME:EDT
DTSTART:20220313T070000
END:DAYLIGHT
BEGIN:STANDARD
TZOFFSETFROM:-0400
TZOFFSETTO:-0500
TZNAME:EST
DTSTART:20221106T060000
END:STANDARD
BEGIN:DAYLIGHT
TZOFFSETFROM:-0500
TZOFFSETTO:-0400
TZNAME:EDT
DTSTART:20230312T070000
END:DAYLIGHT
BEGIN:STANDARD
TZOFFSETFROM:-0400
TZOFFSETTO:-0500
TZNAME:EST
DTSTART:20231105T060000
END:STANDARD
END:VTIMEZONE
BEGIN:VEVENT
DTSTART;TZID=America/Detroit:20220705T110000
DTEND;TZID=America/Detroit:20220705T120000
DTSTAMP:20260422T215601
CREATED:20220630T232734Z
LAST-MODIFIED:20220630T232740Z
UID:10004659-1657018800-1657022400@www.visitglenarbor.com
SUMMARY:Kids Live Music at the M22 Wine Patio
DESCRIPTION:Join us out on the M22 Wine Patio Tuesday\, July 5th from 11am-12pm for kids live music featuring local group Luunappi. \nLooking for a fun\, interactive\, family friendly morning in Glen Arbor? Luunappi is bringing the laughter and entertainment\, full of stories and music.
URL:https://www.visitglenarbor.com/event/kids-live-music-at-the-m22-wine-patio-2/
LOCATION:M22 Outdoor Wine Patio\, 6298 W. Western Ave\, Glen Arbor\, MI\, 49636\, United States
CATEGORIES:Art/Gallery/Exhibit,Kids + Family Friendly,Music
ATTACH;FMTTYPE=image/jpeg:https://www.visitglenarbor.com/wp-content/uploads/2022/06/Luunnappi-1-scaled-e1659375223996.jpeg
END:VEVENT
BEGIN:VEVENT
DTSTART;TZID=America/Detroit:20220710T110000
DTEND;TZID=America/Detroit:20220710T150000
DTSTAMP:20260422T215601
CREATED:20220607T211940Z
LAST-MODIFIED:20220610T151831Z
UID:10004637-1657450800-1657465200@www.visitglenarbor.com
SUMMARY:July Artist PopUP + Demo at the GAAC
DESCRIPTION:The Glen Arbor Arts Center’s second\, 2022 artist PopUP is July 10\, 11 am – 3 pm at the GAAC. The PopUP turns the GAAC’s front yard and parking area into open-air exhibition and music venues.\nThe Artist PopUP is an annual summer event. It’s an opportunity for visitors to watch and ask makers about their work\, and to gain insights into creative process. The July PopUP features these makers: \nNancy McRay – weaving\nJudy Kelly – nature journaling\nJoe Lombardo – plein air painting [11am -1 pm]\nTraverse City Dance Project\nJohn Huston – raku firing\nSue Nichols – felting\nJessica Kovan – mixed media\nBarb Reich – pastel painting\nScott Lankton – blacksmith with the Forging for Peace project \nThe PopUP is part of the GAAC’s 6ft Apart Art Series. It’s free and open to the public. For more information go to GlenArborArt.org/EVENTS. The GAAC is located at 6031 S. Lake St.\, Glen Arbor.
URL:https://www.visitglenarbor.com/event/july-artist-popup-demo-at-the-gaac/
LOCATION:Glen Arbor Arts Center\, 6031 S. Lake Street\, Glen Arbor\, MI\, 49636
CATEGORIES:Art/Gallery/Exhibit,Community Events,Kids + Family Friendly
ATTACH;FMTTYPE=image/jpeg:https://www.visitglenarbor.com/wp-content/uploads/2022/06/6FtApart_Webslide.jpg
ORGANIZER;CN="Glen Arbor Arts Center":MAILTO:director@glenarborart.org
END:VEVENT
BEGIN:VEVENT
DTSTART;TZID=America/Detroit:20220714T100000
DTEND;TZID=America/Detroit:20220714T120000
DTSTAMP:20260422T215601
CREATED:20220712T024833Z
LAST-MODIFIED:20220712T133910Z
UID:10003253-1657792800-1657800000@www.visitglenarbor.com
SUMMARY:SPROUT Pop Up Art at M22
DESCRIPTION:SPROUT Arts and crafts popping up at M22 in Glen Arbor on Thursday\, July 14\, from 10 – 12 or until supplies run out. Come get creative! Decorate a picture frame to capture a summer memory. $15 for two crafts and a party favor.
URL:https://www.visitglenarbor.com/event/sprout-pop-up-art-at-m22/
LOCATION:M22 Outdoor Wine Patio\, 6298 W. Western Ave\, Glen Arbor\, MI\, 49636\, United States
CATEGORIES:Art/Gallery/Exhibit,Kids + Family Friendly
ATTACH;FMTTYPE=image/jpeg:https://www.visitglenarbor.com/wp-content/uploads/2022/07/292721401_1065626867430004_8180782633955891132_n.jpg
END:VEVENT
BEGIN:VEVENT
DTSTART;TZID=America/Detroit:20220720T100000
DTEND;TZID=America/Detroit:20220720T160000
DTSTAMP:20260422T215601
CREATED:20220118T202237Z
LAST-MODIFIED:20220218T163002Z
UID:10004553-1658311200-1658332800@www.visitglenarbor.com
SUMMARY:Glen Lake Women's Club Art Fair
DESCRIPTION:This year marks the 51st year of the Glen Lake Woman’s Club Art Fair\, held on July 20th\, 2022 at the Glen Arbor Township Hall from 10 am to 4 pm. \nThis annual juried Art Fair features artists carefully selected to represent one-of-a kind art pieces for sale at the Glen Arbor Township Hall. The Art Fair features artisans in many mediums including pottery\, painting\, textiles\, woodworking\, and jewelry. \nAdmission is free. \n\nAll proceeds support the Glen Lake Community School’s student scholarship program. Since 1980\, the Glen Lake Woman’s Club has awarded $286\,310 to 228 students with both 1st\, 2nd\, and 3rd year scholarships to Northwestern Michigan College. The scholarships are announced at the Glen Lake High School Honors Night in May. \nThe Glen Lake Woman’s Club\, a 501(c)(3) organization\, was established in 1937 with the goal of fostering social\, civil and education projects. The charter members adopted as their slogan\, and “If you wish to live in a better place\, better the place in which you live.” For more info about the Glen Lake Woman’s Club\, the Art Fair\, or the scholarship program: https://glenlakewomansclub.org
URL:https://www.visitglenarbor.com/event/glen-lake-womens-club-art-fair-2022/
LOCATION:Glen Arbor Township Hall
CATEGORIES:Art/Gallery/Exhibit,Shopping
ATTACH;FMTTYPE=image/jpeg:https://www.visitglenarbor.com/wp-content/uploads/2020/03/GLWC-Art-Fair-2021-scaled.jpg
END:VEVENT
BEGIN:VEVENT
DTSTART;TZID=America/Detroit:20220730T170000
DTEND;TZID=America/Detroit:20220730T190000
DTSTAMP:20260422T215601
CREATED:20220419T173856Z
LAST-MODIFIED:20220419T173856Z
UID:10004566-1659200400-1659207600@www.visitglenarbor.com
SUMMARY:Traverse City Dance Project
DESCRIPTION:Traverse City Dance Project\nJuly 30\, 5 – 7 pm\n9805 Nash Road\, Maple City \nSponsored by the Glen Arbor Arts Center and Interlochen Public Radio\, the TCDP performance will feature original choreography\, live music\, and ten professional dancers from around the country. $30 GAAC members\, $35 non-members. Free parking. Read more and purchase your reservations here: https://glenarborart.org/events/traverse-city-dance-project/
URL:https://www.visitglenarbor.com/event/traverse-city-dance-project/
LOCATION:MI\, United States
CATEGORIES:Art/Gallery/Exhibit,Kids + Family Friendly
ATTACH;FMTTYPE=image/jpeg:https://www.visitglenarbor.com/wp-content/uploads/2022/04/2022-TC-Dance-Project-copy.jpg
ORGANIZER;CN="Glen Arbor Arts Center":MAILTO:director@glenarborart.org
END:VEVENT
END:VCALENDAR