BEGIN:VCALENDAR
VERSION:2.0
PRODID:-//Glen Lake Chamber of Commerce - ECPv6.15.19//NONSGML v1.0//EN
CALSCALE:GREGORIAN
METHOD:PUBLISH
X-ORIGINAL-URL:https://www.visitglenarbor.com
X-WR-CALDESC:Events for Glen Lake Chamber of Commerce
REFRESH-INTERVAL;VALUE=DURATION:PT1H
X-Robots-Tag:noindex
X-PUBLISHED-TTL:PT1H
BEGIN:VTIMEZONE
TZID:America/Detroit
BEGIN:DAYLIGHT
TZOFFSETFROM:-0500
TZOFFSETTO:-0400
TZNAME:EDT
DTSTART:20240310T070000
END:DAYLIGHT
BEGIN:STANDARD
TZOFFSETFROM:-0400
TZOFFSETTO:-0500
TZNAME:EST
DTSTART:20241103T060000
END:STANDARD
BEGIN:DAYLIGHT
TZOFFSETFROM:-0500
TZOFFSETTO:-0400
TZNAME:EDT
DTSTART:20250309T070000
END:DAYLIGHT
BEGIN:STANDARD
TZOFFSETFROM:-0400
TZOFFSETTO:-0500
TZNAME:EST
DTSTART:20251102T060000
END:STANDARD
BEGIN:DAYLIGHT
TZOFFSETFROM:-0500
TZOFFSETTO:-0400
TZNAME:EDT
DTSTART:20260308T070000
END:DAYLIGHT
BEGIN:STANDARD
TZOFFSETFROM:-0400
TZOFFSETTO:-0500
TZNAME:EST
DTSTART:20261101T060000
END:STANDARD
END:VTIMEZONE
BEGIN:VEVENT
DTSTART;TZID=America/Detroit:20250815T090000
DTEND;TZID=America/Detroit:20251023T150000
DTSTAMP:20260423T082626
CREATED:20250731T174617Z
LAST-MODIFIED:20250731T174617Z
UID:10008236-1755248400-1761231600@www.visitglenarbor.com
SUMMARY:HIStory / HERstory: Whose Story?
DESCRIPTION:PRESS RELEASE\nContact:\nScott Bouma\nExecutive Director\nGlen Arbor Arts Center\n231 334 6112\ndirector@glenarborart.org \nHIStory / HERstory: Whose Story? [August 15 – October 23\, 2025] \nThe Glen Arbor Arts Center takes on the question of history and voice in its next exhibition. HIStory/HERstory: Whose Story? is an exhibition that explores the idea that the victors have written history. This version of history has often been told from one perspective — while other histories have been ignored\, deleted\, denied\, left out of the official record. The exhibition opens August 15\, 5 pm with a reception in the GAAC Main Gallery. \nWhether it’s visual art\, literature\, film\, sports\, science\, politics\, education\, animal\, mineral\, real or imagined history\, this exhibition asks:  \n•	Who’s telling what stories?\n•	Who’s included in the official record?\n•	Who’s excluded? Omitted? Erased? \nTwenty-four exhibitors take on these questions\, and answer them with work about what’s included in the art historical canon; a fractured telling of Native American history; the voices inside a mom’s head; and other topics. Read more about the exhibit\, and exhibition companion programs. View it online at GlenArborArt.org / EXHIBITS. HIStory / HERstory runs through October 23.
URL:https://www.visitglenarbor.com/event/history-herstory-whose-story/
LOCATION:Glen Arbor Arts Center\, 6031 S. Lake Street\, Glen Arbor\, MI\, 49636
CATEGORIES:Art/Gallery/Exhibit,Community Events,Kids + Family Friendly
ATTACH;FMTTYPE=image/jpeg:https://www.visitglenarbor.com/wp-content/uploads/2025/07/2018_Member-Exhibition_1.jpg
END:VEVENT
BEGIN:VEVENT
DTSTART;TZID=America/Detroit:20250902T090000
DTEND;TZID=America/Detroit:20251217T150000
DTSTAMP:20260423T082626
CREATED:20250830T121106Z
LAST-MODIFIED:20250830T121106Z
UID:10008309-1756803600-1765983600@www.visitglenarbor.com
SUMMARY:Something To Smile About: Mixed Media Paintings By Carol C Spaulding
DESCRIPTION:PRESS RELEASE\nContact\nScott Bouma\nExecutive Director\nGlen Arbor Arts Center\n231 334-6112\ndirector@glenarborart.org \nSomething To Smile About: Mixed Media Paintings By Carol C Spaulding \nLeelanau County artist Carol C Spaulding brings Something To Smile About\, a small group of new mixed media paintings\, to the Glen Arbor Arts Center’s Lobby Gallery. The exhibition runs September 2 – December 17. \nWorking intuitively\, Spaulding combines cut-paper collage with exuberant painting. She creates lively compositions in a bright\, uplifting palette\, full of expressive lines\, inserting an array of delightful marks and icons. “I like to begin with an open mind and a playful attitude\,” Spaulding said. \nSomething To Smile About may be viewed in the Lobby Gallery or online\, GlenArborArt.org / EXHIBITS. The GAAC is open Monday – Friday\, 9 am – 3 pm; and noon – 4 pm on Saturday and Sunday.
URL:https://www.visitglenarbor.com/event/something-to-smile-about-mixed-media-paintings-by-carol-c-spaulding/
LOCATION:Glen Arbor Arts Center\, 6031 S. Lake Street\, Glen Arbor\, MI\, 49636
ATTACH;FMTTYPE=image/jpeg:https://www.visitglenarbor.com/wp-content/uploads/2025/08/Spaulding_In-Cahoots-700x480-1.jpg
ORGANIZER;CN="Glen Arbor Arts Center":MAILTO:director@glenarborart.org
END:VEVENT
BEGIN:VEVENT
DTSTART;VALUE=DATE:20251001
DTEND;VALUE=DATE:20251101
DTSTAMP:20260423T082626
CREATED:20250925T154823Z
LAST-MODIFIED:20251003T163645Z
UID:10008361-1759276800-1761955199@www.visitglenarbor.com
SUMMARY:SHOPtober 2025
DESCRIPTION:Shop Small\, Eat Local\, Win Big! Spend $350 at participating businesses in the Glen Arbor area during the month of October and get entered to win $100 in Glen Arbor Bucks!\nSubmit receipts in an envelope (yours or provided) by Nov. 5. Pick up/drop off at the M22 Store in Glen Arbor or mail to: Glen Lake Chamber\, PO Box 217\, Glen Arbor\, MI 49636. Limit 3 entries per person. \nReceipts must total $350 or more and be dated October 1–31\, 2025. Winners will be announced via Facebook\, Instagram and our email newsletter after November 10th. Purchases on lodging or services may be excluded. \nPrizes up for grabs: $100 for 1st place winner and $60 for 2nd place! Bucks will be valid only for the coming calendar year. Merchants who receive “Glen Arbor Bucks” as a form of payment may be reimbursed by presenting the Chamber with the Glen Arbor Buck used for purchase. Questions about the event? Contact Kaitlyn at M22 Glen Arbor via email: kait@crystalriveroutfitters.com  \n• Browse the local business directory \n• Share the SHOPtober Event on Facebook! \n 
URL:https://www.visitglenarbor.com/event/shoptober-2025/
LOCATION:MI
CATEGORIES:Community Events,Local Business Event,Shopping
ATTACH;FMTTYPE=image/png:https://www.visitglenarbor.com/wp-content/uploads/2025/09/Shoptober_facebook-cover-graphic-scaled.png
END:VEVENT
BEGIN:VEVENT
DTSTART;TZID=America/Detroit:20251005T150000
DTEND;TZID=America/Detroit:20251005T180000
DTSTAMP:20260423T082626
CREATED:20250528T165533Z
LAST-MODIFIED:20250605T154032Z
UID:10007897-1759676400-1759687200@www.visitglenarbor.com
SUMMARY:Live Music at Dune Bird Winery: Larry Perkins
DESCRIPTION:Dune Bird Winery invites you to unwind and sip on your favorite wine\, handcrafted coffee or just soak in the vineyard views while enjoying live music by the wonderful Larry Perkins. 
URL:https://www.visitglenarbor.com/event/live-music-at-dune-bird-winery-larry-perkins/2025-10-05/
LOCATION:Dune Bird Winery\, 5620 N Manitou Trail\,\, Northport\, MI\, 49670\, United States
CATEGORIES:Community Events,Music,Wine/Beer or Tasting Event
ATTACH;FMTTYPE=image/jpeg:https://www.visitglenarbor.com/wp-content/uploads/2025/05/dunebirdlivemusic2025-1.jpg
ORGANIZER;CN="Dune Bird Winery":MAILTO:info@dunebirdwinery.com
END:VEVENT
BEGIN:VEVENT
DTSTART;TZID=America/Detroit:20251005T170000
DTEND;TZID=America/Detroit:20251005T190000
DTSTAMP:20260423T082626
CREATED:20250925T162326Z
LAST-MODIFIED:20250925T162326Z
UID:10008377-1759683600-1759690800@www.visitglenarbor.com
SUMMARY:Jeff\, Jerry and the Electric Sax
DESCRIPTION:Sundays | 7–9 PM (5–7 PM through October 12) \nSit back and chill at Glen Arbor Wines to emjoy a sip and the greatest soft rock/jazz you’ll hear anywhere in Northern Michigan!
URL:https://www.visitglenarbor.com/event/jeff-jerry-and-the-electric-sax/2025-10-05/
LOCATION:Glen Arbor Wines
CATEGORIES:Local Business Event,Music,Wine/Beer or Tasting Event
ATTACH;FMTTYPE=image/jpeg:https://www.visitglenarbor.com/wp-content/uploads/2020/03/Glen-Arbor-Wines_tasting-room-flowery-vintage-exterior.jpg
END:VEVENT
END:VCALENDAR