BEGIN:VCALENDAR
VERSION:2.0
PRODID:-//Glen Lake Chamber of Commerce - ECPv6.15.19//NONSGML v1.0//EN
CALSCALE:GREGORIAN
METHOD:PUBLISH
X-ORIGINAL-URL:https://www.visitglenarbor.com
X-WR-CALDESC:Events for Glen Lake Chamber of Commerce
REFRESH-INTERVAL;VALUE=DURATION:PT1H
X-Robots-Tag:noindex
X-PUBLISHED-TTL:PT1H
BEGIN:VTIMEZONE
TZID:America/Detroit
BEGIN:DAYLIGHT
TZOFFSETFROM:-0500
TZOFFSETTO:-0400
TZNAME:EDT
DTSTART:20240310T070000
END:DAYLIGHT
BEGIN:STANDARD
TZOFFSETFROM:-0400
TZOFFSETTO:-0500
TZNAME:EST
DTSTART:20241103T060000
END:STANDARD
BEGIN:DAYLIGHT
TZOFFSETFROM:-0500
TZOFFSETTO:-0400
TZNAME:EDT
DTSTART:20250309T070000
END:DAYLIGHT
BEGIN:STANDARD
TZOFFSETFROM:-0400
TZOFFSETTO:-0500
TZNAME:EST
DTSTART:20251102T060000
END:STANDARD
BEGIN:DAYLIGHT
TZOFFSETFROM:-0500
TZOFFSETTO:-0400
TZNAME:EDT
DTSTART:20260308T070000
END:DAYLIGHT
BEGIN:STANDARD
TZOFFSETFROM:-0400
TZOFFSETTO:-0500
TZNAME:EST
DTSTART:20261101T060000
END:STANDARD
END:VTIMEZONE
BEGIN:VEVENT
DTSTART;TZID=America/Detroit:20250815T090000
DTEND;TZID=America/Detroit:20251023T150000
DTSTAMP:20260422T030400
CREATED:20250731T174617Z
LAST-MODIFIED:20250731T174617Z
UID:10008236-1755248400-1761231600@www.visitglenarbor.com
SUMMARY:HIStory / HERstory: Whose Story?
DESCRIPTION:PRESS RELEASE\nContact:\nScott Bouma\nExecutive Director\nGlen Arbor Arts Center\n231 334 6112\ndirector@glenarborart.org \nHIStory / HERstory: Whose Story? [August 15 – October 23\, 2025] \nThe Glen Arbor Arts Center takes on the question of history and voice in its next exhibition. HIStory/HERstory: Whose Story? is an exhibition that explores the idea that the victors have written history. This version of history has often been told from one perspective — while other histories have been ignored\, deleted\, denied\, left out of the official record. The exhibition opens August 15\, 5 pm with a reception in the GAAC Main Gallery. \nWhether it’s visual art\, literature\, film\, sports\, science\, politics\, education\, animal\, mineral\, real or imagined history\, this exhibition asks:  \n•	Who’s telling what stories?\n•	Who’s included in the official record?\n•	Who’s excluded? Omitted? Erased? \nTwenty-four exhibitors take on these questions\, and answer them with work about what’s included in the art historical canon; a fractured telling of Native American history; the voices inside a mom’s head; and other topics. Read more about the exhibit\, and exhibition companion programs. View it online at GlenArborArt.org / EXHIBITS. HIStory / HERstory runs through October 23.
URL:https://www.visitglenarbor.com/event/history-herstory-whose-story/
LOCATION:Glen Arbor Arts Center\, 6031 S. Lake Street\, Glen Arbor\, MI\, 49636
CATEGORIES:Art/Gallery/Exhibit,Community Events,Kids + Family Friendly
ATTACH;FMTTYPE=image/jpeg:https://www.visitglenarbor.com/wp-content/uploads/2025/07/2018_Member-Exhibition_1.jpg
END:VEVENT
BEGIN:VEVENT
DTSTART;TZID=America/Detroit:20250829T170000
DTEND;TZID=America/Detroit:20250912T200000
DTSTAMP:20260422T030400
CREATED:20250617T173643Z
LAST-MODIFIED:20250617T173643Z
UID:10007984-1756486800-1757707200@www.visitglenarbor.com
SUMMARY:Late Night Fridays and Manitou Music
DESCRIPTION:PRESS RELEASE \nContact:\nScott Bouma\nExecutive Director\nGlen Arbor Arts Center\n231/334-6112\ndirector@glenarborart.org \nThe Glen Arbor Arts Center is keeping the lights on a little longer on Friday nights. Late Night Fridays and Manitou Music bring the B-Side Growlers back to the GAAC Front Porch on June 27\, 5-7 pm. This “tradition-inspired\, toe-tapping fired” acoustic trio from Grand Rapids plays a plein air concert of blues\, jazz and country. Bring a chair and refreshments.\nAs part of Late Night Fridays\, both GAAC galleries are open June 13\, 20\, and 27. In the GAAC Main Gallery is the 2025 Members Create\, an exhibition of work by 49 GAAC members. In the Lobby Gallery: Random: Collages From The Scrap Pile by Leelanau County painter Mark Mehaffey. Read more about the exhibit here: GlenArborArt.org / EXHIBITS.\nAll Late Friday Nights events are free. The GAAC is located at 6031 S. Lake St.\, Glen Arbor.
URL:https://www.visitglenarbor.com/event/late-night-fridays-and-manitou-music/2025-08-29/
LOCATION:Glen Arbor Arts Center\, 6031 S. Lake Street\, Glen Arbor\, MI\, 49636
CATEGORIES:Art/Gallery/Exhibit,Community Events,Music
ATTACH;FMTTYPE=image/jpeg:https://www.visitglenarbor.com/wp-content/uploads/2025/06/LateNightFridays_2023_Webslide.jpg
ORGANIZER;CN="Glen Arbor Arts Center":MAILTO:director@glenarborart.org
END:VEVENT
BEGIN:VEVENT
DTSTART;TZID=America/Detroit:20250901T080000
DTEND;TZID=America/Detroit:20250930T150000
DTSTAMP:20260422T030400
CREATED:20250830T121153Z
LAST-MODIFIED:20250830T155904Z
UID:10008302-1756713600-1759244400@www.visitglenarbor.com
SUMMARY:Glen Arbor Arts Center Launches Creative Wellness Month This September
DESCRIPTION:The Glen Arbor Arts Center (GAAC) is proud to introduce Creative Wellness Month\, a new\, expanded initiative launching this September. A month-long series of art\, movement\, mindfulness\, and community programs designed to support well-being and inspire reflection\, renewal\, and creative exploration. \nBuilding on their former Creative Wellness Retreat\, this reimagined\, month-long series invites participants to slow down\, reflect\, and reconnect through visual arts\, writing\, movement\, meditation\, and nature-based practices. Program offerings will take place at both the Glen Arbor Arts Center in Glen Arbor and the GAAC Ceramics Studio at historic Thoreson Farm\, part of the Sleeping Bear Dunes National Lakeshore. \n“Creative expression can be a transformative tool for personal healing and community connection\,” said Kristie McCaw\, Program Manager at GAAC. “Creative Wellness Month brings together artists\, wellness practitioners\, and neighbors to explore how art and mindfulness can help us care for ourselves and each other.” \nPrograms are open to adults\, with a mix of paid and free events available throughout the month. A full schedule and registration information is available at https://glenarborart.org/introducing-creative-wellness-month-in-september/ \nCreative Wellness Month includes:\nAutumn Gratitude \nCreating a Stitch Journal: The Art of Meditative Stitching \nForest Bathing & Expressive Arts in Nature \nCreativity Bootcamp: Re-energizing Your Creative Practice \nHealing Words: Writing Through Grief \nYoga Nidra for Creativity (Free\, in the gallery) \nYoga for Artists’ Muscles (Free\, in the gallery) \nMindful Messages: Creating Personal Affirmation Cards \nPainting With Nature \nRaku Firing Saturdays (at Thoreson Farm) \nTouchstones: A Clay Wellness Drop-In (Free\, at Thoreson Farm) \nThrough Your Own Eyes: A Healing Art Experience \nGallery Walk + Talk: Visual Art = Good Health (Free\, in the gallery) \nFor more information\, please contact:\nGlen Arbor Arts Center\nKristie McCaw\, Program Manager\nkristiem@glenarborart.org\nAbout the Glen Arbor Arts Center\nThe Glen Arbor Arts Center is a nonprofit organization dedicated to enriching community life through the arts by providing educational programs\, exhibitions\, performances\, and more.
URL:https://www.visitglenarbor.com/event/glen-arbor-arts-center-launches-creative-wellness-month-this-september/
LOCATION:Glen Arbor Arts Center\, 6031 S. Lake Street\, Glen Arbor\, MI\, 49636
CATEGORIES:Community Events
ATTACH;FMTTYPE=image/jpeg:https://www.visitglenarbor.com/wp-content/uploads/2025/08/Forest-Bathing-Expressive-Arts-in-Nature-3-Debby-Singleton-.jpg
ORGANIZER;CN="Glen Arbor Arts Center":MAILTO:director@glenarborart.org
END:VEVENT
BEGIN:VEVENT
DTSTART;TZID=America/Detroit:20250902T090000
DTEND;TZID=America/Detroit:20251217T150000
DTSTAMP:20260422T030400
CREATED:20250830T121106Z
LAST-MODIFIED:20250830T121106Z
UID:10008309-1756803600-1765983600@www.visitglenarbor.com
SUMMARY:Something To Smile About: Mixed Media Paintings By Carol C Spaulding
DESCRIPTION:PRESS RELEASE\nContact\nScott Bouma\nExecutive Director\nGlen Arbor Arts Center\n231 334-6112\ndirector@glenarborart.org \nSomething To Smile About: Mixed Media Paintings By Carol C Spaulding \nLeelanau County artist Carol C Spaulding brings Something To Smile About\, a small group of new mixed media paintings\, to the Glen Arbor Arts Center’s Lobby Gallery. The exhibition runs September 2 – December 17. \nWorking intuitively\, Spaulding combines cut-paper collage with exuberant painting. She creates lively compositions in a bright\, uplifting palette\, full of expressive lines\, inserting an array of delightful marks and icons. “I like to begin with an open mind and a playful attitude\,” Spaulding said. \nSomething To Smile About may be viewed in the Lobby Gallery or online\, GlenArborArt.org / EXHIBITS. The GAAC is open Monday – Friday\, 9 am – 3 pm; and noon – 4 pm on Saturday and Sunday.
URL:https://www.visitglenarbor.com/event/something-to-smile-about-mixed-media-paintings-by-carol-c-spaulding/
LOCATION:Glen Arbor Arts Center\, 6031 S. Lake Street\, Glen Arbor\, MI\, 49636
ATTACH;FMTTYPE=image/jpeg:https://www.visitglenarbor.com/wp-content/uploads/2025/08/Spaulding_In-Cahoots-700x480-1.jpg
ORGANIZER;CN="Glen Arbor Arts Center":MAILTO:director@glenarborart.org
END:VEVENT
BEGIN:VEVENT
DTSTART;TZID=America/Detroit:20250905T170000
DTEND;TZID=America/Detroit:20250919T200000
DTSTAMP:20260422T030400
CREATED:20250617T173643Z
LAST-MODIFIED:20250617T173643Z
UID:10007985-1757091600-1758312000@www.visitglenarbor.com
SUMMARY:Late Night Fridays and Manitou Music
DESCRIPTION:PRESS RELEASE \nContact:\nScott Bouma\nExecutive Director\nGlen Arbor Arts Center\n231/334-6112\ndirector@glenarborart.org \nThe Glen Arbor Arts Center is keeping the lights on a little longer on Friday nights. Late Night Fridays and Manitou Music bring the B-Side Growlers back to the GAAC Front Porch on June 27\, 5-7 pm. This “tradition-inspired\, toe-tapping fired” acoustic trio from Grand Rapids plays a plein air concert of blues\, jazz and country. Bring a chair and refreshments.\nAs part of Late Night Fridays\, both GAAC galleries are open June 13\, 20\, and 27. In the GAAC Main Gallery is the 2025 Members Create\, an exhibition of work by 49 GAAC members. In the Lobby Gallery: Random: Collages From The Scrap Pile by Leelanau County painter Mark Mehaffey. Read more about the exhibit here: GlenArborArt.org / EXHIBITS.\nAll Late Friday Nights events are free. The GAAC is located at 6031 S. Lake St.\, Glen Arbor.
URL:https://www.visitglenarbor.com/event/late-night-fridays-and-manitou-music/2025-09-05/
LOCATION:Glen Arbor Arts Center\, 6031 S. Lake Street\, Glen Arbor\, MI\, 49636
CATEGORIES:Art/Gallery/Exhibit,Community Events,Music
ATTACH;FMTTYPE=image/jpeg:https://www.visitglenarbor.com/wp-content/uploads/2025/06/LateNightFridays_2023_Webslide.jpg
ORGANIZER;CN="Glen Arbor Arts Center":MAILTO:director@glenarborart.org
END:VEVENT
BEGIN:VEVENT
DTSTART;TZID=America/Detroit:20250907T110000
DTEND;TZID=America/Detroit:20250907T120000
DTSTAMP:20260422T030400
CREATED:20250830T121131Z
LAST-MODIFIED:20250830T121131Z
UID:10008305-1757242800-1757246400@www.visitglenarbor.com
SUMMARY:‘Not Accepted: An Historical Look At Art Exhibition Rejection’
DESCRIPTION:Rejection from juried exhibitions is baked into the cake for artists who want to show their work. “Not Accepted: A Conversation About Rejection\,” a slide lecture\, delves into the topic. The lecture takes place at the Glen Arbor Arts Center on September 7\, 11 am. Tickets are $5 for GAAC members\, $10 for nonmembers. Reservations are required.\n“Not Accepted” explores rejection through the lens of two\, historic examples: the Paris Salon of 1863\, and the Third Reich’s suppression and destruction of visual art it considered “degenerate.” The topic also touches upon other issues: Who determines what is acceptable art? Whose voice is heard? And\, whose voice is erased? GAAC Gallery Manager Sarah Bearup-Neal leads the discussion.\nThe lecture is offered as part of the GAAC’s exhibition HIStory / HERstory: Whose Story? The show is on display in the GAAC Main Gallery through October 23. To reserve a ticket or for more information about the exhibit\, go to: GlenArborArt.org /EXHIBITS.
URL:https://www.visitglenarbor.com/event/not-accepted-an-historical-look-at-art-exhibition-rejection/
LOCATION:Glen Arbor Arts Center\, 6031 S. Lake Street\, Glen Arbor\, MI\, 49636
CATEGORIES:Art/Gallery/Exhibit,Community Events
ATTACH;FMTTYPE=image/jpeg:https://www.visitglenarbor.com/wp-content/uploads/2025/08/XXXXXA-VIEW-OF-THE-SALON.jpg
ORGANIZER;CN="Glen Arbor Arts Center":MAILTO:director@glenarborart.org
END:VEVENT
BEGIN:VEVENT
DTSTART;TZID=America/Detroit:20250907T150000
DTEND;TZID=America/Detroit:20250907T180000
DTSTAMP:20260422T030400
CREATED:20250605T153146Z
LAST-MODIFIED:20250605T153146Z
UID:10007892-1757257200-1757268000@www.visitglenarbor.com
SUMMARY:Live Music at Dune Bird Winery: Dennis Palmer
DESCRIPTION:Dune Bird Winery invites you to unwind and sip on your favorite wine\, handcrafted coffee or just soak in the vineyard views while enjoying live music by the wonderful Dennis Palmer.
URL:https://www.visitglenarbor.com/event/live-music-at-dune-bird-winery-dennis-palmer/2025-09-07/
LOCATION:Dune Bird Winery\, 5620 N Manitou Trail\,\, Northport\, MI\, 49670\, United States
CATEGORIES:Community Events,Music,Wine/Beer or Tasting Event
ATTACH;FMTTYPE=image/jpeg:https://www.visitglenarbor.com/wp-content/uploads/2025/05/dunebirdlivemusic2025-1.jpg
ORGANIZER;CN="Dune Bird Winery":MAILTO:info@dunebirdwinery.com
END:VEVENT
BEGIN:VEVENT
DTSTART;TZID=America/Detroit:20250907T153000
DTEND;TZID=America/Detroit:20250907T173000
DTSTAMP:20260422T030400
CREATED:20250515T171525Z
LAST-MODIFIED:20250515T171525Z
UID:10007802-1757259000-1757266200@www.visitglenarbor.com
SUMMARY:Live Music at Bel Lago: Nick Veine
DESCRIPTION:Join us at Bel Lago for live music with Nick Veine.  \nNick Veine brings an eclectic blend of blues\, country\, jazz\, and original tunes to every performance. Imagine Johnny Cash meets James Taylor with a touch of Alan Menken.
URL:https://www.visitglenarbor.com/event/live-music-at-bel-lago-nick-veine/2025-09-07/
LOCATION:Bel Lago\, 6530 S LAKE SHORE DR\, CEDAR\, MI\, 49621-9615\, United States
CATEGORIES:Community Events,Music,Wine/Beer or Tasting Event
ATTACH;FMTTYPE=image/png:https://www.visitglenarbor.com/wp-content/uploads/2025/05/FVV-WINE-CLUB-RACK-CARD-3.png
ORGANIZER;CN="Bel Lago":MAILTO:info@bellago.com
END:VEVENT
BEGIN:VEVENT
DTSTART;TZID=America/Detroit:20250907T170000
DTEND;TZID=America/Detroit:20250907T190000
DTSTAMP:20260422T030400
CREATED:20250925T162326Z
LAST-MODIFIED:20250925T162326Z
UID:10008373-1757264400-1757271600@www.visitglenarbor.com
SUMMARY:Jeff\, Jerry and the Electric Sax
DESCRIPTION:Sundays | 7–9 PM (5–7 PM through October 12) \nSit back and chill at Glen Arbor Wines to emjoy a sip and the greatest soft rock/jazz you’ll hear anywhere in Northern Michigan!
URL:https://www.visitglenarbor.com/event/jeff-jerry-and-the-electric-sax/2025-09-07/
LOCATION:Glen Arbor Wines
CATEGORIES:Local Business Event,Music,Wine/Beer or Tasting Event
ATTACH;FMTTYPE=image/jpeg:https://www.visitglenarbor.com/wp-content/uploads/2020/03/Glen-Arbor-Wines_tasting-room-flowery-vintage-exterior.jpg
END:VEVENT
END:VCALENDAR