BEGIN:VCALENDAR
VERSION:2.0
PRODID:-//Glen Lake Chamber of Commerce - ECPv6.15.19//NONSGML v1.0//EN
CALSCALE:GREGORIAN
METHOD:PUBLISH
X-WR-CALNAME:Glen Lake Chamber of Commerce
X-ORIGINAL-URL:https://www.visitglenarbor.com
X-WR-CALDESC:Events for Glen Lake Chamber of Commerce
REFRESH-INTERVAL;VALUE=DURATION:PT1H
X-Robots-Tag:noindex
X-PUBLISHED-TTL:PT1H
BEGIN:VTIMEZONE
TZID:America/Detroit
BEGIN:DAYLIGHT
TZOFFSETFROM:-0500
TZOFFSETTO:-0400
TZNAME:EDT
DTSTART:20240310T070000
END:DAYLIGHT
BEGIN:STANDARD
TZOFFSETFROM:-0400
TZOFFSETTO:-0500
TZNAME:EST
DTSTART:20241103T060000
END:STANDARD
BEGIN:DAYLIGHT
TZOFFSETFROM:-0500
TZOFFSETTO:-0400
TZNAME:EDT
DTSTART:20250309T070000
END:DAYLIGHT
BEGIN:STANDARD
TZOFFSETFROM:-0400
TZOFFSETTO:-0500
TZNAME:EST
DTSTART:20251102T060000
END:STANDARD
BEGIN:DAYLIGHT
TZOFFSETFROM:-0500
TZOFFSETTO:-0400
TZNAME:EDT
DTSTART:20260308T070000
END:DAYLIGHT
BEGIN:STANDARD
TZOFFSETFROM:-0400
TZOFFSETTO:-0500
TZNAME:EST
DTSTART:20261101T060000
END:STANDARD
END:VTIMEZONE
BEGIN:VEVENT
DTSTART;TZID=America/Detroit:20250727T180000
DTEND;TZID=America/Detroit:20250816T210000
DTSTAMP:20260424T045319
CREATED:20250705T140913Z
LAST-MODIFIED:20250705T140913Z
UID:10008200-1753639200-1755378000@www.visitglenarbor.com
SUMMARY:River Club\, Glen Arbor - Live Music on the River
DESCRIPTION:Live music nightly from 6-9 PM on the beautiful Crystal River. Featuring a variety of performers in the weekly lineup including\, Loose Change\, Drew Hale Levi Britton\, Jim Hawley\, Empire  Highway\, Andre Villoch\, R ock Hat\, Chris Sterr\, Jessie Jefferson\, Chris Smith\, Ben Richey\, ampersands\, Luke Duo and more. Check out our website for more details www.rcglenarbor.com
URL:https://www.visitglenarbor.com/event/river-club-glen-arbor-live-music-on-the-river-3/2025-07-27/
LOCATION:River Club Glen Arbor\, 5963 S. Oak Street\, Glen Arbor\, 49636\, United States
CATEGORIES:Food/Dining Event,Music
ATTACH;FMTTYPE=image/jpeg:https://www.visitglenarbor.com/wp-content/uploads/2025/07/IMG_2127-1-scaled.jpeg
END:VEVENT
BEGIN:VEVENT
DTSTART;TZID=America/Detroit:20250728T180000
DTEND;TZID=America/Detroit:20250817T210000
DTSTAMP:20260424T045319
CREATED:20250705T140913Z
LAST-MODIFIED:20250705T140913Z
UID:10008201-1753725600-1755464400@www.visitglenarbor.com
SUMMARY:River Club\, Glen Arbor - Live Music on the River
DESCRIPTION:Live music nightly from 6-9 PM on the beautiful Crystal River. Featuring a variety of performers in the weekly lineup including\, Loose Change\, Drew Hale Levi Britton\, Jim Hawley\, Empire  Highway\, Andre Villoch\, R ock Hat\, Chris Sterr\, Jessie Jefferson\, Chris Smith\, Ben Richey\, ampersands\, Luke Duo and more. Check out our website for more details www.rcglenarbor.com
URL:https://www.visitglenarbor.com/event/river-club-glen-arbor-live-music-on-the-river-3/2025-07-28/
LOCATION:River Club Glen Arbor\, 5963 S. Oak Street\, Glen Arbor\, 49636\, United States
CATEGORIES:Food/Dining Event,Music
ATTACH;FMTTYPE=image/jpeg:https://www.visitglenarbor.com/wp-content/uploads/2025/07/IMG_2127-1-scaled.jpeg
END:VEVENT
BEGIN:VEVENT
DTSTART;TZID=America/Detroit:20250729T180000
DTEND;TZID=America/Detroit:20250818T210000
DTSTAMP:20260424T045319
CREATED:20250705T140913Z
LAST-MODIFIED:20250705T140913Z
UID:10008202-1753812000-1755550800@www.visitglenarbor.com
SUMMARY:River Club\, Glen Arbor - Live Music on the River
DESCRIPTION:Live music nightly from 6-9 PM on the beautiful Crystal River. Featuring a variety of performers in the weekly lineup including\, Loose Change\, Drew Hale Levi Britton\, Jim Hawley\, Empire  Highway\, Andre Villoch\, R ock Hat\, Chris Sterr\, Jessie Jefferson\, Chris Smith\, Ben Richey\, ampersands\, Luke Duo and more. Check out our website for more details www.rcglenarbor.com
URL:https://www.visitglenarbor.com/event/river-club-glen-arbor-live-music-on-the-river-3/2025-07-29/
LOCATION:River Club Glen Arbor\, 5963 S. Oak Street\, Glen Arbor\, 49636\, United States
CATEGORIES:Food/Dining Event,Music
ATTACH;FMTTYPE=image/jpeg:https://www.visitglenarbor.com/wp-content/uploads/2025/07/IMG_2127-1-scaled.jpeg
END:VEVENT
BEGIN:VEVENT
DTSTART;TZID=America/Detroit:20250730T180000
DTEND;TZID=America/Detroit:20250819T210000
DTSTAMP:20260424T045319
CREATED:20250705T140913Z
LAST-MODIFIED:20250705T140913Z
UID:10008203-1753898400-1755637200@www.visitglenarbor.com
SUMMARY:River Club\, Glen Arbor - Live Music on the River
DESCRIPTION:Live music nightly from 6-9 PM on the beautiful Crystal River. Featuring a variety of performers in the weekly lineup including\, Loose Change\, Drew Hale Levi Britton\, Jim Hawley\, Empire  Highway\, Andre Villoch\, R ock Hat\, Chris Sterr\, Jessie Jefferson\, Chris Smith\, Ben Richey\, ampersands\, Luke Duo and more. Check out our website for more details www.rcglenarbor.com
URL:https://www.visitglenarbor.com/event/river-club-glen-arbor-live-music-on-the-river-3/2025-07-30/
LOCATION:River Club Glen Arbor\, 5963 S. Oak Street\, Glen Arbor\, 49636\, United States
CATEGORIES:Food/Dining Event,Music
ATTACH;FMTTYPE=image/jpeg:https://www.visitglenarbor.com/wp-content/uploads/2025/07/IMG_2127-1-scaled.jpeg
END:VEVENT
BEGIN:VEVENT
DTSTART;TZID=America/Detroit:20250731T180000
DTEND;TZID=America/Detroit:20250820T210000
DTSTAMP:20260424T045319
CREATED:20250705T140913Z
LAST-MODIFIED:20250705T140913Z
UID:10008204-1753984800-1755723600@www.visitglenarbor.com
SUMMARY:River Club\, Glen Arbor - Live Music on the River
DESCRIPTION:Live music nightly from 6-9 PM on the beautiful Crystal River. Featuring a variety of performers in the weekly lineup including\, Loose Change\, Drew Hale Levi Britton\, Jim Hawley\, Empire  Highway\, Andre Villoch\, R ock Hat\, Chris Sterr\, Jessie Jefferson\, Chris Smith\, Ben Richey\, ampersands\, Luke Duo and more. Check out our website for more details www.rcglenarbor.com
URL:https://www.visitglenarbor.com/event/river-club-glen-arbor-live-music-on-the-river-3/2025-07-31/
LOCATION:River Club Glen Arbor\, 5963 S. Oak Street\, Glen Arbor\, 49636\, United States
CATEGORIES:Food/Dining Event,Music
ATTACH;FMTTYPE=image/jpeg:https://www.visitglenarbor.com/wp-content/uploads/2025/07/IMG_2127-1-scaled.jpeg
END:VEVENT
BEGIN:VEVENT
DTSTART;TZID=America/Detroit:20250808T170000
DTEND;TZID=America/Detroit:20250822T200000
DTSTAMP:20260424T045319
CREATED:20250617T173643Z
LAST-MODIFIED:20250617T173643Z
UID:10007981-1754672400-1755892800@www.visitglenarbor.com
SUMMARY:Late Night Fridays and Manitou Music
DESCRIPTION:PRESS RELEASE \nContact:\nScott Bouma\nExecutive Director\nGlen Arbor Arts Center\n231/334-6112\ndirector@glenarborart.org \nThe Glen Arbor Arts Center is keeping the lights on a little longer on Friday nights. Late Night Fridays and Manitou Music bring the B-Side Growlers back to the GAAC Front Porch on June 27\, 5-7 pm. This “tradition-inspired\, toe-tapping fired” acoustic trio from Grand Rapids plays a plein air concert of blues\, jazz and country. Bring a chair and refreshments.\nAs part of Late Night Fridays\, both GAAC galleries are open June 13\, 20\, and 27. In the GAAC Main Gallery is the 2025 Members Create\, an exhibition of work by 49 GAAC members. In the Lobby Gallery: Random: Collages From The Scrap Pile by Leelanau County painter Mark Mehaffey. Read more about the exhibit here: GlenArborArt.org / EXHIBITS.\nAll Late Friday Nights events are free. The GAAC is located at 6031 S. Lake St.\, Glen Arbor.
URL:https://www.visitglenarbor.com/event/late-night-fridays-and-manitou-music/2025-08-08/
LOCATION:Glen Arbor Arts Center\, 6031 S. Lake Street\, Glen Arbor\, MI\, 49636
CATEGORIES:Art/Gallery/Exhibit,Community Events,Music
ATTACH;FMTTYPE=image/jpeg:https://www.visitglenarbor.com/wp-content/uploads/2025/06/LateNightFridays_2023_Webslide.jpg
ORGANIZER;CN="Glen Arbor Arts Center":MAILTO:director@glenarborart.org
END:VEVENT
BEGIN:VEVENT
DTSTART;TZID=America/Detroit:20250815T090000
DTEND;TZID=America/Detroit:20251023T150000
DTSTAMP:20260424T045319
CREATED:20250731T174617Z
LAST-MODIFIED:20250731T174617Z
UID:10008236-1755248400-1761231600@www.visitglenarbor.com
SUMMARY:HIStory / HERstory: Whose Story?
DESCRIPTION:PRESS RELEASE\nContact:\nScott Bouma\nExecutive Director\nGlen Arbor Arts Center\n231 334 6112\ndirector@glenarborart.org \nHIStory / HERstory: Whose Story? [August 15 – October 23\, 2025] \nThe Glen Arbor Arts Center takes on the question of history and voice in its next exhibition. HIStory/HERstory: Whose Story? is an exhibition that explores the idea that the victors have written history. This version of history has often been told from one perspective — while other histories have been ignored\, deleted\, denied\, left out of the official record. The exhibition opens August 15\, 5 pm with a reception in the GAAC Main Gallery. \nWhether it’s visual art\, literature\, film\, sports\, science\, politics\, education\, animal\, mineral\, real or imagined history\, this exhibition asks:  \n•	Who’s telling what stories?\n•	Who’s included in the official record?\n•	Who’s excluded? Omitted? Erased? \nTwenty-four exhibitors take on these questions\, and answer them with work about what’s included in the art historical canon; a fractured telling of Native American history; the voices inside a mom’s head; and other topics. Read more about the exhibit\, and exhibition companion programs. View it online at GlenArborArt.org / EXHIBITS. HIStory / HERstory runs through October 23.
URL:https://www.visitglenarbor.com/event/history-herstory-whose-story/
LOCATION:Glen Arbor Arts Center\, 6031 S. Lake Street\, Glen Arbor\, MI\, 49636
CATEGORIES:Art/Gallery/Exhibit,Community Events,Kids + Family Friendly
ATTACH;FMTTYPE=image/jpeg:https://www.visitglenarbor.com/wp-content/uploads/2025/07/2018_Member-Exhibition_1.jpg
END:VEVENT
BEGIN:VEVENT
DTSTART;TZID=America/Detroit:20250815T170000
DTEND;TZID=America/Detroit:20250829T200000
DTSTAMP:20260424T045319
CREATED:20250617T173643Z
LAST-MODIFIED:20250617T173643Z
UID:10007982-1755277200-1756497600@www.visitglenarbor.com
SUMMARY:Late Night Fridays and Manitou Music
DESCRIPTION:PRESS RELEASE \nContact:\nScott Bouma\nExecutive Director\nGlen Arbor Arts Center\n231/334-6112\ndirector@glenarborart.org \nThe Glen Arbor Arts Center is keeping the lights on a little longer on Friday nights. Late Night Fridays and Manitou Music bring the B-Side Growlers back to the GAAC Front Porch on June 27\, 5-7 pm. This “tradition-inspired\, toe-tapping fired” acoustic trio from Grand Rapids plays a plein air concert of blues\, jazz and country. Bring a chair and refreshments.\nAs part of Late Night Fridays\, both GAAC galleries are open June 13\, 20\, and 27. In the GAAC Main Gallery is the 2025 Members Create\, an exhibition of work by 49 GAAC members. In the Lobby Gallery: Random: Collages From The Scrap Pile by Leelanau County painter Mark Mehaffey. Read more about the exhibit here: GlenArborArt.org / EXHIBITS.\nAll Late Friday Nights events are free. The GAAC is located at 6031 S. Lake St.\, Glen Arbor.
URL:https://www.visitglenarbor.com/event/late-night-fridays-and-manitou-music/2025-08-15/
LOCATION:Glen Arbor Arts Center\, 6031 S. Lake Street\, Glen Arbor\, MI\, 49636
CATEGORIES:Art/Gallery/Exhibit,Community Events,Music
ATTACH;FMTTYPE=image/jpeg:https://www.visitglenarbor.com/wp-content/uploads/2025/06/LateNightFridays_2023_Webslide.jpg
ORGANIZER;CN="Glen Arbor Arts Center":MAILTO:director@glenarborart.org
END:VEVENT
BEGIN:VEVENT
DTSTART;TZID=America/Detroit:20250816T120000
DTEND;TZID=America/Detroit:20250816T133000
DTSTAMP:20260424T045319
CREATED:20250514T193224Z
LAST-MODIFIED:20250610T141418Z
UID:10007929-1755345600-1755351000@www.visitglenarbor.com
SUMMARY:Live Music at Bel Lago: Larry Perkins
DESCRIPTION:Join us at Bel Lago for live music with Larry Perkins. \nLarry Perkins is a seasoned musician with over 40 years of experience\, bringing his earthy originals and raspy renditions of classic rock to the Northern Michigan and Gulf Coast music scenes. Known for his heartfelt vocals and twisty guitar licks\, Larry’s unique style and high-energy performances are sure to get you on your feet.
URL:https://www.visitglenarbor.com/event/live-music-at-bel-lago-larry-perkins/2025-08-16/
LOCATION:Bel Lago\, 6530 S LAKE SHORE DR\, CEDAR\, MI\, 49621-9615\, United States
CATEGORIES:Music
ATTACH;FMTTYPE=image/png:https://www.visitglenarbor.com/wp-content/uploads/2025/05/FVV-WINE-CLUB-RACK-CARD-3.png
ORGANIZER;CN="Bel Lago":MAILTO:info@bellago.com
END:VEVENT
BEGIN:VEVENT
DTSTART;TZID=America/Detroit:20250816T140000
DTEND;TZID=America/Detroit:20250816T153000
DTSTAMP:20260424T045319
CREATED:20250610T141703Z
LAST-MODIFIED:20250610T141819Z
UID:10007930-1755352800-1755358200@www.visitglenarbor.com
SUMMARY:Live Music at Bel Lago: Zeke Clemons
DESCRIPTION:Zeke Clemons is a versatile solo artist and singer-songwriter\, effortlessly blending genres and decades with crowd-pleasing favorites. From 1950s classics to modern hits\, his mix of covers and originals promises something for everyone.
URL:https://www.visitglenarbor.com/event/live-music-at-bel-lago-zeke-clemons/2025-08-16/
LOCATION:Bel Lago\, 6530 S LAKE SHORE DR\, CEDAR\, MI\, 49621-9615\, United States
CATEGORIES:Community Events,Music,Wine/Beer or Tasting Event
ATTACH;FMTTYPE=image/png:https://www.visitglenarbor.com/wp-content/uploads/2025/05/FVV-WINE-CLUB-RACK-CARD-3.png
ORGANIZER;CN="Bel Lago":MAILTO:info@bellago.com
END:VEVENT
BEGIN:VEVENT
DTSTART;TZID=America/Detroit:20250816T160000
DTEND;TZID=America/Detroit:20250816T173000
DTSTAMP:20260424T045319
CREATED:20250516T165509Z
LAST-MODIFIED:20250610T142116Z
UID:10007933-1755360000-1755365400@www.visitglenarbor.com
SUMMARY:Live Music at Bel Lago: Delilah DeWylde
DESCRIPTION:Join us at Bel Lago for live music with Delilah DeWylde.
URL:https://www.visitglenarbor.com/event/live-music-at-bel-lago-delilah-dewylde/2025-08-16/
LOCATION:Bel Lago\, 6530 S LAKE SHORE DR\, CEDAR\, MI\, 49621-9615\, United States
CATEGORIES:Community Events,Music,Wine/Beer or Tasting Event
ATTACH;FMTTYPE=image/png:https://www.visitglenarbor.com/wp-content/uploads/2025/05/FVV-WINE-CLUB-RACK-CARD-3.png
ORGANIZER;CN="Bel Lago":MAILTO:info@bellago.com
END:VEVENT
BEGIN:VEVENT
DTSTART;TZID=America/Detroit:20250816T160000
DTEND;TZID=America/Detroit:20250816T190000
DTSTAMP:20260424T045319
CREATED:20250805T134852Z
LAST-MODIFIED:20250805T135014Z
UID:10008298-1755360000-1755370800@www.visitglenarbor.com
SUMMARY:Looking Forward: Crosby\, Stills\, Nash & Young – Their Music\, Our Way
DESCRIPTION:We’re thrilled to present Looking Forward: Crosby\, Stills\, Nash & Young – Their Music\, Our Way featuring musicians Patrick Niemisto\, John Kumjian\, Chris Skellenger\, and Roger Tarczon. Enjoy an evening of timeless folk-rock hits in the rustic charm of The Barn at French Valley Vineyard. \nAbout the Musicians: \nThe journey began with three seasoned Northern Michigan musicians—Chris Skellenger (vocals\, guitars)\, John Kumjian (vocals\, guitars)\, and Patrick Niemisto (vocals\, bass)—who set out to craft thoughtful\, stripped-down arrangements of CSNY’s iconic songs using just three voices and minimal instrumentation. The result struck a chord. \nOver the past few years\, Looking Forward has grown its sound with the addition of drummer Roger Tarczon—who brings a special connection\, having performed with David Crosby himself—and more recently\, keyboardist Tim Sparling\, whose talents add rich new textures to the group’s evolving dynamic. Together\, these musicians bring decades of experience across all corners of the music industry \nTicket Options\nVIP Admission (Wine Club Members Only)\n$25/person  \nPresale runs 7/24–7/31 exclusively for Wine Club Members \n\nWristband access to the property\nReserved seating with guaranteed view of performance in The Barn\n2 complimentary drink tokens\n\nSeated Admission\n$20/person \n\nWristband access to the property\nReserved seating with guaranteed view of performance in The Barn\nGet Tickets\n\nGeneral Admission\n$15/person \n\nWristband access to the property\nNo guaranteed view of performance — patio seating at The Barn (Bring-Your-Own chairs!)\nGet Tickets\n\nDay-of Admission (Paid at the door)\n$15/person | If available \n\nOption available based on pre-sale tickets.\nSame access as General Admission — seating/view not guaranteed\nHighly recommended to buy online in advance to avoid missing your opportunity if event sells out!\n\nDrink Menu\n\nMelodie (Dry Rosé) – A blend of Frontenac\, Traminette\, Chardonnay and Pinot Grigio. Uniquely fruit forward with flavors of strawberry and peach with impeccable balance\nRhythm (Red Blend) – A blend of Merlot\, Pinot Noir\, Teroldego and Cabernet Franc. Rich flavors of blueberry and ripe plum\, with notes of dark chocolate\, cedar and a touch of oak\nRhyme (White Blend) – Blend of Pinot Grigio\, Chardonnay\, Auxerrois and Vignoles. A dry white with flavors of zesty citrus and luscious peach\nGinger Cider – Sweet\, zesty ginger\, floral\, balanced\, smooth\nPilsner Beer – Clean\, lean and refreshing\n\nSnack Menu (Available at The Barn & Tasting Room)\nGrab-and-Go Offerings at The Barn: \n\nCharcuterie – Assorted meats / cheeses / olives / dried fruits / nuts\n\nGrab-and-Go Offerings at The Tasting Room: \n\nPesto Flatbread – Parmesan cheese topped with cherry tomatoes and balsamic drizzle\nFig Flatbread – Fig and goat cheese topped with prosciutto and balsamic drizzle\nTraditional Flatbread – Marinara sauce and mozzarella cheese (Option to add pepperoni)
URL:https://www.visitglenarbor.com/event/looking-forward-crosby-stills-nash-young-their-music-our-way/
LOCATION:French Valley Vineyard\, 3655 South French Road\, cedar\, MI\, 49621\, United States
CATEGORIES:Music
ATTACH;FMTTYPE=image/jpeg:https://www.visitglenarbor.com/wp-content/uploads/2025/08/CSNY-SMALL.jpg
ORGANIZER;CN="French Valley Vineyard":MAILTO:info@fvvineyard.com
END:VEVENT
BEGIN:VEVENT
DTSTART;TZID=America/Detroit:20250816T190000
DTEND;TZID=America/Detroit:20250816T210000
DTSTAMP:20260424T045319
CREATED:20250619T222733Z
LAST-MODIFIED:20250619T222733Z
UID:10008042-1755370800-1755378000@www.visitglenarbor.com
SUMMARY:Levi Britton @ Glen Arbor Wines
DESCRIPTION:Northern Michigan’s legendary balladeer sings us to the moon and back! Don’t miss this evening that promises to be as inspiring as it is relaxing.
URL:https://www.visitglenarbor.com/event/levi-britton-glen-arbor-wines/2025-08-16/
LOCATION:Glen Arbor Wines
ATTACH;FMTTYPE=image/jpeg:https://www.visitglenarbor.com/wp-content/uploads/2025/06/levi-britton-07112-cropped.jpg
ORGANIZER;CN="Glen Arbor Wines":MAILTO:Glenarborwines@gmail.com
END:VEVENT
END:VCALENDAR