BEGIN:VCALENDAR
VERSION:2.0
PRODID:-//Glen Lake Chamber of Commerce - ECPv6.15.19//NONSGML v1.0//EN
CALSCALE:GREGORIAN
METHOD:PUBLISH
X-WR-CALNAME:Glen Lake Chamber of Commerce
X-ORIGINAL-URL:https://www.visitglenarbor.com
X-WR-CALDESC:Events for Glen Lake Chamber of Commerce
REFRESH-INTERVAL;VALUE=DURATION:PT1H
X-Robots-Tag:noindex
X-PUBLISHED-TTL:PT1H
BEGIN:VTIMEZONE
TZID:America/Detroit
BEGIN:DAYLIGHT
TZOFFSETFROM:-0500
TZOFFSETTO:-0400
TZNAME:EDT
DTSTART:20240310T070000
END:DAYLIGHT
BEGIN:STANDARD
TZOFFSETFROM:-0400
TZOFFSETTO:-0500
TZNAME:EST
DTSTART:20241103T060000
END:STANDARD
BEGIN:DAYLIGHT
TZOFFSETFROM:-0500
TZOFFSETTO:-0400
TZNAME:EDT
DTSTART:20250309T070000
END:DAYLIGHT
BEGIN:STANDARD
TZOFFSETFROM:-0400
TZOFFSETTO:-0500
TZNAME:EST
DTSTART:20251102T060000
END:STANDARD
BEGIN:DAYLIGHT
TZOFFSETFROM:-0500
TZOFFSETTO:-0400
TZNAME:EDT
DTSTART:20260308T070000
END:DAYLIGHT
BEGIN:STANDARD
TZOFFSETFROM:-0400
TZOFFSETTO:-0500
TZNAME:EST
DTSTART:20261101T060000
END:STANDARD
END:VTIMEZONE
BEGIN:VEVENT
DTSTART;TZID=America/Detroit:20250606T090000
DTEND;TZID=America/Detroit:20250807T150000
DTSTAMP:20260423T052350
CREATED:20250528T181528Z
LAST-MODIFIED:20250528T181528Z
UID:10007827-1749200400-1754578800@www.visitglenarbor.com
SUMMARY:Members Create At The Glen Arbor Arts Center
DESCRIPTION:PRESS RELEASE \nContact\nScott Bouma\nExecutive Director\nGlen Arbor Arts Center\n231 334 6112\nDirector@glenarborart.org \nMembers Create At The Glen Arbor Arts Center\n June 6 – August 7\, 2025\nAn annual tradition returns! The Glen Arbor Arts Center’s Members Create exhibition opens June 6\, 5 pm with a public reception featuring the work of 55 current GAAC members.\nA showcase of members’ talent\, Members Create runs through August 7. The exhibit includes work in a wide range of media: paint to fiber\, clay to metal. It may be viewed in person in the GAAC’s Main Gallery\, or online: GlenArborArt.org/EXHIBITS.\nAlso on view in the GAAC Lobby Gallery is Random: Collages From The Scrap Pile\, a series of compositions by Leelanau County artist Mark Mehaffey.\nThe Members Create exhibition enjoys the support of Precision Collision & Auto Glass of Frankfort. Located at 6031 S. Lake Street\, Glen Arbor\, the GAAC is open seven days. For more information go to GlenArborArt.org.
URL:https://www.visitglenarbor.com/event/members-create-at-the-glen-arbor-arts-center/
LOCATION:Glen Arbor Arts Center\, 6031 S. Lake Street\, Glen Arbor\, MI\, 49636
CATEGORIES:Art/Gallery/Exhibit
ATTACH;FMTTYPE=image/jpeg:https://www.visitglenarbor.com/wp-content/uploads/2025/05/XXX_MembersCreate_2025B_SocialMedia-002.jpg
END:VEVENT
BEGIN:VEVENT
DTSTART;TZID=America/Detroit:20250617T100000
DTEND;TZID=America/Detroit:20250815T150000
DTSTAMP:20260423T052350
CREATED:20250515T142321Z
LAST-MODIFIED:20250515T142321Z
UID:10007756-1750154400-1755270000@www.visitglenarbor.com
SUMMARY:Learning in the Arts Mentorship Program
DESCRIPTION:FOR IMMEDIATE RELEASE:\nYoung Creatives Wanted: Apply for Glen Arbor Arts Center’s Learning in the Arts Mentorship Program (LAMP)\nGlen Arbor\, MI – The Glen Arbor Arts Center (GAAC) is now accepting applications for the 4th Annual Learning in the Arts Mentorship Program (LAMP)\, a unique summer opportunity for young people ages 16 to 22 interested in arts education\, arts administration\, and creative leadership. LAMP offers a comprehensive introduction to careers in the arts beyond being a studio artist\, fostering professional growth and leadership skills while supporting youth summer classes.\nLAMP participants engage in a hands-on learning experience within a supportive and professional arts environment\, connecting with local artists\, gallery owners\, arts educators\, and nonprofit leaders. Through this immersive opportunity\, participants gain real-world experience and receive a $500 stipend upon successful completion of the program.\nProgram Details\nJune – August | ⏳ 41 hours total\nOrientation: Tuesday\, June 17 | 10 AM – 3 PM (Lunch provided)\nSummer Camp Mentorship: Assist teaching artists for two weeks on Mon\, Tues\, Fri | 8:30 AM – 12 PM\nEnrichment Days: June 25 & July 16 | 10 AM – 3 PM (Bring lunch)\nIndependent Work: 5 hours on your own time\nProgram Snapshot\nLAMP provides high-quality mentorship and guided learning experiences in a nonprofit arts environment. Participants gain:\nHands-on experience in arts education working directly with students and teaching artists.\nExposure to arts administration & leadership\, learning the operations of both nonprofit and for-profit arts organizations.\nCareer exploration opportunities for those interested in arts-related professions beyond being a studio artist.\nArtist talks with professional artists.\nPortfolio review for participants seeking feedback on their creative work.\nExhibitions & gallery management experience\, learning how exhibitions are curated and managed.\nVisits to area arts and cultural organizations for behind-the-scenes insights into the broader arts ecosystem.\nProject collaboration that connects art and creativity with the local community\, fostering creative outreach and real-world impact. \nWhy LAMP?\nLAMP offers a chance for young people to explore their passion\, gain confidence in a professional setting\, build connections\, and see where their creativity might take them!\nHow to Apply\nApplications due: Sunday\, May 4\, 2025 by midnight\nApplicants notified: Monday\, May 12\, 2025\nTo learn more and apply\, visit glenarborart.org/lamp or contact the Glen Arbor Arts Center at 231-334-6112. \nAbout Glen Arbor Arts Center\nThe Glen Arbor Arts Center is a nonprofit organization dedicated to enriching community life through the arts by providing educational programs\, exhibitions\, performances\, and more.
URL:https://www.visitglenarbor.com/event/learning-in-the-arts-mentorship-program/
LOCATION:Glen Arbor Arts Center\, 6031 S. Lake Street\, Glen Arbor\, MI\, 49636
ATTACH;FMTTYPE=image/jpeg:https://www.visitglenarbor.com/wp-content/uploads/2025/04/LAMP-Orientation-scaled.jpg
END:VEVENT
BEGIN:VEVENT
DTSTART;TZID=America/Detroit:20250627T170000
DTEND;TZID=America/Detroit:20250711T200000
DTSTAMP:20260423T052350
CREATED:20250617T173643Z
LAST-MODIFIED:20250617T173643Z
UID:10007975-1751043600-1752264000@www.visitglenarbor.com
SUMMARY:Late Night Fridays and Manitou Music
DESCRIPTION:PRESS RELEASE \nContact:\nScott Bouma\nExecutive Director\nGlen Arbor Arts Center\n231/334-6112\ndirector@glenarborart.org \nThe Glen Arbor Arts Center is keeping the lights on a little longer on Friday nights. Late Night Fridays and Manitou Music bring the B-Side Growlers back to the GAAC Front Porch on June 27\, 5-7 pm. This “tradition-inspired\, toe-tapping fired” acoustic trio from Grand Rapids plays a plein air concert of blues\, jazz and country. Bring a chair and refreshments.\nAs part of Late Night Fridays\, both GAAC galleries are open June 13\, 20\, and 27. In the GAAC Main Gallery is the 2025 Members Create\, an exhibition of work by 49 GAAC members. In the Lobby Gallery: Random: Collages From The Scrap Pile by Leelanau County painter Mark Mehaffey. Read more about the exhibit here: GlenArborArt.org / EXHIBITS.\nAll Late Friday Nights events are free. The GAAC is located at 6031 S. Lake St.\, Glen Arbor.
URL:https://www.visitglenarbor.com/event/late-night-fridays-and-manitou-music/2025-06-27/
LOCATION:Glen Arbor Arts Center\, 6031 S. Lake Street\, Glen Arbor\, MI\, 49636
CATEGORIES:Art/Gallery/Exhibit,Community Events,Music
ATTACH;FMTTYPE=image/jpeg:https://www.visitglenarbor.com/wp-content/uploads/2025/06/LateNightFridays_2023_Webslide.jpg
ORGANIZER;CN="Glen Arbor Arts Center":MAILTO:director@glenarborart.org
END:VEVENT
BEGIN:VEVENT
DTSTART;TZID=America/Detroit:20250701T090000
DTEND;TZID=America/Detroit:20250731T150000
DTSTAMP:20260423T052350
CREATED:20250610T131828Z
LAST-MODIFIED:20250610T131828Z
UID:10007907-1751360400-1753974000@www.visitglenarbor.com
SUMMARY:Glen Arbor Arts Center Presents Youth Plein Air Month in July
DESCRIPTION:FOR IMMEDIATE RELEASE\nContact Scott Bouma Executive Director / Glen Arbor Arts Center (231) 334-6112 director@glenarborart.org\nGlen Arbor Arts Center Presents Youth Plein Air Month in July\nGLEN ARBOR\, Mich. — Throughout July\, the Glen Arbor Arts Center’s new Youth Plein Air Month will invite children ages 6–12 to step outside\, paint in the open air\, and capture the signature landscapes and buildings of Leelanau County.\n“Youth Plein Air Month is intended to nurture confidence and creativity by taking art making outside the classroom\,” said Scott Bouma\, Executive Director of GAAC. “We want young artists to feel the very spark of inspiration that has brought seasoned plein air painters to this area for generations.”\nPaint with Free Plein Air Art Kits\nFrom July 1 through July 31\, families may borrow fully stocked art kits at no cost. Each kit contains supplies and instructions\, including standing easels\, canvases\, paints\, brushes\, and painters palettes. Young artists can paint on GAAC grounds or borrow the kits for up to four days to take on outdoor adventures.\n“We’re excited to introduce children to the world of plein air painting with free art kits designed just for them\,” said Kristie McCaw\, Program Manager at the Glen Arbor Arts Center. “It’s a chance to spark their creativity\, connect with nature\, and experience the joy of making art in the open air\, all while exploring the beauty of our region.”\nMeet a Plein Air Artist Day | Saturday\, July 12\nProfessional plein air painters will be on site at GAAC from 10 a.m. to 2 p.m. for demonstrations\, technique tips\, and hands-on guidance. A rain date is set for Sunday\, July 13.\n“After decades in the classroom\, I’ve seen how quickly young minds spark when they watch creativity unfold in real time\,” said Mark Mehaffey\, former teacher and featured plein air painter. “The artists will guide kids\, inviting them to pick up a brush and experience the joy of capturing the world around them.”\nYouth Plein Air Exhibit | July 28 to July 31\nEach participant will have the opportunity to display one completed painting in GAAC’s classroom gallery. The exhibit will be open Monday through Thursday\, 9 a.m. to 3 p.m.\nGathering and Awards Ceremony | Thursday\, July 31\nA community celebration on the GAAC back deck from 6 p.m. to 7 p.m. will spotlight the young artists and recognize their work.\n“Seeing their artwork on display and hearing applause from family and friends can be transformative for young creators\,” Bouma added.
URL:https://www.visitglenarbor.com/event/glen-arbor-arts-center-presents-youth-plein-air-month-in-july/2025-07-01/
LOCATION:Glen Arbor Arts Center\, 6031 S. Lake Street\, Glen Arbor\, MI\, 49636
CATEGORIES:Art/Gallery/Exhibit,Education,Kids + Family Friendly
ATTACH;FMTTYPE=image/jpeg:https://www.visitglenarbor.com/wp-content/uploads/2025/06/YouthPleinAir_2025_SocialMedia.jpg
ORGANIZER;CN="Glen Arbor Arts Center":MAILTO:director@glenarborart.org
END:VEVENT
BEGIN:VEVENT
DTSTART;TZID=America/Detroit:20250704T170000
DTEND;TZID=America/Detroit:20250718T200000
DTSTAMP:20260423T052350
CREATED:20250617T173643Z
LAST-MODIFIED:20250617T173643Z
UID:10007976-1751648400-1752868800@www.visitglenarbor.com
SUMMARY:Late Night Fridays and Manitou Music
DESCRIPTION:PRESS RELEASE \nContact:\nScott Bouma\nExecutive Director\nGlen Arbor Arts Center\n231/334-6112\ndirector@glenarborart.org \nThe Glen Arbor Arts Center is keeping the lights on a little longer on Friday nights. Late Night Fridays and Manitou Music bring the B-Side Growlers back to the GAAC Front Porch on June 27\, 5-7 pm. This “tradition-inspired\, toe-tapping fired” acoustic trio from Grand Rapids plays a plein air concert of blues\, jazz and country. Bring a chair and refreshments.\nAs part of Late Night Fridays\, both GAAC galleries are open June 13\, 20\, and 27. In the GAAC Main Gallery is the 2025 Members Create\, an exhibition of work by 49 GAAC members. In the Lobby Gallery: Random: Collages From The Scrap Pile by Leelanau County painter Mark Mehaffey. Read more about the exhibit here: GlenArborArt.org / EXHIBITS.\nAll Late Friday Nights events are free. The GAAC is located at 6031 S. Lake St.\, Glen Arbor.
URL:https://www.visitglenarbor.com/event/late-night-fridays-and-manitou-music/2025-07-04/
LOCATION:Glen Arbor Arts Center\, 6031 S. Lake Street\, Glen Arbor\, MI\, 49636
CATEGORIES:Art/Gallery/Exhibit,Community Events,Music
ATTACH;FMTTYPE=image/jpeg:https://www.visitglenarbor.com/wp-content/uploads/2025/06/LateNightFridays_2023_Webslide.jpg
ORGANIZER;CN="Glen Arbor Arts Center":MAILTO:director@glenarborart.org
END:VEVENT
BEGIN:VEVENT
DTSTART;TZID=America/Detroit:20250711T093000
DTEND;TZID=America/Detroit:20250711T120000
DTSTAMP:20260423T052350
CREATED:20250724T171119Z
LAST-MODIFIED:20250830T161020Z
UID:10008221-1752226200-1752235200@www.visitglenarbor.com
SUMMARY:Bike Tour: DH Day's Kindgom and Beyond
DESCRIPTION:Fridays\, 9:45 am – 11:45 am\nMiles: 8 \nThere’s more history than you can imagine tucked in and around the dunes and Glen Haven! Join us by bike to get the behind-the-scenes look at secrets and unfamiliar facts about the baron of Glen Haven – D.H. Day – and the surrounding dunes area: the railroad\, the “ovens”\, alligator hill\, riparian rights\, a sawmill\, the historic Great Lakes Picnic area\, dune formations\, lumberjacks\, and Pierce Stocking and D.H. Day’s grand vision for the area. From a spectacular bird’s eye view imagine the interpreted activities of the town and water that hummed with 1800s tourists\, a fruit cannery\, and maritime activities. Good balance of stops along the way with narration while riding. and fabulous photo opportunities. \nPLEASE NOTE: Start and end in Glen Arbor (not downtown) at the Heritage Trail entrance on Forest Haven road just west of town shops. The Heritage Trailhead is just north of the Alligator Hill HIKING trailhead (on the same road)\, and south of the church parking lot. Look for our guides in reflective light green vests. Trailhead map \nBike Type: Best for road bikes\, mountain bikes\, hybrid\, e-bikes and fat tire. Not suitable for bikes with very skinny tires. \nNOTE: E-bikes allowed in the national park must be Class Type 1 pedal-assist only\, with no throttle. \nDifficulty: This is all level with the exception of one hill that many of us will walk together while still interpreting. One 300 ft. section of dirt road. \nAges: Not suitable for children under 4. Ages 4-7 must be in a trailer/carrier. Ages 8 yrs. old can be on their own bike. \nNote: Please make sure your bike is in working order for the ride. Bike helmets are required.If renting a bike from Crystal River Outfitters\, please allow 15 minutes to bike from there to the start point. \nTo safeguard against invasive species\, being brought into National Lakeshore’s trails the park recommends you spray\, scrape\, or brush soils\, seeds\, plant parts\, and invertebrates from exterior surfaces to the extent practical. \nBrought to you by Preserve Historic Sleeping Bear. Please book your tour directly with them\, \nLearn More / Book Tour / Contact
URL:https://www.visitglenarbor.com/event/bike-tour-dh-days-kindgom-and-beyond/2025-07-11/
LOCATION:MI
CATEGORIES:Recreation
ATTACH;FMTTYPE=image/jpeg:https://www.visitglenarbor.com/wp-content/uploads/2025/07/23-DH-Day-barns-cropped.jpg
END:VEVENT
BEGIN:VEVENT
DTSTART;TZID=America/Detroit:20250711T170000
DTEND;TZID=America/Detroit:20250725T200000
DTSTAMP:20260423T052350
CREATED:20250617T173643Z
LAST-MODIFIED:20250617T173643Z
UID:10007977-1752253200-1753473600@www.visitglenarbor.com
SUMMARY:Late Night Fridays and Manitou Music
DESCRIPTION:PRESS RELEASE \nContact:\nScott Bouma\nExecutive Director\nGlen Arbor Arts Center\n231/334-6112\ndirector@glenarborart.org \nThe Glen Arbor Arts Center is keeping the lights on a little longer on Friday nights. Late Night Fridays and Manitou Music bring the B-Side Growlers back to the GAAC Front Porch on June 27\, 5-7 pm. This “tradition-inspired\, toe-tapping fired” acoustic trio from Grand Rapids plays a plein air concert of blues\, jazz and country. Bring a chair and refreshments.\nAs part of Late Night Fridays\, both GAAC galleries are open June 13\, 20\, and 27. In the GAAC Main Gallery is the 2025 Members Create\, an exhibition of work by 49 GAAC members. In the Lobby Gallery: Random: Collages From The Scrap Pile by Leelanau County painter Mark Mehaffey. Read more about the exhibit here: GlenArborArt.org / EXHIBITS.\nAll Late Friday Nights events are free. The GAAC is located at 6031 S. Lake St.\, Glen Arbor.
URL:https://www.visitglenarbor.com/event/late-night-fridays-and-manitou-music/2025-07-11/
LOCATION:Glen Arbor Arts Center\, 6031 S. Lake Street\, Glen Arbor\, MI\, 49636
CATEGORIES:Art/Gallery/Exhibit,Community Events,Music
ATTACH;FMTTYPE=image/jpeg:https://www.visitglenarbor.com/wp-content/uploads/2025/06/LateNightFridays_2023_Webslide.jpg
ORGANIZER;CN="Glen Arbor Arts Center":MAILTO:director@glenarborart.org
END:VEVENT
BEGIN:VEVENT
DTSTART;TZID=America/Detroit:20250711T173000
DTEND;TZID=America/Detroit:20250711T193000
DTSTAMP:20260423T052350
CREATED:20250609T184731Z
LAST-MODIFIED:20250609T184731Z
UID:10007919-1752255000-1752262200@www.visitglenarbor.com
SUMMARY:Live Music at Bel Lago: Rhett and John
DESCRIPTION:Join for live music at Bel Lago. Enjoy performances by the talented Rhett & John while you sip your favorite Bel Lago wines and take in the stunning scenery of Lake Leelanau – the perfect way to unwind. \nRhett & John are a dynamic acoustic duo known for their crowd-pleasing performances\, featuring fresh takes on familiar hits. With tight vocal harmonies and unique arrangements\, they seamlessly blend timeless classics with today’s favorites\, creating a captivating live music experience.
URL:https://www.visitglenarbor.com/event/live-music-at-bel-lago-rhett-and-john/2025-07-11/
LOCATION:Bel Lago\, 6530 S LAKE SHORE DR\, CEDAR\, MI\, 49621-9615\, United States
CATEGORIES:Community Events,Music,Wine/Beer or Tasting Event
ATTACH;FMTTYPE=image/png:https://www.visitglenarbor.com/wp-content/uploads/2025/05/FVV-WINE-CLUB-RACK-CARD-3.png
ORGANIZER;CN="Bel Lago":MAILTO:info@bellago.com
END:VEVENT
BEGIN:VEVENT
DTSTART;TZID=America/Detroit:20250711T180000
DTEND;TZID=America/Detroit:20250731T210000
DTSTAMP:20260423T052350
CREATED:20250705T140913Z
LAST-MODIFIED:20250705T140913Z
UID:10008184-1752256800-1753995600@www.visitglenarbor.com
SUMMARY:River Club\, Glen Arbor - Live Music on the River
DESCRIPTION:Live music nightly from 6-9 PM on the beautiful Crystal River. Featuring a variety of performers in the weekly lineup including\, Loose Change\, Drew Hale Levi Britton\, Jim Hawley\, Empire  Highway\, Andre Villoch\, R ock Hat\, Chris Sterr\, Jessie Jefferson\, Chris Smith\, Ben Richey\, ampersands\, Luke Duo and more. Check out our website for more details www.rcglenarbor.com
URL:https://www.visitglenarbor.com/event/river-club-glen-arbor-live-music-on-the-river-3/2025-07-11/
LOCATION:River Club Glen Arbor\, 5963 S. Oak Street\, Glen Arbor\, 49636\, United States
CATEGORIES:Food/Dining Event,Music
ATTACH;FMTTYPE=image/jpeg:https://www.visitglenarbor.com/wp-content/uploads/2025/07/IMG_2127-1-scaled.jpeg
END:VEVENT
BEGIN:VEVENT
DTSTART;TZID=America/Detroit:20250711T190000
DTEND;TZID=America/Detroit:20250711T210000
DTSTAMP:20260423T052350
CREATED:20250627T173846Z
LAST-MODIFIED:20250627T173846Z
UID:10008065-1752260400-1752267600@www.visitglenarbor.com
SUMMARY:Captain Dirk @ Glen Arbor Wines
DESCRIPTION:From Mississippi to the Great Lakes Sailing Company\, Captain Dirk has entertained with his eclectic repertoire of folk\, blues\, a bit of country\, B-side rarities and deep cuts. We are so excited to hear what he dishes up when he plays Glen Arbor Wines!
URL:https://www.visitglenarbor.com/event/captain-dirk-glen-arbor-wines/
LOCATION:MI
CATEGORIES:Music
ATTACH;FMTTYPE=image/jpeg:https://www.visitglenarbor.com/wp-content/uploads/2025/06/captdirk.jpg
ORGANIZER;CN="Glen Arbor Wines":MAILTO:Glenarborwines@gmail.com
END:VEVENT
END:VCALENDAR