BEGIN:VCALENDAR
VERSION:2.0
PRODID:-//Glen Lake Chamber of Commerce - ECPv6.15.19//NONSGML v1.0//EN
CALSCALE:GREGORIAN
METHOD:PUBLISH
X-WR-CALNAME:Glen Lake Chamber of Commerce
X-ORIGINAL-URL:https://www.visitglenarbor.com
X-WR-CALDESC:Events for Glen Lake Chamber of Commerce
REFRESH-INTERVAL;VALUE=DURATION:PT1H
X-Robots-Tag:noindex
X-PUBLISHED-TTL:PT1H
BEGIN:VTIMEZONE
TZID:America/Detroit
BEGIN:DAYLIGHT
TZOFFSETFROM:-0500
TZOFFSETTO:-0400
TZNAME:EDT
DTSTART:20240310T070000
END:DAYLIGHT
BEGIN:STANDARD
TZOFFSETFROM:-0400
TZOFFSETTO:-0500
TZNAME:EST
DTSTART:20241103T060000
END:STANDARD
BEGIN:DAYLIGHT
TZOFFSETFROM:-0500
TZOFFSETTO:-0400
TZNAME:EDT
DTSTART:20250309T070000
END:DAYLIGHT
BEGIN:STANDARD
TZOFFSETFROM:-0400
TZOFFSETTO:-0500
TZNAME:EST
DTSTART:20251102T060000
END:STANDARD
BEGIN:DAYLIGHT
TZOFFSETFROM:-0500
TZOFFSETTO:-0400
TZNAME:EDT
DTSTART:20260308T070000
END:DAYLIGHT
BEGIN:STANDARD
TZOFFSETFROM:-0400
TZOFFSETTO:-0500
TZNAME:EST
DTSTART:20261101T060000
END:STANDARD
END:VTIMEZONE
BEGIN:VEVENT
DTSTART;TZID=America/Detroit:20250606T090000
DTEND;TZID=America/Detroit:20250807T150000
DTSTAMP:20260424T045337
CREATED:20250528T181528Z
LAST-MODIFIED:20250528T181528Z
UID:10007827-1749200400-1754578800@www.visitglenarbor.com
SUMMARY:Members Create At The Glen Arbor Arts Center
DESCRIPTION:PRESS RELEASE \nContact\nScott Bouma\nExecutive Director\nGlen Arbor Arts Center\n231 334 6112\nDirector@glenarborart.org \nMembers Create At The Glen Arbor Arts Center\n June 6 – August 7\, 2025\nAn annual tradition returns! The Glen Arbor Arts Center’s Members Create exhibition opens June 6\, 5 pm with a public reception featuring the work of 55 current GAAC members.\nA showcase of members’ talent\, Members Create runs through August 7. The exhibit includes work in a wide range of media: paint to fiber\, clay to metal. It may be viewed in person in the GAAC’s Main Gallery\, or online: GlenArborArt.org/EXHIBITS.\nAlso on view in the GAAC Lobby Gallery is Random: Collages From The Scrap Pile\, a series of compositions by Leelanau County artist Mark Mehaffey.\nThe Members Create exhibition enjoys the support of Precision Collision & Auto Glass of Frankfort. Located at 6031 S. Lake Street\, Glen Arbor\, the GAAC is open seven days. For more information go to GlenArborArt.org.
URL:https://www.visitglenarbor.com/event/members-create-at-the-glen-arbor-arts-center/
LOCATION:Glen Arbor Arts Center\, 6031 S. Lake Street\, Glen Arbor\, MI\, 49636
CATEGORIES:Art/Gallery/Exhibit
ATTACH;FMTTYPE=image/jpeg:https://www.visitglenarbor.com/wp-content/uploads/2025/05/XXX_MembersCreate_2025B_SocialMedia-002.jpg
END:VEVENT
BEGIN:VEVENT
DTSTART;TZID=America/Detroit:20250617T100000
DTEND;TZID=America/Detroit:20250815T150000
DTSTAMP:20260424T045337
CREATED:20250515T142321Z
LAST-MODIFIED:20250515T142321Z
UID:10007756-1750154400-1755270000@www.visitglenarbor.com
SUMMARY:Learning in the Arts Mentorship Program
DESCRIPTION:FOR IMMEDIATE RELEASE:\nYoung Creatives Wanted: Apply for Glen Arbor Arts Center’s Learning in the Arts Mentorship Program (LAMP)\nGlen Arbor\, MI – The Glen Arbor Arts Center (GAAC) is now accepting applications for the 4th Annual Learning in the Arts Mentorship Program (LAMP)\, a unique summer opportunity for young people ages 16 to 22 interested in arts education\, arts administration\, and creative leadership. LAMP offers a comprehensive introduction to careers in the arts beyond being a studio artist\, fostering professional growth and leadership skills while supporting youth summer classes.\nLAMP participants engage in a hands-on learning experience within a supportive and professional arts environment\, connecting with local artists\, gallery owners\, arts educators\, and nonprofit leaders. Through this immersive opportunity\, participants gain real-world experience and receive a $500 stipend upon successful completion of the program.\nProgram Details\nJune – August | ⏳ 41 hours total\nOrientation: Tuesday\, June 17 | 10 AM – 3 PM (Lunch provided)\nSummer Camp Mentorship: Assist teaching artists for two weeks on Mon\, Tues\, Fri | 8:30 AM – 12 PM\nEnrichment Days: June 25 & July 16 | 10 AM – 3 PM (Bring lunch)\nIndependent Work: 5 hours on your own time\nProgram Snapshot\nLAMP provides high-quality mentorship and guided learning experiences in a nonprofit arts environment. Participants gain:\nHands-on experience in arts education working directly with students and teaching artists.\nExposure to arts administration & leadership\, learning the operations of both nonprofit and for-profit arts organizations.\nCareer exploration opportunities for those interested in arts-related professions beyond being a studio artist.\nArtist talks with professional artists.\nPortfolio review for participants seeking feedback on their creative work.\nExhibitions & gallery management experience\, learning how exhibitions are curated and managed.\nVisits to area arts and cultural organizations for behind-the-scenes insights into the broader arts ecosystem.\nProject collaboration that connects art and creativity with the local community\, fostering creative outreach and real-world impact. \nWhy LAMP?\nLAMP offers a chance for young people to explore their passion\, gain confidence in a professional setting\, build connections\, and see where their creativity might take them!\nHow to Apply\nApplications due: Sunday\, May 4\, 2025 by midnight\nApplicants notified: Monday\, May 12\, 2025\nTo learn more and apply\, visit glenarborart.org/lamp or contact the Glen Arbor Arts Center at 231-334-6112. \nAbout Glen Arbor Arts Center\nThe Glen Arbor Arts Center is a nonprofit organization dedicated to enriching community life through the arts by providing educational programs\, exhibitions\, performances\, and more.
URL:https://www.visitglenarbor.com/event/learning-in-the-arts-mentorship-program/
LOCATION:Glen Arbor Arts Center\, 6031 S. Lake Street\, Glen Arbor\, MI\, 49636
ATTACH;FMTTYPE=image/jpeg:https://www.visitglenarbor.com/wp-content/uploads/2025/04/LAMP-Orientation-scaled.jpg
END:VEVENT
BEGIN:VEVENT
DTSTART;TZID=America/Detroit:20250620T170000
DTEND;TZID=America/Detroit:20250704T200000
DTSTAMP:20260424T045337
CREATED:20250617T173643Z
LAST-MODIFIED:20250617T173643Z
UID:10007974-1750438800-1751659200@www.visitglenarbor.com
SUMMARY:Late Night Fridays and Manitou Music
DESCRIPTION:PRESS RELEASE \nContact:\nScott Bouma\nExecutive Director\nGlen Arbor Arts Center\n231/334-6112\ndirector@glenarborart.org \nThe Glen Arbor Arts Center is keeping the lights on a little longer on Friday nights. Late Night Fridays and Manitou Music bring the B-Side Growlers back to the GAAC Front Porch on June 27\, 5-7 pm. This “tradition-inspired\, toe-tapping fired” acoustic trio from Grand Rapids plays a plein air concert of blues\, jazz and country. Bring a chair and refreshments.\nAs part of Late Night Fridays\, both GAAC galleries are open June 13\, 20\, and 27. In the GAAC Main Gallery is the 2025 Members Create\, an exhibition of work by 49 GAAC members. In the Lobby Gallery: Random: Collages From The Scrap Pile by Leelanau County painter Mark Mehaffey. Read more about the exhibit here: GlenArborArt.org / EXHIBITS.\nAll Late Friday Nights events are free. The GAAC is located at 6031 S. Lake St.\, Glen Arbor.
URL:https://www.visitglenarbor.com/event/late-night-fridays-and-manitou-music/2025-06-20/
LOCATION:Glen Arbor Arts Center\, 6031 S. Lake Street\, Glen Arbor\, MI\, 49636
CATEGORIES:Art/Gallery/Exhibit,Community Events,Music
ATTACH;FMTTYPE=image/jpeg:https://www.visitglenarbor.com/wp-content/uploads/2025/06/LateNightFridays_2023_Webslide.jpg
ORGANIZER;CN="Glen Arbor Arts Center":MAILTO:director@glenarborart.org
END:VEVENT
BEGIN:VEVENT
DTSTART;TZID=America/Detroit:20250623T180000
DTEND;TZID=America/Detroit:20250630T210000
DTSTAMP:20260424T045337
CREATED:20250617T173707Z
LAST-MODIFIED:20250617T173707Z
UID:10008032-1750701600-1751317200@www.visitglenarbor.com
SUMMARY:River Club\, Glen Arbor - Live Music on the River
DESCRIPTION:Home \n\nMonday\, June 23rd Ben Richey\, Tuesday June 24 th Larz Cabot\,\nWednesday\, June 25th\, Loose Change\, Thursday\, June @6th\, Andre Villoch\, Friday\, June 27th Manitou Blues\, Saturday\, June 28th\, Empire Highway\, Sunday\, June 29th Ben Richey\, Monday\, June 30th\, Drew Hale. All performances 6:00-9:00 PM.
URL:https://www.visitglenarbor.com/event/river-club-glen-arbor-live-music-on-the-river-2/2025-06-23/2/
LOCATION:River Club Glen Arbor\, 5963 S. Oak Street\, Glen Arbor\, 49636\, United States
CATEGORIES:Recreation
ATTACH;FMTTYPE=image/jpeg:https://www.visitglenarbor.com/wp-content/uploads/2025/06/Stage_Loose_Change.jpg
END:VEVENT
BEGIN:VEVENT
DTSTART;TZID=America/Detroit:20250627T170000
DTEND;TZID=America/Detroit:20250711T200000
DTSTAMP:20260424T045337
CREATED:20250617T173643Z
LAST-MODIFIED:20250617T173643Z
UID:10007975-1751043600-1752264000@www.visitglenarbor.com
SUMMARY:Late Night Fridays and Manitou Music
DESCRIPTION:PRESS RELEASE \nContact:\nScott Bouma\nExecutive Director\nGlen Arbor Arts Center\n231/334-6112\ndirector@glenarborart.org \nThe Glen Arbor Arts Center is keeping the lights on a little longer on Friday nights. Late Night Fridays and Manitou Music bring the B-Side Growlers back to the GAAC Front Porch on June 27\, 5-7 pm. This “tradition-inspired\, toe-tapping fired” acoustic trio from Grand Rapids plays a plein air concert of blues\, jazz and country. Bring a chair and refreshments.\nAs part of Late Night Fridays\, both GAAC galleries are open June 13\, 20\, and 27. In the GAAC Main Gallery is the 2025 Members Create\, an exhibition of work by 49 GAAC members. In the Lobby Gallery: Random: Collages From The Scrap Pile by Leelanau County painter Mark Mehaffey. Read more about the exhibit here: GlenArborArt.org / EXHIBITS.\nAll Late Friday Nights events are free. The GAAC is located at 6031 S. Lake St.\, Glen Arbor.
URL:https://www.visitglenarbor.com/event/late-night-fridays-and-manitou-music/2025-06-27/
LOCATION:Glen Arbor Arts Center\, 6031 S. Lake Street\, Glen Arbor\, MI\, 49636
CATEGORIES:Art/Gallery/Exhibit,Community Events,Music
ATTACH;FMTTYPE=image/jpeg:https://www.visitglenarbor.com/wp-content/uploads/2025/06/LateNightFridays_2023_Webslide.jpg
ORGANIZER;CN="Glen Arbor Arts Center":MAILTO:director@glenarborart.org
END:VEVENT
BEGIN:VEVENT
DTSTART;TZID=America/Detroit:20250629T110000
DTEND;TZID=America/Detroit:20250629T130000
DTSTAMP:20260424T045337
CREATED:20250528T181350Z
LAST-MODIFIED:20250528T181350Z
UID:10007857-1751194800-1751202000@www.visitglenarbor.com
SUMMARY:Log Cabin Day
DESCRIPTION:In celebration of annual Michigan Log Cabin Day\, Preserve Historic Sleeping Bear will be highlighting the Boekeloo Cabin\, one of six log cabins on the mainland in the Park. Stuart Boekeloo is a descendant who will be on-site to share history and stories of his family’s time at the cabin. \nCheck out Preserve Historic Sleeping Bear’s preservation of the cabin\, having restored the windows\, door\, bridge and property fence\, and replaced and repaired logs. Location: The cabin is set at the end of a two mile two-track in the Platte River area of Sleeping Bear Dunes National Lakeshore. A peaceful location on a cranberry bog with a path from the cabin to Lake Michigan\, it’s a hidden favorite for many.
URL:https://www.visitglenarbor.com/event/log-cabin-day-3/
LOCATION:MI
CATEGORIES:Community Events
ATTACH;FMTTYPE=image/jpeg:https://www.visitglenarbor.com/wp-content/uploads/2025/05/BoekCabin4-cropped-2.jpg
END:VEVENT
BEGIN:VEVENT
DTSTART;TZID=America/Detroit:20250629T150000
DTEND;TZID=America/Detroit:20250629T180000
DTSTAMP:20260424T045337
CREATED:20250605T172301Z
LAST-MODIFIED:20250605T172301Z
UID:10007902-1751209200-1751220000@www.visitglenarbor.com
SUMMARY:Live Music at Dune Bird Winery: Rhett and John
DESCRIPTION:Dune Bird Winery invites you to unwind and sip on your favorite wine\, handcrafted coffee or just soak in the vineyard views while enjoying live music by the wonderful Rhett and John.
URL:https://www.visitglenarbor.com/event/live-music-at-dune-bird-winery-rhett-and-john/2025-06-29/
LOCATION:Dune Bird Winery\, 5620 N Manitou Trail\,\, Northport\, MI\, 49670\, United States
CATEGORIES:Community Events,Music,Wine/Beer or Tasting Event
ATTACH;FMTTYPE=image/jpeg:https://www.visitglenarbor.com/wp-content/uploads/2025/05/dunebirdlivemusic2025-1.jpg
ORGANIZER;CN="Dune Bird Winery":MAILTO:info@dunebirdwinery.com
END:VEVENT
BEGIN:VEVENT
DTSTART;TZID=America/Detroit:20250629T153000
DTEND;TZID=America/Detroit:20250629T173000
DTSTAMP:20260424T045337
CREATED:20250515T171525Z
LAST-MODIFIED:20250515T171525Z
UID:10007801-1751211000-1751218200@www.visitglenarbor.com
SUMMARY:Live Music at Bel Lago: Nick Veine
DESCRIPTION:Join us at Bel Lago for live music with Nick Veine.  \nNick Veine brings an eclectic blend of blues\, country\, jazz\, and original tunes to every performance. Imagine Johnny Cash meets James Taylor with a touch of Alan Menken.
URL:https://www.visitglenarbor.com/event/live-music-at-bel-lago-nick-veine/2025-06-29/
LOCATION:Bel Lago\, 6530 S LAKE SHORE DR\, CEDAR\, MI\, 49621-9615\, United States
CATEGORIES:Community Events,Music,Wine/Beer or Tasting Event
ATTACH;FMTTYPE=image/png:https://www.visitglenarbor.com/wp-content/uploads/2025/05/FVV-WINE-CLUB-RACK-CARD-3.png
ORGANIZER;CN="Bel Lago":MAILTO:info@bellago.com
END:VEVENT
BEGIN:VEVENT
DTSTART;TZID=America/Detroit:20250629T170000
DTEND;TZID=America/Detroit:20250629T190000
DTSTAMP:20260424T045337
CREATED:20250925T162326Z
LAST-MODIFIED:20250925T162326Z
UID:10008363-1751216400-1751223600@www.visitglenarbor.com
SUMMARY:Jeff\, Jerry and the Electric Sax
DESCRIPTION:Sundays | 7–9 PM (5–7 PM through October 12) \nSit back and chill at Glen Arbor Wines to emjoy a sip and the greatest soft rock/jazz you’ll hear anywhere in Northern Michigan!
URL:https://www.visitglenarbor.com/event/jeff-jerry-and-the-electric-sax/2025-06-29/
LOCATION:Glen Arbor Wines
CATEGORIES:Local Business Event,Music,Wine/Beer or Tasting Event
ATTACH;FMTTYPE=image/jpeg:https://www.visitglenarbor.com/wp-content/uploads/2020/03/Glen-Arbor-Wines_tasting-room-flowery-vintage-exterior.jpg
END:VEVENT
END:VCALENDAR