BEGIN:VCALENDAR
VERSION:2.0
PRODID:-//Glen Lake Chamber of Commerce - ECPv6.15.20//NONSGML v1.0//EN
CALSCALE:GREGORIAN
METHOD:PUBLISH
X-ORIGINAL-URL:https://www.visitglenarbor.com
X-WR-CALDESC:Events for Glen Lake Chamber of Commerce
REFRESH-INTERVAL;VALUE=DURATION:PT1H
X-Robots-Tag:noindex
X-PUBLISHED-TTL:PT1H
BEGIN:VTIMEZONE
TZID:America/Detroit
BEGIN:DAYLIGHT
TZOFFSETFROM:-0500
TZOFFSETTO:-0400
TZNAME:EDT
DTSTART:20240310T070000
END:DAYLIGHT
BEGIN:STANDARD
TZOFFSETFROM:-0400
TZOFFSETTO:-0500
TZNAME:EST
DTSTART:20241103T060000
END:STANDARD
BEGIN:DAYLIGHT
TZOFFSETFROM:-0500
TZOFFSETTO:-0400
TZNAME:EDT
DTSTART:20250309T070000
END:DAYLIGHT
BEGIN:STANDARD
TZOFFSETFROM:-0400
TZOFFSETTO:-0500
TZNAME:EST
DTSTART:20251102T060000
END:STANDARD
BEGIN:DAYLIGHT
TZOFFSETFROM:-0500
TZOFFSETTO:-0400
TZNAME:EDT
DTSTART:20260308T070000
END:DAYLIGHT
BEGIN:STANDARD
TZOFFSETFROM:-0400
TZOFFSETTO:-0500
TZNAME:EST
DTSTART:20261101T060000
END:STANDARD
END:VTIMEZONE
BEGIN:VEVENT
DTSTART;TZID=America/Detroit:20250422T090000
DTEND;TZID=America/Detroit:20250424T140000
DTSTAMP:20260425T115601
CREATED:20250317T142117Z
LAST-MODIFIED:20250317T142117Z
UID:10007621-1745312400-1745503200@www.visitglenarbor.com
SUMMARY:Outdoor Gallery Panel Auction
DESCRIPTION:Outdoor Gallery Panel Auction\nAuction is April 22-24\, 2025 \nAll five panels from the Glen Arbor Arts Center’s 2024 Outdoor Gallery exhibition will be available for acquisition. The GAAC is holding an online auction April 22-24 2024. The 5-foot square artworks are reproductions of original collages by Leelanau County artist Margo Burian\, winner of the 2024 Outdoor Gallery invitational. \nThe panels may be enjoyed at any time. They are displayed on the GAAC’s exterior walls. \nFor more information about how to bid on the panels\, and to learn more about Margo Burian\, go to: https://glenarborart.org/2025-outdoor-gallery-panel-auction/
URL:https://www.visitglenarbor.com/event/outdoor-gallery-panel-auction-3/
LOCATION:MI
CATEGORIES:Art/Gallery/Exhibit,Community Events,Local Business Event
ATTACH;FMTTYPE=image/jpeg:https://www.visitglenarbor.com/wp-content/uploads/2025/03/OutdoorGalleryAuction2025Webslide-002.jpg
END:VEVENT
BEGIN:VEVENT
DTSTART;TZID=America/Detroit:20250422T140000
DTEND;TZID=America/Detroit:20250422T150000
DTSTAMP:20260425T115601
CREATED:20250528T181809Z
LAST-MODIFIED:20250528T181809Z
UID:10007758-1745330400-1745334000@www.visitglenarbor.com
SUMMARY:Tech Tuesday - Podcasts 101
DESCRIPTION:Explore the world of podcasts with librarian and author Lisa Rabey. She’ll demonstrate how to find and listen to these engaging audio recordings\, covering an amazing array of topics and genres. Tech Tuesday tutorials are presented by the public libraries of Leelanau County.
URL:https://www.visitglenarbor.com/event/tech-tuesday-podcasts-101/
LOCATION:Glen Lake Community Library\, 10115 Front Street\, Empire\, MI\, 49630\, United States
CATEGORIES:Education
ATTACH;FMTTYPE=image/jpeg:https://www.visitglenarbor.com/wp-content/uploads/2025/04/Podcast.jpg
ORGANIZER;CN="Glen Lake Community Library":MAILTO:info@glenlakelibrary.net
END:VEVENT
END:VCALENDAR