BEGIN:VCALENDAR
VERSION:2.0
PRODID:-//Glen Lake Chamber of Commerce - ECPv6.15.19//NONSGML v1.0//EN
CALSCALE:GREGORIAN
METHOD:PUBLISH
X-ORIGINAL-URL:https://www.visitglenarbor.com
X-WR-CALDESC:Events for Glen Lake Chamber of Commerce
REFRESH-INTERVAL;VALUE=DURATION:PT1H
X-Robots-Tag:noindex
X-PUBLISHED-TTL:PT1H
BEGIN:VTIMEZONE
TZID:America/Detroit
BEGIN:DAYLIGHT
TZOFFSETFROM:-0500
TZOFFSETTO:-0400
TZNAME:EDT
DTSTART:20240310T070000
END:DAYLIGHT
BEGIN:STANDARD
TZOFFSETFROM:-0400
TZOFFSETTO:-0500
TZNAME:EST
DTSTART:20241103T060000
END:STANDARD
BEGIN:DAYLIGHT
TZOFFSETFROM:-0500
TZOFFSETTO:-0400
TZNAME:EDT
DTSTART:20250309T070000
END:DAYLIGHT
BEGIN:STANDARD
TZOFFSETFROM:-0400
TZOFFSETTO:-0500
TZNAME:EST
DTSTART:20251102T060000
END:STANDARD
BEGIN:DAYLIGHT
TZOFFSETFROM:-0500
TZOFFSETTO:-0400
TZNAME:EDT
DTSTART:20260308T070000
END:DAYLIGHT
BEGIN:STANDARD
TZOFFSETFROM:-0400
TZOFFSETTO:-0500
TZNAME:EST
DTSTART:20261101T060000
END:STANDARD
END:VTIMEZONE
BEGIN:VEVENT
DTSTART;TZID=America/Detroit:20250116T160000
DTEND;TZID=America/Detroit:20250116T190000
DTSTAMP:20260419T160939
CREATED:20241022T143147Z
LAST-MODIFIED:20241104T170722Z
UID:10006934-1737043200-1737054000@www.visitglenarbor.com
SUMMARY:Live Music at French Valley: Rob Coonrod
DESCRIPTION:Join us Thursday\, November 21st\, January 16th and Marth 13th at French Valley Vineyard for an unforgettable evening of live music by Rob Coonrod. Rob Coonrod is an eclectic singer/songwriter/guitarist from Interlochen\, Michigan. His diverse style ranges from Jazz and soul to rock\, folk and guitar led blues with a colorful psychedelic lyricism.
URL:https://www.visitglenarbor.com/event/live-music-at-french-valley-rob-coonrod/2025-01-16/
LOCATION:French Valley Vineyard\, 3655 South French Road\, cedar\, MI\, 49621\, United States
CATEGORIES:Music,Wine/Beer or Tasting Event
ATTACH;FMTTYPE=image/png:https://www.visitglenarbor.com/wp-content/uploads/2024/10/Rob-Coonrod.png
ORGANIZER;CN="French Valley Vineyard":MAILTO:info@fvvineyard.com
END:VEVENT
BEGIN:VEVENT
DTSTART;TZID=America/Detroit:20250116T160000
DTEND;TZID=America/Detroit:20250116T190000
DTSTAMP:20260419T160939
CREATED:20250107T143852Z
LAST-MODIFIED:20250526T131942Z
UID:10007519-1737043200-1737054000@www.visitglenarbor.com
SUMMARY:French Valley’s Locals Night
DESCRIPTION:Join us at French Valley every Thursday from 4 PM to 7 PM for Locals Night – an evening of great flavors\, live music\, and community vibes! \nEnjoy a $1 discount on all drinks to perfectly pair with our delicious rotating soup special. Check out our website for more information on this week’s live music and soup special! \nSoup Options:\n• $7 Bowls – Enjoy a comforting bowl while you’re here.\n• $12 Quarts To-Go – Take the flavor home and share with family or save for later! \nWhether you’re craving a cozy night in or a fun outing with friends\, French Valley’s Locals Night is the perfect midweek treat. Come for the soup\, stay for the music\, and make it your new Thursday tradition!
URL:https://www.visitglenarbor.com/event/french-valleys-locals-night/2025-01-16/
LOCATION:French Valley Vineyard\, 3655 South French Road\, cedar\, MI\, 49621\, United States
CATEGORIES:Music
ATTACH;FMTTYPE=image/png:https://www.visitglenarbor.com/wp-content/uploads/2025/01/Screen-Shot-2025-01-19-at-1.29.00-PM.png
ORGANIZER;CN="French Valley Vineyard":MAILTO:info@fvvineyard.com
END:VEVENT
BEGIN:VEVENT
DTSTART;TZID=America/Detroit:20250116T180000
DTEND;TZID=America/Detroit:20250116T200000
DTSTAMP:20260419T160939
CREATED:20250610T131904Z
LAST-MODIFIED:20250610T131904Z
UID:10007245-1737050400-1737057600@www.visitglenarbor.com
SUMMARY:Euchre Night at Town Hall
DESCRIPTION:EUCHRE NIGHT AT TOWN HALL\nSave the date – January 16\, 6-8 pm\nPartner not needed. Bring an appetizer to pass\, a beverage\, and a deck of cards. Free.
URL:https://www.visitglenarbor.com/event/euchre-night-at-town-hall/
LOCATION:Glen Arbor Town Hall\, MI\, United States
ATTACH;FMTTYPE=image/jpeg:https://www.visitglenarbor.com/wp-content/uploads/2024/12/istockphoto-1299372326-612x612-1.jpg
END:VEVENT
END:VCALENDAR