BEGIN:VCALENDAR
VERSION:2.0
PRODID:-//Glen Lake Chamber of Commerce - ECPv6.15.19//NONSGML v1.0//EN
CALSCALE:GREGORIAN
METHOD:PUBLISH
X-WR-CALNAME:Glen Lake Chamber of Commerce
X-ORIGINAL-URL:https://www.visitglenarbor.com
X-WR-CALDESC:Events for Glen Lake Chamber of Commerce
REFRESH-INTERVAL;VALUE=DURATION:PT1H
X-Robots-Tag:noindex
X-PUBLISHED-TTL:PT1H
BEGIN:VTIMEZONE
TZID:America/Detroit
BEGIN:DAYLIGHT
TZOFFSETFROM:-0500
TZOFFSETTO:-0400
TZNAME:EDT
DTSTART:20230312T070000
END:DAYLIGHT
BEGIN:STANDARD
TZOFFSETFROM:-0400
TZOFFSETTO:-0500
TZNAME:EST
DTSTART:20231105T060000
END:STANDARD
BEGIN:DAYLIGHT
TZOFFSETFROM:-0500
TZOFFSETTO:-0400
TZNAME:EDT
DTSTART:20240310T070000
END:DAYLIGHT
BEGIN:STANDARD
TZOFFSETFROM:-0400
TZOFFSETTO:-0500
TZNAME:EST
DTSTART:20241103T060000
END:STANDARD
BEGIN:DAYLIGHT
TZOFFSETFROM:-0500
TZOFFSETTO:-0400
TZNAME:EDT
DTSTART:20250309T070000
END:DAYLIGHT
BEGIN:STANDARD
TZOFFSETFROM:-0400
TZOFFSETTO:-0500
TZNAME:EST
DTSTART:20251102T060000
END:STANDARD
END:VTIMEZONE
BEGIN:VEVENT
DTSTART;VALUE=DATE:20240329
DTEND;VALUE=DATE:20240531
DTSTAMP:20260419T230429
CREATED:20240308T013435Z
LAST-MODIFIED:20240308T013435Z
UID:10005389-1711670400-1717113599@www.visitglenarbor.com
SUMMARY:By Hand Project
DESCRIPTION:Human hands with their dexterous\, opposable thumbs have allowed us to innovate\, to use tools\, to become nimble\, skillful\, creative\, and artful makers. The Glen Arbor Arts Center By Hand project is a consideration of the myriad ways in which the human hand is intrinsic to creative work; and a demonstration of what human hands can make. The By Hand project runs March 29 – May 30\, 2024\, and offers a range of programs that explore this theme through the visual\, performing\, architectural\, and literary arts. \nIn a time of machine dominance\, there is case to be made that right now is the perfect moment to celebrate making-by-hand. The By Hand project challenges this techno-centric time with these programs: \n•	By Hand\, the exhibition\, March 29 – May 30\n•	Coffee With the Authors | The Letter League\, April 6\, 1 pm\n•	By Hand: Architecture\, April 13\, 1 pm\n•	By Hand: Making Music\, April 20\, 1 pm\n•	By Hand: Artificial Intelligence In The Arts\, May 4\, 1 pm \nFor more information about all the By Hand programs go to GlenArborArt.org / EXHIBITS. All programs are free. The GAAC is located at 6031 S. Lake St.\, Glen Arbor.
URL:https://www.visitglenarbor.com/event/by-hand-project/
LOCATION:Glen Arbor Arts Center\, 6031 S. Lake Street\, Glen Arbor\, MI\, 49636
CATEGORIES:Art/Gallery/Exhibit,Community Events
ATTACH;FMTTYPE=image/jpeg:https://www.visitglenarbor.com/wp-content/uploads/2024/03/ByHandShow_FB-002.jpg
ORGANIZER;CN="Glen Arbor Arts Center":MAILTO:director@glenarborart.org
END:VEVENT
BEGIN:VEVENT
DTSTART;VALUE=DATE:20240426
DTEND;VALUE=DATE:20240505
DTSTAMP:20260419T230429
CREATED:20240229T180758Z
LAST-MODIFIED:20240426T141322Z
UID:10004193-1714089600-1714867199@www.visitglenarbor.com
SUMMARY:Glen Lake Restaurant Week
DESCRIPTION:Glen Lake Restaurant Week\nMark your calendar for the 10th annual Glen Lake Restaurant Week\, April 26th – May 4th\, 2024.\nEnjoy various dining options\, from “French Fries to French Cuisine.”  \nWith special prix-fixe menus offered by participating restaurants\, you’ll be able to experience the best of the area’s culinary delights. Prices will vary\, and some restaurants may even offer breakfast and lunch specials. Stay tuned for a list of participating businesses and menus will be added as they are confirmed. \nFollow on Facebook for appetizing event updates: @Eat Glen Arbor \n\nThank You! Sponsors…\n   \n\nVisit these *participating businesses…\n*(Menu’s will begin to be available beginning of April. Reservations requested for some\, not for all) \nArt’s Tavern\n> VIEW RESTAURANT WEEK SPECIALS \nDine-in or Take-out; No reservations. Open 7 days a week. Cash only. \n(231)334-3754\n\n6487 Western Ave\, Glen Arbor\, MI \n\nBlu\n> VIEW THE RESTAURANT WEEK MENU \nMake your reservations online now. Open Tuesday-Saturday for the season beginning Mid April. \n(231)334-2530\n5705 S Lake St\, Glen Arbor\, MI\n\nBoonedocks Glen Arbor\n> VIEW THE RESTAURANT WEEK MENU \nPLUS\, take 25% off regular menu items during the event. Open Wednesday-Saturday 11-8 and Sunday 11-3. \n(231) 334-6444\n\n5858 Manitou View\, Glen Arbor\, MI 49636 \nBroomstack Kitchen & Taphouse\n> VIEW THE RESTAURANT WEEK MENU \n(231)228-8869\n\n172 W Burdickville Rd\, Maple City\, MI \n\n\nCherry Public House\n> VIEW THE RESTAURANT WEEK MENU\nOpen Thursday – Sunday 11am-8pm. RW Menu available for dine-in or take-out. \n(231)226-3033 \n6026 S. Lake Street\, Glen Arbor\, MI \nGood Harbor Grill\n> VIEW THE RESTAURANT WEEK MENU\nOpen for Breakfast and Lunch (Opening for Dinner beginning mid May) \n(231)334-3555 \n\n6584 Western Ave\, Glen Arbor\, MI \n\nFunistrada\nVIEW THE RESTAURANT WEEK MENU \nOpen Tuesday – Saturday at 5:00pm for dinner. Reservations recommended! \n(231)334-3900\n\n4566 W MacFarlane Rd\, Maple City\, MI 49664 \n\n\n\n\nLa Bécasse\n> VIEW THE RESTAURANT WEEK MENU \nReservations for dinner beginning at 5pm. Regular menu\, Restaurant Week Menu and Drink Menu offered. \n(231)334-3944\n\n9001 S Dunns Farm Rd\, Maple City\, MI \nWestern Avenue Grill\n> VIEW THE RESTAURANT WEEK MENU \nNo take-out\, reservations recommended\, but not required. \n(231) 334-3362 \n6410 Western Ave\, Glen Arbor\, MI \n\n\n\n\nFor event questions\, to participate or become a sponsor\, please contact us at info@visitglenarbor.com
URL:https://www.visitglenarbor.com/event/2024-restaurant-week/
CATEGORIES:Community Events,Food/Dining Event,Kids + Family Friendly,Local Business Event,Wine/Beer or Tasting Event
ATTACH;FMTTYPE=image/jpeg:https://www.visitglenarbor.com/wp-content/uploads/2024/02/Photo-graphic-Restaurant-week-design-2024-scaled.jpg
END:VEVENT
BEGIN:VEVENT
DTSTART;TZID=America/Detroit:20240502T093000
DTEND;TZID=America/Detroit:20240502T233000
DTSTAMP:20260419T230429
CREATED:20230710T190254Z
LAST-MODIFIED:20230710T190301Z
UID:10005093-1714642200-1714692600@www.visitglenarbor.com
SUMMARY:Biking Tours
DESCRIPTION:Ride the Historic Side! Discover the charm\, local lore\, and history of Port Oneida\, by immersing yourself in nature and culture. Get an up-close guided tour in a small group of the rural landscape’s farming\, logging and maritime heritage\, imagining life in the early 19th century. Listening devices allow learning while cycling\, stopping to peak inside some of the historic structures. Connect with each other and your heritage! \nBring your own bike\, or rent through our partners The Cyclery in Glen Arbor at a discount. Book the bike tour first to get the discount. Bike rentals will be delivered at the starting point of the Port Oneida Tours or waiting for you at The Cyclery for Glen Haven Tours. \nReservations required.
URL:https://www.visitglenarbor.com/event/biking-tours/2024-05-02/
LOCATION:Port Oneida Heritage Center\, 3164 W. Harbor Hwy.\, Maple City\, Michigan\, 49630
CATEGORIES:Recreation
ATTACH;FMTTYPE=image/png:https://www.visitglenarbor.com/wp-content/uploads/2023/07/Bike-Tour-for-Facebook.png
END:VEVENT
BEGIN:VEVENT
DTSTART;TZID=America/Detroit:20240502T110000
DTEND;TZID=America/Detroit:20240502T120000
DTSTAMP:20260419T230429
CREATED:20230814T150539Z
LAST-MODIFIED:20230814T150539Z
UID:10005252-1714647600-1714651200@www.visitglenarbor.com
SUMMARY:Walk + Talk The Exhibits
DESCRIPTION:A guided walk-and-talk through the Glen Arbor Arts Center’s new exhibit\, In Translation\, takes place September 2 and October 14\, 11 am. Sarah Bearup-Neal\, GAAC gallery manager\, leads a conversational tour of the exhibit. In Translation explores how visual artists translate the human and natural worlds\, current events\, and contemporary social issues through their art work. \nThe Walk + Talk will also include conversation about The Side Of The Road\, an exhibition of abstract landscapes by Alice Moss. These mixed media paintings are in the GAAC Lobby Gallery.\nNo one walks into a gallery and fully understands what the exhibiting artists intended to say with their work. During this one-hour program\, Bearup-Neal will talk about both exhibits’ themes; shed light on artists’ statements; and explore how artists use materials to communicate meaning; or make an idea more dynamic. Visitors will leave with a fuller understanding\, and appreciation of the exhibit. \nA grant from the Michigan Humanities Council provides support for the In Translation project. The Walk + Talk is free. The GAAC is located at 6031 S. Lake St.\, Glen Arbor. For more information go to GlenArborArt.org / EVENTS.
URL:https://www.visitglenarbor.com/event/walk-talk-the-exhibits/2024-05-02/
LOCATION:MI\, United States
ATTACH;FMTTYPE=image/jpeg:https://www.visitglenarbor.com/wp-content/uploads/2023/08/WalkAndTalk_2023_FB.jpg
END:VEVENT
END:VCALENDAR