BEGIN:VCALENDAR
VERSION:2.0
PRODID:-//Glen Lake Chamber of Commerce - ECPv6.15.19//NONSGML v1.0//EN
CALSCALE:GREGORIAN
METHOD:PUBLISH
X-WR-CALNAME:Glen Lake Chamber of Commerce
X-ORIGINAL-URL:https://www.visitglenarbor.com
X-WR-CALDESC:Events for Glen Lake Chamber of Commerce
REFRESH-INTERVAL;VALUE=DURATION:PT1H
X-Robots-Tag:noindex
X-PUBLISHED-TTL:PT1H
BEGIN:VTIMEZONE
TZID:America/Detroit
BEGIN:DAYLIGHT
TZOFFSETFROM:-0500
TZOFFSETTO:-0400
TZNAME:EDT
DTSTART:20230312T070000
END:DAYLIGHT
BEGIN:STANDARD
TZOFFSETFROM:-0400
TZOFFSETTO:-0500
TZNAME:EST
DTSTART:20231105T060000
END:STANDARD
BEGIN:DAYLIGHT
TZOFFSETFROM:-0500
TZOFFSETTO:-0400
TZNAME:EDT
DTSTART:20240310T070000
END:DAYLIGHT
BEGIN:STANDARD
TZOFFSETFROM:-0400
TZOFFSETTO:-0500
TZNAME:EST
DTSTART:20241103T060000
END:STANDARD
BEGIN:DAYLIGHT
TZOFFSETFROM:-0500
TZOFFSETTO:-0400
TZNAME:EDT
DTSTART:20250309T070000
END:DAYLIGHT
BEGIN:STANDARD
TZOFFSETFROM:-0400
TZOFFSETTO:-0500
TZNAME:EST
DTSTART:20251102T060000
END:STANDARD
END:VTIMEZONE
BEGIN:VEVENT
DTSTART;VALUE=DATE:20240329
DTEND;VALUE=DATE:20240531
DTSTAMP:20260419T220029
CREATED:20240308T013435Z
LAST-MODIFIED:20240308T013435Z
UID:10005389-1711670400-1717113599@www.visitglenarbor.com
SUMMARY:By Hand Project
DESCRIPTION:Human hands with their dexterous\, opposable thumbs have allowed us to innovate\, to use tools\, to become nimble\, skillful\, creative\, and artful makers. The Glen Arbor Arts Center By Hand project is a consideration of the myriad ways in which the human hand is intrinsic to creative work; and a demonstration of what human hands can make. The By Hand project runs March 29 – May 30\, 2024\, and offers a range of programs that explore this theme through the visual\, performing\, architectural\, and literary arts. \nIn a time of machine dominance\, there is case to be made that right now is the perfect moment to celebrate making-by-hand. The By Hand project challenges this techno-centric time with these programs: \n•	By Hand\, the exhibition\, March 29 – May 30\n•	Coffee With the Authors | The Letter League\, April 6\, 1 pm\n•	By Hand: Architecture\, April 13\, 1 pm\n•	By Hand: Making Music\, April 20\, 1 pm\n•	By Hand: Artificial Intelligence In The Arts\, May 4\, 1 pm \nFor more information about all the By Hand programs go to GlenArborArt.org / EXHIBITS. All programs are free. The GAAC is located at 6031 S. Lake St.\, Glen Arbor.
URL:https://www.visitglenarbor.com/event/by-hand-project/
LOCATION:Glen Arbor Arts Center\, 6031 S. Lake Street\, Glen Arbor\, MI\, 49636
CATEGORIES:Art/Gallery/Exhibit,Community Events
ATTACH;FMTTYPE=image/jpeg:https://www.visitglenarbor.com/wp-content/uploads/2024/03/ByHandShow_FB-002.jpg
ORGANIZER;CN="Glen Arbor Arts Center":MAILTO:director@glenarborart.org
END:VEVENT
BEGIN:VEVENT
DTSTART;TZID=America/Detroit:20240420T093000
DTEND;TZID=America/Detroit:20240420T233000
DTSTAMP:20260419T220029
CREATED:20230710T190254Z
LAST-MODIFIED:20230710T190301Z
UID:10005087-1713605400-1713655800@www.visitglenarbor.com
SUMMARY:Biking Tours
DESCRIPTION:Ride the Historic Side! Discover the charm\, local lore\, and history of Port Oneida\, by immersing yourself in nature and culture. Get an up-close guided tour in a small group of the rural landscape’s farming\, logging and maritime heritage\, imagining life in the early 19th century. Listening devices allow learning while cycling\, stopping to peak inside some of the historic structures. Connect with each other and your heritage! \nBring your own bike\, or rent through our partners The Cyclery in Glen Arbor at a discount. Book the bike tour first to get the discount. Bike rentals will be delivered at the starting point of the Port Oneida Tours or waiting for you at The Cyclery for Glen Haven Tours. \nReservations required.
URL:https://www.visitglenarbor.com/event/biking-tours/2024-04-20/
LOCATION:Port Oneida Heritage Center\, 3164 W. Harbor Hwy.\, Maple City\, Michigan\, 49630
CATEGORIES:Recreation
ATTACH;FMTTYPE=image/png:https://www.visitglenarbor.com/wp-content/uploads/2023/07/Bike-Tour-for-Facebook.png
END:VEVENT
BEGIN:VEVENT
DTSTART;TZID=America/Detroit:20240420T100000
DTEND;TZID=America/Detroit:20240420T120000
DTSTAMP:20260419T220029
CREATED:20240326T014323Z
LAST-MODIFIED:20240326T014323Z
UID:10005396-1713607200-1713614400@www.visitglenarbor.com
SUMMARY:Nature Drawing & Journaling Workshop
DESCRIPTION:Artist and educator Penny Krebiehl will lead this guided journal and drawing workshop\, gathering at the library before heading outdoors. Participants should dress for outdoor weather\, and bring their own drawing supplies (notebooks\, pens\, pencils\, etc). The group will then meet back at the library to share their work. All ages are welcome.
URL:https://www.visitglenarbor.com/event/nature-drawing-journaling-workshop/2024-04-20/
LOCATION:Glen Lake Community Library\, 10115 Front Street\, Empire\, MI\, 49630\, United States
CATEGORIES:Community Events,Kids + Family Friendly
ATTACH;FMTTYPE=image/jpeg:https://www.visitglenarbor.com/wp-content/uploads/2024/03/Penny-K-Nature-Lakeshore-scaled.jpg
ORGANIZER;CN="Glen Lake Community Library":MAILTO:info@glenlakelibrary.net
END:VEVENT
BEGIN:VEVENT
DTSTART;TZID=America/Detroit:20240420T130000
DTEND;TZID=America/Detroit:20240420T140000
DTSTAMP:20260419T220029
CREATED:20240308T013420Z
LAST-MODIFIED:20240308T013420Z
UID:10005387-1713618000-1713621600@www.visitglenarbor.com
SUMMARY:Music BY HAND
DESCRIPTION:The Glen Arbor Arts Center celebrates human handwork in its By Hand project. On April 20\, musicians Martha Meek and Laura Hood will talk about the value and joy of making music by hand. Meek is the director of the Martha Meek Music Studio in Suttons Bay. Hood teaches music\, and chairs The Leelanau School art department. The program begins at 1 pm.\nContemporary music is often about consuming\, rather than creating\, and more often the result of digital enhancements and electronic additions. In this program Meek and Hood will talk about what happens in the brain when people make music\, how playing an instrument – whether stringed\, brass or produced with the vocal cords – enhances and enriches life. A group of Leelanau School music students will also take part in the discussion\, and talk about their experience as hand music makers.\nThis By Hand program is free. The GAAC is located at 6031 S. Lake St.\, Glen Arbor. The By Hand project runs March 29 – May 30\, and is comprised of a series of visual art exhibitions and community conversations. The By Hand project enjoys the support of a Michigan Humanities Bridging Michigan grant. For more information go to GlenArborArt.org / EVENTS.
URL:https://www.visitglenarbor.com/event/music-by-hand/
LOCATION:Glen Arbor Arts Center\, 6031 S. Lake Street\, Glen Arbor\, MI\, 49636
CATEGORIES:Community Events
ATTACH;FMTTYPE=image/jpeg:https://www.visitglenarbor.com/wp-content/uploads/2024/03/ZZZZ_Music-scaled.jpg
ORGANIZER;CN="Glen Arbor Arts Center":MAILTO:director@glenarborart.org
END:VEVENT
END:VCALENDAR