BEGIN:VCALENDAR
VERSION:2.0
PRODID:-//Glen Lake Chamber of Commerce - ECPv6.15.19//NONSGML v1.0//EN
CALSCALE:GREGORIAN
METHOD:PUBLISH
X-WR-CALNAME:Glen Lake Chamber of Commerce
X-ORIGINAL-URL:https://www.visitglenarbor.com
X-WR-CALDESC:Events for Glen Lake Chamber of Commerce
REFRESH-INTERVAL;VALUE=DURATION:PT1H
X-Robots-Tag:noindex
X-PUBLISHED-TTL:PT1H
BEGIN:VTIMEZONE
TZID:America/Detroit
BEGIN:DAYLIGHT
TZOFFSETFROM:-0500
TZOFFSETTO:-0400
TZNAME:EDT
DTSTART:20220313T070000
END:DAYLIGHT
BEGIN:STANDARD
TZOFFSETFROM:-0400
TZOFFSETTO:-0500
TZNAME:EST
DTSTART:20221106T060000
END:STANDARD
BEGIN:DAYLIGHT
TZOFFSETFROM:-0500
TZOFFSETTO:-0400
TZNAME:EDT
DTSTART:20230312T070000
END:DAYLIGHT
BEGIN:STANDARD
TZOFFSETFROM:-0400
TZOFFSETTO:-0500
TZNAME:EST
DTSTART:20231105T060000
END:STANDARD
BEGIN:DAYLIGHT
TZOFFSETFROM:-0500
TZOFFSETTO:-0400
TZNAME:EDT
DTSTART:20240310T070000
END:DAYLIGHT
BEGIN:STANDARD
TZOFFSETFROM:-0400
TZOFFSETTO:-0500
TZNAME:EST
DTSTART:20241103T060000
END:STANDARD
BEGIN:DAYLIGHT
TZOFFSETFROM:-0500
TZOFFSETTO:-0400
TZNAME:EDT
DTSTART:20250309T070000
END:DAYLIGHT
BEGIN:STANDARD
TZOFFSETFROM:-0400
TZOFFSETTO:-0500
TZNAME:EST
DTSTART:20251102T060000
END:STANDARD
END:VTIMEZONE
BEGIN:VEVENT
DTSTART;TZID=America/Detroit:20231125T080000
DTEND;TZID=America/Detroit:20240102T170000
DTSTAMP:20260422T120548
CREATED:20231206T183636Z
LAST-MODIFIED:20231206T183636Z
UID:10005329-1700899200-1704214800@www.visitglenarbor.com
SUMMARY:Third Annual Strolling Lights Festival
DESCRIPTION:Join the Crystal River Outfitters Recreational District as we kick off the holiday season with the Third Annual Strolling Lights Festival. This fun family event is a great way to get in the festive spirit.  \nThis year\, the cause is near and dear to the hearts of the customers and team of the Crystal River Outfitters Recreational District. If you have been in Coastal\, Crystal River Outfitters and The Cyclery and have admired the amazing selections that we offer\, a LARGE majority of this work is owed to our own Kelly Florip\, our Crystal River Outfitters Recreational District Lead Buyer. She is constantly working her magic to ensure that our products and stores are ready to go and looking their best.\nIn August she was diagnosed with breast cancer for the second time in her life and has a major journey ahead of her with treatment and travel for this treatment.  Kelly and her husband Nick also have two young girls Mabel & Mylah. Kelly is a ray of sunshine and a rock in our community. Therefore\, this year the proceeds from The Strolling Lights Festival will benefit Kelly Florip & her family to help with medical and travel expenses needed for her care.\nIf you are interested in donating\, please visit our website for more information. \nGrab friends and family and stroll through The District to admire the festive and uniquely decorated trees! Stop by M22 Glen Arbor for a glass of wine and some M22 gear! Then head over to Coastal to shop all the great gift ideas\, apparel and more!
URL:https://www.visitglenarbor.com/event/third-annual-strolling-lights-festival/
LOCATION:MI
CATEGORIES:Community Events,Kids + Family Friendly,Local Business Event
ATTACH;FMTTYPE=image/png:https://www.visitglenarbor.com/wp-content/uploads/2023/11/INSTAGRAM-POST-FOR-SLF.png
END:VEVENT
BEGIN:VEVENT
DTSTART;TZID=America/Detroit:20231219T190000
DTEND;TZID=America/Detroit:20240102T200000
DTSTAMP:20260422T120548
CREATED:20231129T142842Z
LAST-MODIFIED:20231129T142842Z
UID:10005338-1703012400-1704225600@www.visitglenarbor.com
SUMMARY:Great Lakes Untamed:  A Documentary Film Series
DESCRIPTION:Experience the beauty\, power and wonder of our unique Great Lakes ecosystem in this stunning three-part film series. We’ll present one episode on each of the following dates: December 5\, 12 & 19\, 7:00 PM.
URL:https://www.visitglenarbor.com/event/great-lakes-untamed-a-documentary-film-series/2023-12-19/
LOCATION:Glen Lake Community Library\, 10115 Front Street\, Empire\, MI\, 49630\, United States
CATEGORIES:Community Events,Education,Kids + Family Friendly
ATTACH;FMTTYPE=image/jpeg:https://www.visitglenarbor.com/wp-content/uploads/2023/11/stormy-seas.jpg
ORGANIZER;CN="Glen Lake Community Library":MAILTO:info@glenlakelibrary.net
END:VEVENT
BEGIN:VEVENT
DTSTART;TZID=America/Detroit:20240102T093000
DTEND;TZID=America/Detroit:20240102T233000
DTSTAMP:20260422T120548
CREATED:20230710T190254Z
LAST-MODIFIED:20230710T190301Z
UID:10005024-1704187800-1704238200@www.visitglenarbor.com
SUMMARY:Biking Tours
DESCRIPTION:Ride the Historic Side! Discover the charm\, local lore\, and history of Port Oneida\, by immersing yourself in nature and culture. Get an up-close guided tour in a small group of the rural landscape’s farming\, logging and maritime heritage\, imagining life in the early 19th century. Listening devices allow learning while cycling\, stopping to peak inside some of the historic structures. Connect with each other and your heritage! \nBring your own bike\, or rent through our partners The Cyclery in Glen Arbor at a discount. Book the bike tour first to get the discount. Bike rentals will be delivered at the starting point of the Port Oneida Tours or waiting for you at The Cyclery for Glen Haven Tours. \nReservations required.
URL:https://www.visitglenarbor.com/event/biking-tours/2024-01-02/
LOCATION:Port Oneida Heritage Center\, 3164 W. Harbor Hwy.\, Maple City\, Michigan\, 49630
CATEGORIES:Recreation
ATTACH;FMTTYPE=image/png:https://www.visitglenarbor.com/wp-content/uploads/2023/07/Bike-Tour-for-Facebook.png
END:VEVENT
BEGIN:VEVENT
DTSTART;TZID=America/Detroit:20240102T110000
DTEND;TZID=America/Detroit:20240102T120000
DTSTAMP:20260422T120548
CREATED:20230814T150539Z
LAST-MODIFIED:20230814T150539Z
UID:10005248-1704193200-1704196800@www.visitglenarbor.com
SUMMARY:Walk + Talk The Exhibits
DESCRIPTION:A guided walk-and-talk through the Glen Arbor Arts Center’s new exhibit\, In Translation\, takes place September 2 and October 14\, 11 am. Sarah Bearup-Neal\, GAAC gallery manager\, leads a conversational tour of the exhibit. In Translation explores how visual artists translate the human and natural worlds\, current events\, and contemporary social issues through their art work. \nThe Walk + Talk will also include conversation about The Side Of The Road\, an exhibition of abstract landscapes by Alice Moss. These mixed media paintings are in the GAAC Lobby Gallery.\nNo one walks into a gallery and fully understands what the exhibiting artists intended to say with their work. During this one-hour program\, Bearup-Neal will talk about both exhibits’ themes; shed light on artists’ statements; and explore how artists use materials to communicate meaning; or make an idea more dynamic. Visitors will leave with a fuller understanding\, and appreciation of the exhibit. \nA grant from the Michigan Humanities Council provides support for the In Translation project. The Walk + Talk is free. The GAAC is located at 6031 S. Lake St.\, Glen Arbor. For more information go to GlenArborArt.org / EVENTS.
URL:https://www.visitglenarbor.com/event/walk-talk-the-exhibits/2024-01-02/
LOCATION:MI\, United States
ATTACH;FMTTYPE=image/jpeg:https://www.visitglenarbor.com/wp-content/uploads/2023/08/WalkAndTalk_2023_FB.jpg
END:VEVENT
END:VCALENDAR