BEGIN:VCALENDAR
VERSION:2.0
PRODID:-//Glen Lake Chamber of Commerce - ECPv6.15.19//NONSGML v1.0//EN
CALSCALE:GREGORIAN
METHOD:PUBLISH
X-WR-CALNAME:Glen Lake Chamber of Commerce
X-ORIGINAL-URL:https://www.visitglenarbor.com
X-WR-CALDESC:Events for Glen Lake Chamber of Commerce
REFRESH-INTERVAL;VALUE=DURATION:PT1H
X-Robots-Tag:noindex
X-PUBLISHED-TTL:PT1H
BEGIN:VTIMEZONE
TZID:America/Detroit
BEGIN:DAYLIGHT
TZOFFSETFROM:-0500
TZOFFSETTO:-0400
TZNAME:EDT
DTSTART:20220313T070000
END:DAYLIGHT
BEGIN:STANDARD
TZOFFSETFROM:-0400
TZOFFSETTO:-0500
TZNAME:EST
DTSTART:20221106T060000
END:STANDARD
BEGIN:DAYLIGHT
TZOFFSETFROM:-0500
TZOFFSETTO:-0400
TZNAME:EDT
DTSTART:20230312T070000
END:DAYLIGHT
BEGIN:STANDARD
TZOFFSETFROM:-0400
TZOFFSETTO:-0500
TZNAME:EST
DTSTART:20231105T060000
END:STANDARD
BEGIN:DAYLIGHT
TZOFFSETFROM:-0500
TZOFFSETTO:-0400
TZNAME:EDT
DTSTART:20240310T070000
END:DAYLIGHT
BEGIN:STANDARD
TZOFFSETFROM:-0400
TZOFFSETTO:-0500
TZNAME:EST
DTSTART:20241103T060000
END:STANDARD
END:VTIMEZONE
BEGIN:VEVENT
DTSTART;TZID=America/Detroit:20230718T091500
DTEND;TZID=America/Detroit:20230718T103000
DTSTAMP:20260419T121648
CREATED:20230710T181821Z
LAST-MODIFIED:20230718T184635Z
UID:10005145-1689671700-1689676200@www.visitglenarbor.com
SUMMARY:Horse & Wagon Tours
DESCRIPTION:TUESDAYS and THURSDAYS 9:15 am and 10:45 am for an 1.25 hour tour    \n$28 adults   $18 children 4-12 \nClip clop back in time to experience the Port Oneida Rural Historic District the way they did in the late 1800s – early 1900s! Learn about the life of the early pioneers\, and their landscape as we travel by horse and wagon through the fields and side roads of this significant agricultural community of over 100 years\, with beautiful vistas and farmsteads. \nOur Horses:  The stars of the tours are our two Belgian horses Mick and May. You will learn more about the horses on the tour!
URL:https://www.visitglenarbor.com/event/horse-wagon-tours-tuesdays-2023/2023-07-18/
LOCATION:MI\, United States
CATEGORIES:Education,Kids + Family Friendly
ATTACH;FMTTYPE=image/png:https://www.visitglenarbor.com/wp-content/uploads/2023/07/Horse-and-Wagon-Tours-1.png
END:VEVENT
BEGIN:VEVENT
DTSTART;TZID=America/Detroit:20230718T093000
DTEND;TZID=America/Detroit:20230718T113000
DTSTAMP:20260419T121648
CREATED:20230714T203109Z
LAST-MODIFIED:20230714T203109Z
UID:10005198-1689672600-1689679800@www.visitglenarbor.com
SUMMARY:Biking Tours
DESCRIPTION:Tuesday\, Thursday\, Friday and Saturday at 9:30 am\, a 2 hour narrated tour. Reservations required.\n\nThree tours available:\n• Biking a By-gone Era\n• Peddling Port Oneida’s Past\n• Secrets of D.H. Day’s Kingdom and Beyond\n\nCost is $25 for adults and $15 for Children ages 7 -17.  Discount Bike Rental for these tours is available at Crystal River Outfitters.
URL:https://www.visitglenarbor.com/event/biking-tours-2/2023-07-18/
LOCATION:Port Oneida Rural Historic District\, 3164 W Harbor Hwy\, Maple City\, MI\, 49664\, United States
CATEGORIES:Community Events,Education,Kids + Family Friendly,Recreation
ATTACH;FMTTYPE=image/png:https://www.visitglenarbor.com/wp-content/uploads/2023/07/Bike-Tour-for-Facebook.png
END:VEVENT
BEGIN:VEVENT
DTSTART;TZID=America/Detroit:20230718T093000
DTEND;TZID=America/Detroit:20230718T233000
DTSTAMP:20260419T121648
CREATED:20230710T190254Z
LAST-MODIFIED:20230710T190301Z
UID:10004928-1689672600-1689723000@www.visitglenarbor.com
SUMMARY:Biking Tours
DESCRIPTION:Ride the Historic Side! Discover the charm\, local lore\, and history of Port Oneida\, by immersing yourself in nature and culture. Get an up-close guided tour in a small group of the rural landscape’s farming\, logging and maritime heritage\, imagining life in the early 19th century. Listening devices allow learning while cycling\, stopping to peak inside some of the historic structures. Connect with each other and your heritage! \nBring your own bike\, or rent through our partners The Cyclery in Glen Arbor at a discount. Book the bike tour first to get the discount. Bike rentals will be delivered at the starting point of the Port Oneida Tours or waiting for you at The Cyclery for Glen Haven Tours. \nReservations required.
URL:https://www.visitglenarbor.com/event/biking-tours/2023-07-18/
LOCATION:Port Oneida Heritage Center\, 3164 W. Harbor Hwy.\, Maple City\, Michigan\, 49630
CATEGORIES:Recreation
ATTACH;FMTTYPE=image/png:https://www.visitglenarbor.com/wp-content/uploads/2023/07/Bike-Tour-for-Facebook.png
END:VEVENT
BEGIN:VEVENT
DTSTART;TZID=America/Detroit:20230718T104500
DTEND;TZID=America/Detroit:20230718T120000
DTSTAMP:20260419T121648
CREATED:20240624T175456Z
LAST-MODIFIED:20240624T175456Z
UID:10005159-1689677100-1689681600@www.visitglenarbor.com
SUMMARY:Horse & Wagon Tours
DESCRIPTION:TUESDAYS and THURSDAYS 9:15 am and 10:45 am for an 1.25 hour tour    \n$28 adults   $18 children 4-12 \nClip clop back in time to experience the Port Oneida Rural Historic District the way they did in the late 1800s – early 1900s! Learn about the life of the early pioneers\, and their landscape as we travel by horse and wagon through the fields and side roads of this significant agricultural community of over 100 years\, with beautiful vistas and farmsteads. \nOur Horses:  The stars of the tours are our two Belgian horses Mick and May. You will learn more about the horses on the tour!
URL:https://www.visitglenarbor.com/event/horse-wagon-tours-tuesdays-2023/2023-07-18/
LOCATION:MI\, United States
CATEGORIES:Education,Kids + Family Friendly
ATTACH;FMTTYPE=image/png:https://www.visitglenarbor.com/wp-content/uploads/2023/07/Horse-and-Wagon-Tours-1.png
END:VEVENT
BEGIN:VEVENT
DTSTART;TZID=America/Detroit:20230718T110000
DTEND;TZID=America/Detroit:20230718T120000
DTSTAMP:20260419T121648
CREATED:20230714T150414Z
LAST-MODIFIED:20230714T150414Z
UID:10005189-1689678000-1689681600@www.visitglenarbor.com
SUMMARY:Kids Live Music with Lunnappi
DESCRIPTION:Luunappi (Finnish for a finger snap to the ear!)—Patrick Niemisto and Norm Wheeler present an interactive tag team of songs\, stories\, and poems from a veritable plethora of sources\, (including their own material). Luunappi creates a unique world of sneetches\, goblins\, skunks\, hobos\, pirates\, shipwrecked sailors\, grown-ups taking sauna\, and kids cleaning dirty rooms
URL:https://www.visitglenarbor.com/event/kids-live-music-with-lunnappi/2023-07-18/
LOCATION:M22 Outdoor Wine Patio\, 6298 W. Western Ave\, Glen Arbor\, MI\, 49636\, United States
CATEGORIES:Kids + Family Friendly
ATTACH;FMTTYPE=image/png:https://www.visitglenarbor.com/wp-content/uploads/2023/07/Screenshot-2023-06-26-at-6.21.44-PM-1.png
END:VEVENT
BEGIN:VEVENT
DTSTART;TZID=America/Detroit:20230718T120000
DTEND;TZID=America/Detroit:20230718T200000
DTSTAMP:20260419T121648
CREATED:20230707T204005Z
LAST-MODIFIED:20230707T204005Z
UID:10005136-1689681600-1689710400@www.visitglenarbor.com
SUMMARY:Pizza Tuesdays at Bel Lago
DESCRIPTION:Join us for live music and 25% off bottles off wine with each pizza order.
URL:https://www.visitglenarbor.com/event/pizza-tuesdays-at-bel-lago/2023-07-18/
LOCATION:Bel Lago\, 6530 S LAKE SHORE DR\, CEDAR\, MI\, 49621-9615\, United States
CATEGORIES:Food/Dining Event,Local Business Event,Music
ATTACH;FMTTYPE=image/jpeg:https://www.visitglenarbor.com/wp-content/uploads/2023/07/PIZZA-1.jpg
ORGANIZER;CN="Bel Lago":MAILTO:info@bellago.com
END:VEVENT
END:VCALENDAR