BEGIN:VCALENDAR
VERSION:2.0
PRODID:-//Glen Lake Chamber of Commerce - ECPv6.15.19//NONSGML v1.0//EN
CALSCALE:GREGORIAN
METHOD:PUBLISH
X-WR-CALNAME:Glen Lake Chamber of Commerce
X-ORIGINAL-URL:https://www.visitglenarbor.com
X-WR-CALDESC:Events for Glen Lake Chamber of Commerce
REFRESH-INTERVAL;VALUE=DURATION:PT1H
X-Robots-Tag:noindex
X-PUBLISHED-TTL:PT1H
BEGIN:VTIMEZONE
TZID:America/Detroit
BEGIN:DAYLIGHT
TZOFFSETFROM:-0500
TZOFFSETTO:-0400
TZNAME:EDT
DTSTART:20220313T070000
END:DAYLIGHT
BEGIN:STANDARD
TZOFFSETFROM:-0400
TZOFFSETTO:-0500
TZNAME:EST
DTSTART:20221106T060000
END:STANDARD
BEGIN:DAYLIGHT
TZOFFSETFROM:-0500
TZOFFSETTO:-0400
TZNAME:EDT
DTSTART:20230312T070000
END:DAYLIGHT
BEGIN:STANDARD
TZOFFSETFROM:-0400
TZOFFSETTO:-0500
TZNAME:EST
DTSTART:20231105T060000
END:STANDARD
BEGIN:DAYLIGHT
TZOFFSETFROM:-0500
TZOFFSETTO:-0400
TZNAME:EDT
DTSTART:20240310T070000
END:DAYLIGHT
BEGIN:STANDARD
TZOFFSETFROM:-0400
TZOFFSETTO:-0500
TZNAME:EST
DTSTART:20241103T060000
END:STANDARD
END:VTIMEZONE
BEGIN:VEVENT
DTSTART;TZID=America/Detroit:20230708T093000
DTEND;TZID=America/Detroit:20230708T233000
DTSTAMP:20260419T230416
CREATED:20230710T190254Z
LAST-MODIFIED:20230710T190301Z
UID:10004923-1688808600-1688859000@www.visitglenarbor.com
SUMMARY:Biking Tours
DESCRIPTION:Ride the Historic Side! Discover the charm\, local lore\, and history of Port Oneida\, by immersing yourself in nature and culture. Get an up-close guided tour in a small group of the rural landscape’s farming\, logging and maritime heritage\, imagining life in the early 19th century. Listening devices allow learning while cycling\, stopping to peak inside some of the historic structures. Connect with each other and your heritage! \nBring your own bike\, or rent through our partners The Cyclery in Glen Arbor at a discount. Book the bike tour first to get the discount. Bike rentals will be delivered at the starting point of the Port Oneida Tours or waiting for you at The Cyclery for Glen Haven Tours. \nReservations required.
URL:https://www.visitglenarbor.com/event/biking-tours/2023-07-08/
LOCATION:Port Oneida Heritage Center\, 3164 W. Harbor Hwy.\, Maple City\, Michigan\, 49630
CATEGORIES:Recreation
ATTACH;FMTTYPE=image/png:https://www.visitglenarbor.com/wp-content/uploads/2023/07/Bike-Tour-for-Facebook.png
END:VEVENT
BEGIN:VEVENT
DTSTART;TZID=America/Detroit:20230708T170000
DTEND;TZID=America/Detroit:20230708T190000
DTSTAMP:20260419T230416
CREATED:20230630T012046Z
LAST-MODIFIED:20230630T012046Z
UID:10004914-1688835600-1688842800@www.visitglenarbor.com
SUMMARY:Live Music at the M22 Wine Patio with Jimmy Olson
DESCRIPTION:Stop by the M22 Wine Patio Saturday\, July 8th from 5-7 pm for live music featuring Jimmy Olson!\nMeet Jimmy Olson – a multi-talented artist with a knack for improvisation and a rhythm that gets the people moving. Jimmy draws inspiration from an array of music genres such as classical\, jazz\, funk\, hip hop\, dance pop and soul\, and is no stranger to a good boogie woogie or a rock & roll tune. At just 34 years old\, he has already been performing solo and with bands for nearly two decades. With his songwriting\, producing\, and performing skills all finely honed\, Jimmy is a true force to be reckoned with. Whether he’s banging out beats on his keys or pouring his heart out on the mic\, Jimmy’s passion for music shines through in every note he plays.
URL:https://www.visitglenarbor.com/event/live-music-at-the-m22-wine-patio-with-jimmy-olson/
LOCATION:M22 Outdoor Wine Patio\, 6298 W. Western Ave\, Glen Arbor\, MI\, 49636\, United States
CATEGORIES:Local Business Event,Music
ATTACH;FMTTYPE=image/jpeg:https://www.visitglenarbor.com/wp-content/uploads/2023/06/image3-1.jpeg
END:VEVENT
BEGIN:VEVENT
DTSTART;TZID=America/Detroit:20230708T190000
DTEND;TZID=America/Detroit:20230708T210000
DTSTAMP:20260419T230416
CREATED:20230508T160009Z
LAST-MODIFIED:20230508T160009Z
UID:10004828-1688842800-1688850000@www.visitglenarbor.com
SUMMARY:Dominic Fortuna Plays Glen Arbor Wines
DESCRIPTION:The talented\, dyamic Dominic Fortuna will perform at Glen Arbor Wines. Bring your dance shoes because we’ll be tearing up the backyard!
URL:https://www.visitglenarbor.com/event/dominic-fortuna-plays-glen-arbor-wines/2023-07-08/
LOCATION:Glen Arbor Wines
CATEGORIES:Music
ATTACH;FMTTYPE=image/jpeg:https://www.visitglenarbor.com/wp-content/uploads/2023/05/dominic.jpg
ORGANIZER;CN="Glen Arbor Wines":MAILTO:Glenarborwines@gmail.com
END:VEVENT
END:VCALENDAR