BEGIN:VCALENDAR
VERSION:2.0
PRODID:-//Glen Lake Chamber of Commerce - ECPv6.15.19//NONSGML v1.0//EN
CALSCALE:GREGORIAN
METHOD:PUBLISH
X-ORIGINAL-URL:https://www.visitglenarbor.com
X-WR-CALDESC:Events for Glen Lake Chamber of Commerce
REFRESH-INTERVAL;VALUE=DURATION:PT1H
X-Robots-Tag:noindex
X-PUBLISHED-TTL:PT1H
BEGIN:VTIMEZONE
TZID:America/Detroit
BEGIN:DAYLIGHT
TZOFFSETFROM:-0500
TZOFFSETTO:-0400
TZNAME:EDT
DTSTART:20220313T070000
END:DAYLIGHT
BEGIN:STANDARD
TZOFFSETFROM:-0400
TZOFFSETTO:-0500
TZNAME:EST
DTSTART:20221106T060000
END:STANDARD
BEGIN:DAYLIGHT
TZOFFSETFROM:-0500
TZOFFSETTO:-0400
TZNAME:EDT
DTSTART:20230312T070000
END:DAYLIGHT
BEGIN:STANDARD
TZOFFSETFROM:-0400
TZOFFSETTO:-0500
TZNAME:EST
DTSTART:20231105T060000
END:STANDARD
BEGIN:DAYLIGHT
TZOFFSETFROM:-0500
TZOFFSETTO:-0400
TZNAME:EDT
DTSTART:20240310T070000
END:DAYLIGHT
BEGIN:STANDARD
TZOFFSETFROM:-0400
TZOFFSETTO:-0500
TZNAME:EST
DTSTART:20241103T060000
END:STANDARD
END:VTIMEZONE
BEGIN:VEVENT
DTSTART;TZID=America/Detroit:20230702T080000
DTEND;TZID=America/Detroit:20230702T120000
DTSTAMP:20260419T160853
CREATED:20230608T171034Z
LAST-MODIFIED:20230614T182458Z
UID:10004001-1688284800-1688299200@www.visitglenarbor.com
SUMMARY:Glen Lake Firefighters Annual Pancake Breakfast
DESCRIPTION:Enjoy a great pancake breakfast Sunday morning from 8am-Noon at Glen Arbor Township Hall. All proceeds help fund the GLFD Fire & Rescue Association. \n$10 per person. Children 6 and under are FREE.
URL:https://www.visitglenarbor.com/event/glen-lake-firefighters-annual-pancake-breakfast/
LOCATION:Glen Arbor Township Hall
CATEGORIES:Community Events,Food/Dining Event,Kids + Family Friendly
ATTACH;FMTTYPE=image/jpeg:https://www.visitglenarbor.com/wp-content/uploads/2023/06/A04602C0-DD4B-49FE-8BDD-C66E20E1F870_1_201_a.jpeg
END:VEVENT
BEGIN:VEVENT
DTSTART;TZID=America/Detroit:20230702T110000
DTEND;TZID=America/Detroit:20230702T140000
DTSTAMP:20260419T160853
CREATED:20230508T161727Z
LAST-MODIFIED:20230508T161727Z
UID:10004852-1688295600-1688306400@www.visitglenarbor.com
SUMMARY:Mel & Fell Pop Up Brunch @ Glen Arbor Wines
DESCRIPTION:Enjoy fresh-squeezed orange juice mimosas and brunch prepared by loved caterers Mel & Fell @ Glen Arbor Wines.
URL:https://www.visitglenarbor.com/event/mel-fell-pop-up-brunch-glen-arbor-wines/2023-07-02/
LOCATION:Glen Arbor Wines
CATEGORIES:Food/Dining Event
ATTACH;FMTTYPE=image/jpeg:https://www.visitglenarbor.com/wp-content/uploads/2023/05/mimosa.jpg
ORGANIZER;CN="Glen Arbor Wines":MAILTO:Glenarborwines@gmail.com
END:VEVENT
END:VCALENDAR