BEGIN:VCALENDAR
VERSION:2.0
PRODID:-//Glen Lake Chamber of Commerce - ECPv6.15.19//NONSGML v1.0//EN
CALSCALE:GREGORIAN
METHOD:PUBLISH
X-WR-CALNAME:Glen Lake Chamber of Commerce
X-ORIGINAL-URL:https://www.visitglenarbor.com
X-WR-CALDESC:Events for Glen Lake Chamber of Commerce
REFRESH-INTERVAL;VALUE=DURATION:PT1H
X-Robots-Tag:noindex
X-PUBLISHED-TTL:PT1H
BEGIN:VTIMEZONE
TZID:America/Detroit
BEGIN:DAYLIGHT
TZOFFSETFROM:-0500
TZOFFSETTO:-0400
TZNAME:EDT
DTSTART:20220313T070000
END:DAYLIGHT
BEGIN:STANDARD
TZOFFSETFROM:-0400
TZOFFSETTO:-0500
TZNAME:EST
DTSTART:20221106T060000
END:STANDARD
BEGIN:DAYLIGHT
TZOFFSETFROM:-0500
TZOFFSETTO:-0400
TZNAME:EDT
DTSTART:20230312T070000
END:DAYLIGHT
BEGIN:STANDARD
TZOFFSETFROM:-0400
TZOFFSETTO:-0500
TZNAME:EST
DTSTART:20231105T060000
END:STANDARD
BEGIN:DAYLIGHT
TZOFFSETFROM:-0500
TZOFFSETTO:-0400
TZNAME:EDT
DTSTART:20240310T070000
END:DAYLIGHT
BEGIN:STANDARD
TZOFFSETFROM:-0400
TZOFFSETTO:-0500
TZNAME:EST
DTSTART:20241103T060000
END:STANDARD
END:VTIMEZONE
BEGIN:VEVENT
DTSTART;TZID=America/Detroit:20230701T110000
DTEND;TZID=America/Detroit:20230701T170000
DTSTAMP:20260419T230414
CREATED:20230518T133027Z
LAST-MODIFIED:20230518T133027Z
UID:10003987-1688209200-1688230800@www.visitglenarbor.com
SUMMARY:Lost and Found Landscapes
DESCRIPTION:Landscape painter\, Wendy McWhorter exhibits her oil paintings of Historic Port Oneida Homesteads\, SBNL and beyond.\nThe paintings portray the artists vision of what original homesteaders planted and overtime no longer blooms\, but through the poetry of painting is reimagined. View over 20 oil paintings of local scenes through the artist lens.\nExhibit opening reception with artist Friday June 30th\, 6-8 pm and continues through Thurs July 6th.
URL:https://www.visitglenarbor.com/event/lost-and-found-landscapes/2023-07-01/
LOCATION:Center Gallery at Lake Street Studios
CATEGORIES:Art/Gallery/Exhibit
ATTACH;FMTTYPE=image/jpeg:https://www.visitglenarbor.com/wp-content/uploads/2023/05/4F52A70F-0C64-448D-B4C0-93C03972B1FC-scaled.jpeg
END:VEVENT
BEGIN:VEVENT
DTSTART;TZID=America/Detroit:20230701T130000
DTEND;TZID=America/Detroit:20230701T160000
DTSTAMP:20260419T230414
CREATED:20230619T175816Z
LAST-MODIFIED:20230619T175816Z
UID:10004902-1688216400-1688227200@www.visitglenarbor.com
SUMMARY:Ice cream on the porch
DESCRIPTION:Book Sale + Make your own ice cream sundaes pm the porch at Glen Lake Manor July 1st from 1-4pm. Donation $5.
URL:https://www.visitglenarbor.com/event/ice-cream-on-the-porch/
LOCATION:Glen Lake Manor\, 7345 Glenmere Rd\, Empire\, MI\, United States
CATEGORIES:Food/Dining Event,Kids + Family Friendly,Local Business Event
ATTACH;FMTTYPE=image/jpeg:https://www.visitglenarbor.com/wp-content/uploads/2023/06/The-Manor-glen-lake.jpg
ORGANIZER;CN="Glen Lake Manor":MAILTO:theglenlakemanor@gmail.com
END:VEVENT
BEGIN:VEVENT
DTSTART;TZID=America/Detroit:20230701T170000
DTEND;TZID=America/Detroit:20230701T190000
DTSTAMP:20260419T230414
CREATED:20230630T013141Z
LAST-MODIFIED:20230630T013141Z
UID:10004010-1688230800-1688238000@www.visitglenarbor.com
SUMMARY:Live Music at the M22 Wine Patio with DJ Zeb
DESCRIPTION:DJ Zeb K is coming back to Glen Arbor with more groovy house music on the M22 Wine Patio! Enjoy some delicious local wines and soak up the sun while I provide the soundtrack!
URL:https://www.visitglenarbor.com/event/live-music-at-the-m22-wine-patio-with-dj-zeb/
LOCATION:M22 Outdoor Wine Patio\, 6298 W. Western Ave\, Glen Arbor\, MI\, 49636\, United States
CATEGORIES:Music
ATTACH;FMTTYPE=image/png:https://www.visitglenarbor.com/wp-content/uploads/2023/06/Screenshot-2023-06-27-at-10.31.58-PM.png
END:VEVENT
BEGIN:VEVENT
DTSTART;TZID=America/Detroit:20230701T190000
DTEND;TZID=America/Detroit:20230701T210000
DTSTAMP:20260419T230414
CREATED:20230508T161619Z
LAST-MODIFIED:20230508T161619Z
UID:10004842-1688238000-1688245200@www.visitglenarbor.com
SUMMARY:Rhett & John Live Music @ Glen Arbor Wines
DESCRIPTION:Relax and enjoy the tunes as Rhett belts out an eclectic lineup of acoustic pop.
URL:https://www.visitglenarbor.com/event/rhett-john-live-music-glen-arbor-wines/2023-07-01/
LOCATION:Glen Arbor Wines
CATEGORIES:Music
ATTACH;FMTTYPE=image/jpeg:https://www.visitglenarbor.com/wp-content/uploads/2023/05/rhettjohn.jpg
ORGANIZER;CN="Glen Arbor Wines":MAILTO:Glenarborwines@gmail.com
END:VEVENT
END:VCALENDAR